BEGIN:VCALENDAR
VERSION:2.0
PRODID:-//IBK - ECPv6.15.18//NONSGML v1.0//EN
CALSCALE:GREGORIAN
METHOD:PUBLISH
X-ORIGINAL-URL:https://www.ibk.be
X-WR-CALDESC:Évènements pour IBK
REFRESH-INTERVAL;VALUE=DURATION:PT1H
X-Robots-Tag:noindex
X-PUBLISHED-TTL:PT1H
BEGIN:VTIMEZONE
TZID:Europe/Brussels
BEGIN:DAYLIGHT
TZOFFSETFROM:+0100
TZOFFSETTO:+0200
TZNAME:CEST
DTSTART:20250330T010000
END:DAYLIGHT
BEGIN:STANDARD
TZOFFSETFROM:+0200
TZOFFSETTO:+0100
TZNAME:CET
DTSTART:20251026T010000
END:STANDARD
BEGIN:DAYLIGHT
TZOFFSETFROM:+0100
TZOFFSETTO:+0200
TZNAME:CEST
DTSTART:20260329T010000
END:DAYLIGHT
BEGIN:STANDARD
TZOFFSETFROM:+0200
TZOFFSETTO:+0100
TZNAME:CET
DTSTART:20261025T010000
END:STANDARD
BEGIN:DAYLIGHT
TZOFFSETFROM:+0100
TZOFFSETTO:+0200
TZNAME:CEST
DTSTART:20270328T010000
END:DAYLIGHT
BEGIN:STANDARD
TZOFFSETFROM:+0200
TZOFFSETTO:+0100
TZNAME:CET
DTSTART:20271031T010000
END:STANDARD
END:VTIMEZONE
BEGIN:VEVENT
DTSTART;TZID=Europe/Brussels:20260905T180000
DTEND;TZID=Europe/Brussels:20260905T233000
DTSTAMP:20260422T170635
CREATED:20260421T142330Z
LAST-MODIFIED:20260422T064755Z
UID:10002551-1788631200-1788651000@www.ibk.be
SUMMARY:Soirée anniversaire pour les 40 ans IBK
DESCRIPTION:Pour plus d’informations\, cliquez ici
URL:https://www.ibk.be/evenement/soiree-anniversaire-pour-les-40-ans-ibk/
LOCATION:Maison Rosiéroise\, rue du Bois du Bosquet 17\, Rosières\, 1331\, Belgique
CATEGORIES:Soirée anniversaire pour les 40 ans de l'IBK,40 ans de l'IBK
ATTACH;FMTTYPE=image/png:https://www.ibk.be/wp-content/uploads/2026/04/ChatGPT-Image-21-avr.-2026-16_37_16.png
ORGANIZER;CN="IBK asbl":MAILTO:ibk@ibk.be
END:VEVENT
END:VCALENDAR