BEGIN:VCALENDAR
VERSION:2.0
PRODID:-//IBK - ECPv6.15.18//NONSGML v1.0//EN
CALSCALE:GREGORIAN
METHOD:PUBLISH
X-WR-CALNAME:IBK
X-ORIGINAL-URL:https://www.ibk.be
X-WR-CALDESC:Évènements pour IBK
REFRESH-INTERVAL;VALUE=DURATION:PT1H
X-Robots-Tag:noindex
X-PUBLISHED-TTL:PT1H
BEGIN:VTIMEZONE
TZID:Europe/Brussels
BEGIN:DAYLIGHT
TZOFFSETFROM:+0100
TZOFFSETTO:+0200
TZNAME:CEST
DTSTART:20250330T010000
END:DAYLIGHT
BEGIN:STANDARD
TZOFFSETFROM:+0200
TZOFFSETTO:+0100
TZNAME:CET
DTSTART:20251026T010000
END:STANDARD
BEGIN:DAYLIGHT
TZOFFSETFROM:+0100
TZOFFSETTO:+0200
TZNAME:CEST
DTSTART:20260329T010000
END:DAYLIGHT
BEGIN:STANDARD
TZOFFSETFROM:+0200
TZOFFSETTO:+0100
TZNAME:CET
DTSTART:20261025T010000
END:STANDARD
BEGIN:DAYLIGHT
TZOFFSETFROM:+0100
TZOFFSETTO:+0200
TZNAME:CEST
DTSTART:20270328T010000
END:DAYLIGHT
BEGIN:STANDARD
TZOFFSETFROM:+0200
TZOFFSETTO:+0100
TZNAME:CET
DTSTART:20271031T010000
END:STANDARD
END:VTIMEZONE
BEGIN:VEVENT
DTSTART;TZID=Europe/Brussels:20260601T180000
DTEND;TZID=Europe/Brussels:20260601T200000
DTSTAMP:20260426T054644
CREATED:20210820T055157Z
LAST-MODIFIED:20260408T073446Z
UID:10002526-1780336800-1780344000@www.ibk.be
SUMMARY:Cartes Associatives - Soirée
DESCRIPTION:Venez découvrir comment stimuler votre créativité et votre inconscient par les cartes.\nDifférents ensembles de cartes seront présentés lors de la soirée.\n(Possibilité d’acheter des cartes le soir-même avec 10% de réduction)
URL:https://www.ibk.be/evenement/cartes-associatives-soiree/
LOCATION:IBK Rixensart\, avenue Paul Nicodème\, 26\, Rixensart\, 1330\, Belgique
CATEGORIES:40 ans de l'IBK,Cartes Associatives
ATTACH;FMTTYPE=image/png:https://www.ibk.be/wp-content/uploads/2021/08/ChatGPT-Image-24-fevr.-2026-14_13_59.png
END:VEVENT
BEGIN:VEVENT
DTSTART;TZID=Europe/Brussels:20260602T090000
DTEND;TZID=Europe/Brussels:20260602T170000
DTSTAMP:20260426T054644
CREATED:20210826T093904Z
LAST-MODIFIED:20250304T090815Z
UID:10002052-1780390800-1780419600@www.ibk.be
SUMMARY:Examens Finaux
DESCRIPTION:
URL:https://www.ibk.be/evenement/examens-finaux-2/
LOCATION:IBK Rixensart\, avenue Paul Nicodème\, 26\, Rixensart\, 1330\, Belgique
CATEGORIES:Examens Finaux/Mémoires
END:VEVENT
BEGIN:VEVENT
DTSTART;TZID=Europe/Brussels:20260603T090000
DTEND;TZID=Europe/Brussels:20260603T170000
DTSTAMP:20260426T054644
CREATED:20220719T103715Z
LAST-MODIFIED:20251125T135505Z
UID:10002099-1780477200-1780506000@www.ibk.be
SUMMARY:Relecture des études de cas (EFT)
DESCRIPTION:Le prix est de 100 EUR pour la relecture de 4 études de cas.
URL:https://www.ibk.be/evenement/relecture-des-etudes-de-cas-eft-2/
LOCATION:Online\, Belgique
CATEGORIES:Certification en EFT
ATTACH;FMTTYPE=image/jpeg:https://www.ibk.be/wp-content/uploads/2021/08/EFT.jpg
END:VEVENT
BEGIN:VEVENT
DTSTART;TZID=Europe/Brussels:20260604T093000
DTEND;TZID=Europe/Brussels:20260607T180000
DTSTAMP:20260426T054644
CREATED:20220110T082931Z
LAST-MODIFIED:20260206T092904Z
UID:10001745-1780565400-1780855200@www.ibk.be
SUMMARY:Core Kinesiology 4 - Spa
DESCRIPTION:
URL:https://www.ibk.be/evenement/core-kinesiology-4-cek-oyat/
LOCATION:Cek-oyat\, Rue neuve 40\, Herve\, 4650\, Belgique
CATEGORIES:Core Kinesiology 4
ATTACH;FMTTYPE=image/jpeg:https://www.ibk.be/wp-content/uploads/2022/01/CK.jpg
END:VEVENT
BEGIN:VEVENT
DTSTART;TZID=Europe/Brussels:20260608T093000
DTEND;TZID=Europe/Brussels:20260608T170000
DTSTAMP:20260426T054644
CREATED:20210824T080931Z
LAST-MODIFIED:20251125T144110Z
UID:10002080-1780911000-1780938000@www.ibk.be
SUMMARY:Pratique supervisée CE 1 - 2
DESCRIPTION:
URL:https://www.ibk.be/evenement/pratique-supervisee-ce-1-2-3/
LOCATION:IBK Rixensart\, avenue Paul Nicodème\, 26\, Rixensart\, 1330\, Belgique
CATEGORIES:Pratiques de base,Pratiques supervisées Corps Énergie
ATTACH;FMTTYPE=image/jpeg:https://www.ibk.be/wp-content/uploads/2021/07/efiimodjcdmhfdhc.jpg
END:VEVENT
BEGIN:VEVENT
DTSTART;TZID=Europe/Brussels:20260608T180000
DTEND;TZID=Europe/Brussels:20260608T203000
DTSTAMP:20260426T054644
CREATED:20210624T062557Z
LAST-MODIFIED:20251125T135435Z
UID:10002009-1780941600-1780950600@www.ibk.be
SUMMARY:Atelier Pratique d'EFT 2 - Online
DESCRIPTION:
URL:https://www.ibk.be/evenement/atelier-pratique-deft-2-online/
LOCATION:Online\, Belgique
CATEGORIES:Atelier Pratique d'EFT 2 - Online
ATTACH;FMTTYPE=image/jpeg:https://www.ibk.be/wp-content/uploads/2021/08/EFT.jpg
END:VEVENT
BEGIN:VEVENT
DTSTART;TZID=Europe/Brussels:20260609T093000
DTEND;TZID=Europe/Brussels:20260609T180000
DTSTAMP:20260426T054644
CREATED:20210602T111756Z
LAST-MODIFIED:20260223T081002Z
UID:10002018-1780997400-1781028000@www.ibk.be
SUMMARY:TFH Métaphores et Établissement de l’Objectif de semaine
DESCRIPTION:Ceci est une des 2 dates d’un même cours commençant le 9/06/2026 et se poursuivant le 16/06/2026. Merci de veiller à vous inscrire uniquement à la première date.
URL:https://www.ibk.be/evenement/tfh-metaphores-et-etablissement-de-lobjectif-de-semaine/2026-06-09/
LOCATION:IBK Rixensart\, avenue Paul Nicodème\, 26\, Rixensart\, 1330\, Belgique
CATEGORIES:TFH Métaphores et Etablissement de l'Objectif
ATTACH;FMTTYPE=image/jpeg:https://www.ibk.be/wp-content/uploads/2021/07/IMG_0852_bis.jpg
END:VEVENT
BEGIN:VEVENT
DTSTART;TZID=Europe/Brussels:20260610T093000
DTEND;TZID=Europe/Brussels:20260611T180000
DTSTAMP:20260426T054644
CREATED:20250304T112919Z
LAST-MODIFIED:20250630T085935Z
UID:10002054-1781083800-1781200800@www.ibk.be
SUMMARY:Le Sommeil avec Wayne Topping
DESCRIPTION:
URL:https://www.ibk.be/evenement/le-sommeil-avec-wayne-topping/
LOCATION:IBK Rixensart\, avenue Paul Nicodème\, 26\, Rixensart\, 1330\, Belgique
CATEGORIES:Wellness Kinesiology/Stress Release,Le sommeil avec Wayne Topping
ORGANIZER;CN="IBK asbl":MAILTO:ibk@ibk.be
END:VEVENT
BEGIN:VEVENT
DTSTART;TZID=Europe/Brussels:20260612T093000
DTEND;TZID=Europe/Brussels:20260612T180000
DTSTAMP:20260426T054644
CREATED:20220412T072823Z
LAST-MODIFIED:20260414T121902Z
UID:10002051-1781256600-1781287200@www.ibk.be
SUMMARY:Master Class - Niveau 1 avec Wayne Topping
DESCRIPTION:
URL:https://www.ibk.be/evenement/master-class-niveau-1-avec-wayne-topping/
LOCATION:IBK Rixensart\, avenue Paul Nicodème\, 26\, Rixensart\, 1330\, Belgique
CATEGORIES:Recyclage des instructeurs en Wellness Kinesiology,Master Class - niveau 1 (W. Topping)
ATTACH;FMTTYPE=image/jpeg:https://www.ibk.be/wp-content/uploads/2025/11/SR.jpg
END:VEVENT
BEGIN:VEVENT
DTSTART;TZID=Europe/Brussels:20260613T093000
DTEND;TZID=Europe/Brussels:20260615T180000
DTSTAMP:20260426T054644
CREATED:20200529T065129Z
LAST-MODIFIED:20251125T131019Z
UID:10001331-1781343000-1781546400@www.ibk.be
SUMMARY:Psychogénéalogie - Abandon - PG 5
DESCRIPTION:
URL:https://www.ibk.be/evenement/psychogenealogie-abandon-pg-5/
LOCATION:IBK Rixensart\, avenue Paul Nicodème\, 26\, Rixensart\, 1330\, Belgique
CATEGORIES:PG 5 - Abandon
ATTACH;FMTTYPE=image/jpeg:https://www.ibk.be/wp-content/uploads/2021/07/genealogy-5210251_1920.jpg
END:VEVENT
BEGIN:VEVENT
DTSTART;TZID=Europe/Brussels:20260615T173000
DTEND;TZID=Europe/Brussels:20260615T190000
DTSTAMP:20260426T054644
CREATED:20210824T082850Z
LAST-MODIFIED:20260324T123812Z
UID:10002024-1781544600-1781550000@www.ibk.be
SUMMARY:Supervision EFT 2 - Online
DESCRIPTION:
URL:https://www.ibk.be/evenement/supervision-eft-2-online-12/
LOCATION:Online\, Belgique
CATEGORIES:Supervision en EFT
ATTACH;FMTTYPE=image/jpeg:https://www.ibk.be/wp-content/uploads/2021/08/EFT.jpg
END:VEVENT
BEGIN:VEVENT
DTSTART;TZID=Europe/Brussels:20260616T093000
DTEND;TZID=Europe/Brussels:20260616T180000
DTSTAMP:20260426T054644
CREATED:20210602T111756Z
LAST-MODIFIED:20260223T081002Z
UID:10002019-1781602200-1781632800@www.ibk.be
SUMMARY:TFH Métaphores et Établissement de l’Objectif de semaine
DESCRIPTION:Ceci est une des 2 dates d’un même cours commençant le 9/06/2026 et se poursuivant le 16/06/2026. Merci de veiller à vous inscrire uniquement à la première date.
URL:https://www.ibk.be/evenement/tfh-metaphores-et-etablissement-de-lobjectif-de-semaine/2026-06-16/
LOCATION:IBK Rixensart\, avenue Paul Nicodème\, 26\, Rixensart\, 1330\, Belgique
CATEGORIES:TFH Métaphores et Etablissement de l'Objectif
ATTACH;FMTTYPE=image/jpeg:https://www.ibk.be/wp-content/uploads/2021/07/IMG_0852_bis.jpg
END:VEVENT
BEGIN:VEVENT
DTSTART;TZID=Europe/Brussels:20260616T093000
DTEND;TZID=Europe/Brussels:20260618T180000
DTSTAMP:20260426T054644
CREATED:20200529T065129Z
LAST-MODIFIED:20251125T130935Z
UID:10001338-1781602200-1781805600@www.ibk.be
SUMMARY:Psychogénéalogie - Abandon - PG 5 de Semaine
DESCRIPTION:
URL:https://www.ibk.be/evenement/psychogenealogie-abandon-pg-5-de-semaine/
LOCATION:IBK Rixensart\, avenue Paul Nicodème\, 26\, Rixensart\, 1330\, Belgique
CATEGORIES:PG 5 - Abandon
ATTACH;FMTTYPE=image/jpeg:https://www.ibk.be/wp-content/uploads/2021/07/genealogy-5210251_1920.jpg
END:VEVENT
BEGIN:VEVENT
DTSTART;TZID=Europe/Brussels:20260618T180000
DTEND;TZID=Europe/Brussels:20260618T213000
DTSTAMP:20260426T054644
CREATED:20210812T073418Z
LAST-MODIFIED:20260303T125727Z
UID:10002185-1781805600-1781818200@www.ibk.be
SUMMARY:Vision Perceptive
DESCRIPTION:
URL:https://www.ibk.be/evenement/vision-perceptive/
LOCATION:Bruxelles (1150) – Montgomery\, 11\, rue Georges et Jacques Martin\, Bruxelles\, 1150\, Belgique
CATEGORIES:Atelier à Bruxelles
ATTACH;FMTTYPE=image/jpeg:https://www.ibk.be/wp-content/uploads/2024/01/IMG_0295.jpeg
END:VEVENT
BEGIN:VEVENT
DTSTART;TZID=Europe/Brussels:20260619T183000
DTEND;TZID=Europe/Brussels:20260621T180000
DTSTAMP:20260426T054644
CREATED:20220110T085130Z
LAST-MODIFIED:20251125T132454Z
UID:10002020-1781893800-1782064800@www.ibk.be
SUMMARY:Stress Release 1
DESCRIPTION:Horaires du week-end : Vendredi de 18h30 à 21h30 – Samedi et Dimanche de 9h30 à 18h00
URL:https://www.ibk.be/evenement/stress-release-1-4/
LOCATION:IBK Rixensart\, avenue Paul Nicodème\, 26\, Rixensart\, 1330\, Belgique
CATEGORIES:Stress Release 1
ATTACH;FMTTYPE=image/jpeg:https://www.ibk.be/wp-content/uploads/2025/11/SR.jpg
END:VEVENT
BEGIN:VEVENT
DTSTART;TZID=Europe/Brussels:20260620T093000
DTEND;TZID=Europe/Brussels:20260621T180000
DTSTAMP:20260426T054644
CREATED:20220501T003020Z
LAST-MODIFIED:20260223T080849Z
UID:10002021-1781947800-1782064800@www.ibk.be
SUMMARY:TFH Métaphores
DESCRIPTION:
URL:https://www.ibk.be/evenement/tfh-metaphores-9/
LOCATION:IBK Rixensart\, avenue Paul Nicodème\, 26\, Rixensart\, 1330\, Belgique
CATEGORIES:TFH Métaphores et Etablissement de l'Objectif
ATTACH;FMTTYPE=image/jpeg:https://www.ibk.be/wp-content/uploads/2021/07/IMG_0852_bis.jpg
END:VEVENT
BEGIN:VEVENT
DTSTART;TZID=Europe/Brussels:20260622T103000
DTEND;TZID=Europe/Brussels:20260622T180000
DTSTAMP:20260426T054644
CREATED:20210824T081216Z
LAST-MODIFIED:20260225T085211Z
UID:10002528-1782124200-1782151200@www.ibk.be
SUMMARY:Pratique supervisée CK 1-3 + préparation à l'examen
DESCRIPTION:Veuillez prendre note que cette pratique commencera exceptionnellement à 10h30 et finira à 18h00.
URL:https://www.ibk.be/evenement/pratique-supervisee-ck-1-3-preparation-a-lexamen-4/
LOCATION:IBK Rixensart\, avenue Paul Nicodème\, 26\, Rixensart\, 1330\, Belgique
CATEGORIES:Pratiques de base,Pratiques supervisées Core Kinesiology
END:VEVENT
BEGIN:VEVENT
DTSTART;TZID=Europe/Brussels:20260623T180000
DTEND;TZID=Europe/Brussels:20260623T200000
DTSTAMP:20260426T054644
CREATED:20251209T094426Z
LAST-MODIFIED:20260224T130756Z
UID:10002525-1782237600-1782244800@www.ibk.be
SUMMARY:Conférence : Fermenter pour s'équilibrer
DESCRIPTION:Un atelier pratique de lactofermentation\, digestion\, et équilibre du corps. Un moment convivial et vivant pour découvrir les bases de la lactofermentation et ses bienfaits sur la digestion et le microbiote intestinal.
URL:https://www.ibk.be/evenement/conference-fermenter-pour-sequilibrer/
LOCATION:IBK Rixensart\, avenue Paul Nicodème\, 26\, Rixensart\, 1330\, Belgique
CATEGORIES:40 ans de l'IBK
ATTACH;FMTTYPE=image/jpeg:https://www.ibk.be/wp-content/uploads/2025/12/lactofermentation.jpg
ORGANIZER;CN="IBK asbl":MAILTO:ibk@ibk.be
END:VEVENT
BEGIN:VEVENT
DTSTART;TZID=Europe/Brussels:20260624T093000
DTEND;TZID=Europe/Brussels:20260626T180000
DTSTAMP:20260426T054644
CREATED:20220502T072824Z
LAST-MODIFIED:20251125T155522Z
UID:10002092-1782293400-1782496800@www.ibk.be
SUMMARY:SIPS 7
DESCRIPTION:[vc_row][vc_column][vc_column_text][/vc_column_text][/vc_column][/vc_row]
URL:https://www.ibk.be/evenement/sips-7/
LOCATION:IBK Rixensart\, avenue Paul Nicodème\, 26\, Rixensart\, 1330\, Belgique
CATEGORIES:SIPS 7
END:VEVENT
BEGIN:VEVENT
DTSTART;TZID=Europe/Brussels:20260627T093000
DTEND;TZID=Europe/Brussels:20260628T180000
DTSTAMP:20260426T054644
CREATED:20220110T084146Z
LAST-MODIFIED:20260420T084028Z
UID:10002022-1782552600-1782669600@www.ibk.be
SUMMARY:Touch for Health 1
DESCRIPTION:Horaires du week-end : Samedi et Dimanche de 9h30 à 18h00
URL:https://www.ibk.be/evenement/touch-for-health-1-5/
LOCATION:IBK Rixensart\, avenue Paul Nicodème\, 26\, Rixensart\, 1330\, Belgique
CATEGORIES:Touch for Health 1
ATTACH;FMTTYPE=image/jpeg:https://www.ibk.be/wp-content/uploads/2021/07/IMG_0852_bis.jpg
END:VEVENT
END:VCALENDAR