BEGIN:VCALENDAR
VERSION:2.0
PRODID:-//IBK - ECPv6.15.18//NONSGML v1.0//EN
CALSCALE:GREGORIAN
METHOD:PUBLISH
X-ORIGINAL-URL:https://www.ibk.be
X-WR-CALDESC:Évènements pour IBK
REFRESH-INTERVAL;VALUE=DURATION:PT1H
X-Robots-Tag:noindex
X-PUBLISHED-TTL:PT1H
BEGIN:VTIMEZONE
TZID:Europe/Brussels
BEGIN:DAYLIGHT
TZOFFSETFROM:+0100
TZOFFSETTO:+0200
TZNAME:CEST
DTSTART:20240331T010000
END:DAYLIGHT
BEGIN:STANDARD
TZOFFSETFROM:+0200
TZOFFSETTO:+0100
TZNAME:CET
DTSTART:20241027T010000
END:STANDARD
BEGIN:DAYLIGHT
TZOFFSETFROM:+0100
TZOFFSETTO:+0200
TZNAME:CEST
DTSTART:20250330T010000
END:DAYLIGHT
BEGIN:STANDARD
TZOFFSETFROM:+0200
TZOFFSETTO:+0100
TZNAME:CET
DTSTART:20251026T010000
END:STANDARD
BEGIN:DAYLIGHT
TZOFFSETFROM:+0100
TZOFFSETTO:+0200
TZNAME:CEST
DTSTART:20260329T010000
END:DAYLIGHT
BEGIN:STANDARD
TZOFFSETFROM:+0200
TZOFFSETTO:+0100
TZNAME:CET
DTSTART:20261025T010000
END:STANDARD
END:VTIMEZONE
BEGIN:VEVENT
DTSTART;TZID=Europe/Brussels:20251103T090000
DTEND;TZID=Europe/Brussels:20251105T180000
DTSTAMP:20260421T144521
CREATED:20210607T075302Z
LAST-MODIFIED:20250605T083422Z
UID:10001317-1762160400-1762365600@www.ibk.be
SUMMARY:SIPS 6 à Genève
DESCRIPTION:[vc_row][vc_column][vc_column_text] \n\n\n\n\nCentre de Vernier\n\n\n\n\n\n1 chemin de Mouille-Galand\n1214 Vernier (Genève\, Suisse)\n1er étage proche de l’aéroport \n\n\n\nAccès en transport public: TPG 6\, 19\, 53\, 73 Arrêt Vernier-Village \n\n\n[/vc_column_text][/vc_column][/vc_row]
URL:https://www.ibk.be/evenement/sips-6-en-suisse/
LOCATION:Centre Equilibre Formation à Vernier\, 1 chemin de Mouille-Galand\, Vernier (Genève\, Suisse)\, 1214\, Suisse
CATEGORIES:SIPS 6
END:VEVENT
BEGIN:VEVENT
DTSTART;TZID=Europe/Brussels:20251103T093000
DTEND;TZID=Europe/Brussels:20251103T154500
DTSTAMP:20260421T144521
CREATED:20210126T062329Z
LAST-MODIFIED:20250407T092900Z
UID:10001435-1762162200-1762184700@www.ibk.be
SUMMARY:Touch for Health 2 de semaine
DESCRIPTION:[vc_row][vc_column][vc_column_text css= » »]Ceci est une des 3 dates d’un même cours commençant le 13/10/2025 et se poursuivant les 03/11/2025 et 10/11/2025. Merci de veiller à vous inscrire uniquement à la première date. \n\n[/vc_column_text][/vc_column][/vc_row][vc_row][vc_column][vc_column_text] \n\n[/vc_column_text][/vc_column][/vc_row]
URL:https://www.ibk.be/evenement/touch-for-health-2-de-semaine-2/2025-11-03/
LOCATION:IBK Rixensart\, avenue Paul Nicodème\, 26\, Rixensart\, 1330\, Belgique
CATEGORIES:Touch for Health 2
END:VEVENT
BEGIN:VEVENT
DTSTART;TZID=Europe/Brussels:20251104T093000
DTEND;TZID=Europe/Brussels:20251104T173000
DTSTAMP:20260421T144521
CREATED:20210126T062753Z
LAST-MODIFIED:20251125T131224Z
UID:10001257-1762248600-1762277400@www.ibk.be
SUMMARY:Stress Release 2 de semaine
DESCRIPTION:Ceci est une des 2 dates d’un même cours commençant le 04/11/25 et se poursuivant le 18/11/25. L’horaire de cours est de 9h30 à 17h30 pour les 2 journées.\nMerci de veiller à vous inscrire uniquement à la première date.
URL:https://www.ibk.be/evenement/stress-release-2-de-semaine/2025-11-04/
LOCATION:IBK Rixensart\, avenue Paul Nicodème\, 26\, Rixensart\, 1330\, Belgique
CATEGORIES:Stress Release 2
ATTACH;FMTTYPE=image/jpeg:https://www.ibk.be/wp-content/uploads/2025/11/SR.jpg
END:VEVENT
BEGIN:VEVENT
DTSTART;TZID=Europe/Brussels:20251106T093000
DTEND;TZID=Europe/Brussels:20251106T170000
DTSTAMP:20260421T144521
CREATED:20210824T081216Z
LAST-MODIFIED:20251125T133030Z
UID:10001679-1762421400-1762448400@www.ibk.be
SUMMARY:Pratique supervisée CK 1-2 à Genève
DESCRIPTION:[vc_row][vc_column][vc_column_text][/vc_column_text][/vc_column][/vc_row]
URL:https://www.ibk.be/evenement/pratique-supervisee-ck-1-2/
LOCATION:Genève
CATEGORIES:Pratiques de base,Pratiques supervisées Core Kinesiology
END:VEVENT
BEGIN:VEVENT
DTSTART;TZID=Europe/Brussels:20251106T140000
DTEND;TZID=Europe/Brussels:20251106T183000
DTSTAMP:20260421T144521
CREATED:20210702T101018Z
LAST-MODIFIED:20251125T154008Z
UID:10001582-1762437600-1762453800@www.ibk.be
SUMMARY:Anatomie Système Musculo-Squelettique
DESCRIPTION:Ceci est une des 12 dates d’un même cours commençant le 2/10/2025 et se poursuivant les 16/10\, 6/11\, 13/11\, 27/11\, 11/12/2025 et les 8/01\, 5/02\, 5/03\, 26/03\, 23/04\, et 21/05/2026. Merci de veiller à vous inscrire uniquement à la première date.
URL:https://www.ibk.be/evenement/anatomie-systeme-musculo-squelettique/2025-11-06/
LOCATION:IBK Rixensart\, avenue Paul Nicodème\, 26\, Rixensart\, 1330\, Belgique
CATEGORIES:Système Musculo-Squelettique
ATTACH;FMTTYPE=image/jpeg:https://www.ibk.be/wp-content/uploads/2024/02/Illustration-Anatomie-SMS-2b-scaled.jpg
END:VEVENT
BEGIN:VEVENT
DTSTART;TZID=Europe/Brussels:20251108T093000
DTEND;TZID=Europe/Brussels:20251109T180000
DTSTAMP:20260421T144521
CREATED:20220110T095844Z
LAST-MODIFIED:20251125T140539Z
UID:10001528-1762594200-1762711200@www.ibk.be
SUMMARY:Core Kinesiology 2
DESCRIPTION:[vc_row][vc_column][vc_column_text css= » »]Horaires du week-end : Samedi et Dimanche de 9h30 à 18h00[/vc_column_text][/vc_column][/vc_row][vc_row][vc_column][vc_column_text] \n\n[/vc_column_text][/vc_column][/vc_row]
URL:https://www.ibk.be/evenement/core-kinesiology-2-2/
LOCATION:IBK Rixensart\, avenue Paul Nicodème\, 26\, Rixensart\, 1330\, Belgique
CATEGORIES:Core Kinesiology 2
END:VEVENT
BEGIN:VEVENT
DTSTART;TZID=Europe/Brussels:20251108T093000
DTEND;TZID=Europe/Brussels:20251111T093000
DTSTAMP:20260421T144521
CREATED:20220110T103605Z
LAST-MODIFIED:20251120T104035Z
UID:10001816-1762594200-1762853400@www.ibk.be
SUMMARY:Corps Énergie 3
DESCRIPTION:
URL:https://www.ibk.be/evenement/corps-energie-3/
LOCATION:IBK Rixensart\, avenue Paul Nicodème\, 26\, Rixensart\, 1330\, Belgique
CATEGORIES:Corps Énergie 3
END:VEVENT
BEGIN:VEVENT
DTSTART;TZID=Europe/Brussels:20251110T093000
DTEND;TZID=Europe/Brussels:20251110T154500
DTSTAMP:20260421T144521
CREATED:20210126T062329Z
LAST-MODIFIED:20250407T092900Z
UID:10001436-1762767000-1762789500@www.ibk.be
SUMMARY:Touch for Health 2 de semaine
DESCRIPTION:[vc_row][vc_column][vc_column_text css= » »]Ceci est une des 3 dates d’un même cours commençant le 13/10/2025 et se poursuivant les 03/11/2025 et 10/11/2025. Merci de veiller à vous inscrire uniquement à la première date. \n\n[/vc_column_text][/vc_column][/vc_row][vc_row][vc_column][vc_column_text] \n\n[/vc_column_text][/vc_column][/vc_row]
URL:https://www.ibk.be/evenement/touch-for-health-2-de-semaine-2/2025-11-10/
LOCATION:IBK Rixensart\, avenue Paul Nicodème\, 26\, Rixensart\, 1330\, Belgique
CATEGORIES:Touch for Health 2
END:VEVENT
BEGIN:VEVENT
DTSTART;TZID=Europe/Brussels:20251110T180000
DTEND;TZID=Europe/Brussels:20251110T200000
DTSTAMP:20260421T144521
CREATED:20220411T095335Z
LAST-MODIFIED:20251125T135144Z
UID:10001612-1762797600-1762804800@www.ibk.be
SUMMARY:EFT pour les Enfants - Online
DESCRIPTION:
URL:https://www.ibk.be/evenement/eft-pour-les-enfants-online-5/
LOCATION:Online\, Belgique
CATEGORIES:EFT pour les Enfants - Online
END:VEVENT
BEGIN:VEVENT
DTSTART;TZID=Europe/Brussels:20251112T093000
DTEND;TZID=Europe/Brussels:20251112T170000
DTSTAMP:20260421T144521
CREATED:20210824T070055Z
LAST-MODIFIED:20251125T140252Z
UID:10002065-1762939800-1762966800@www.ibk.be
SUMMARY:Pratique supervisée TFH 1-2
DESCRIPTION:
URL:https://www.ibk.be/evenement/pratique-supervisee-tfh-1-2-3/
LOCATION:IBK Rixensart\, avenue Paul Nicodème\, 26\, Rixensart\, 1330\, Belgique
CATEGORIES:Pratiques de base,Pratiques supervisées TFH
END:VEVENT
BEGIN:VEVENT
DTSTART;TZID=Europe/Brussels:20251113T093000
DTEND;TZID=Europe/Brussels:20251113T170000
DTSTAMP:20260421T144522
CREATED:20200530T142819Z
LAST-MODIFIED:20260311T105521Z
UID:10001213-1763026200-1763053200@www.ibk.be
SUMMARY:Analyse Transactionnelle - Approfondissement
DESCRIPTION:Ceci est une des 11 dates d’un même cours commençant le 18/09/2025 et se poursuivant\, en 2025\, les 2/10\, 13/11\, 27/11 et 11/12 et en 2026\, 22/01\, 5/02\, 12/03\, 9/04\, 23/04 et le 21/05. Merci de veiller à vous inscrire uniquement à la première date.
URL:https://www.ibk.be/evenement/analyse-transactionnelle-approfondissement/2025-11-13/
LOCATION:IBK Rixensart\, avenue Paul Nicodème\, 26\, Rixensart\, 1330\, Belgique
CATEGORIES:AT - Approfondissement - deuxième et troisième années
ATTACH;FMTTYPE=image/jpeg:https://www.ibk.be/wp-content/uploads/2023/10/PAE.jpg
END:VEVENT
BEGIN:VEVENT
DTSTART;TZID=Europe/Brussels:20251113T140000
DTEND;TZID=Europe/Brussels:20251113T183000
DTSTAMP:20260421T144522
CREATED:20210702T101018Z
LAST-MODIFIED:20251125T154008Z
UID:10001583-1763042400-1763058600@www.ibk.be
SUMMARY:Anatomie Système Musculo-Squelettique
DESCRIPTION:Ceci est une des 12 dates d’un même cours commençant le 2/10/2025 et se poursuivant les 16/10\, 6/11\, 13/11\, 27/11\, 11/12/2025 et les 8/01\, 5/02\, 5/03\, 26/03\, 23/04\, et 21/05/2026. Merci de veiller à vous inscrire uniquement à la première date.
URL:https://www.ibk.be/evenement/anatomie-systeme-musculo-squelettique/2025-11-13/
LOCATION:IBK Rixensart\, avenue Paul Nicodème\, 26\, Rixensart\, 1330\, Belgique
CATEGORIES:Système Musculo-Squelettique
ATTACH;FMTTYPE=image/jpeg:https://www.ibk.be/wp-content/uploads/2024/02/Illustration-Anatomie-SMS-2b-scaled.jpg
END:VEVENT
BEGIN:VEVENT
DTSTART;TZID=Europe/Brussels:20251114T093000
DTEND;TZID=Europe/Brussels:20251116T180000
DTSTAMP:20260421T144522
CREATED:20220501T002600Z
LAST-MODIFIED:20251125T155522Z
UID:10001854-1763112600-1763316000@www.ibk.be
SUMMARY:SIPS 1
DESCRIPTION:[vc_row][vc_column][vc_column_text][/vc_column_text][/vc_column][/vc_row]
URL:https://www.ibk.be/evenement/sips-1/
LOCATION:IBK Rixensart\, avenue Paul Nicodème\, 26\, Rixensart\, 1330\, Belgique
CATEGORIES:SIPS 1
END:VEVENT
BEGIN:VEVENT
DTSTART;TZID=Europe/Brussels:20251117T093000
DTEND;TZID=Europe/Brussels:20251117T154500
DTSTAMP:20260421T144522
CREATED:20220501T093619Z
LAST-MODIFIED:20251125T125933Z
UID:10001879-1763371800-1763394300@www.ibk.be
SUMMARY:Touch for Health 3 de semaine
DESCRIPTION:Ceci est une des 3 dates d’un même cours commençant le 17/11/2025 et se poursuivant les 24/11/2025 et 1/12/2025. Merci de veiller à vous inscrire uniquement à la première date.
URL:https://www.ibk.be/evenement/touch-for-health-3-de-semaine/2025-11-17/
LOCATION:IBK Rixensart\, avenue Paul Nicodème\, 26\, Rixensart\, 1330\, Belgique
CATEGORIES:Touch for Health 3
ATTACH;FMTTYPE=image/jpeg:https://www.ibk.be/wp-content/uploads/2021/07/IMG_0852_bis.jpg
END:VEVENT
BEGIN:VEVENT
DTSTART;TZID=Europe/Brussels:20251117T170000
DTEND;TZID=Europe/Brussels:20251117T190000
DTSTAMP:20260421T144522
CREATED:20210824T082850Z
LAST-MODIFIED:20251125T135144Z
UID:10001437-1763398800-1763406000@www.ibk.be
SUMMARY:Supervision EFT 2 - Online
DESCRIPTION:[vc_row][vc_column][vc_column_text][/vc_column_text][/vc_column][/vc_row]
URL:https://www.ibk.be/evenement/supervision-eft-2-online-2/
LOCATION:Online\, Belgique
CATEGORIES:Supervision en EFT
END:VEVENT
BEGIN:VEVENT
DTSTART;TZID=Europe/Brussels:20251118T093000
DTEND;TZID=Europe/Brussels:20251118T173000
DTSTAMP:20260421T144522
CREATED:20210126T062753Z
LAST-MODIFIED:20251125T131224Z
UID:10001258-1763458200-1763487000@www.ibk.be
SUMMARY:Stress Release 2 de semaine
DESCRIPTION:Ceci est une des 2 dates d’un même cours commençant le 04/11/25 et se poursuivant le 18/11/25. L’horaire de cours est de 9h30 à 17h30 pour les 2 journées.\nMerci de veiller à vous inscrire uniquement à la première date.
URL:https://www.ibk.be/evenement/stress-release-2-de-semaine/2025-11-18/
LOCATION:IBK Rixensart\, avenue Paul Nicodème\, 26\, Rixensart\, 1330\, Belgique
CATEGORIES:Stress Release 2
ATTACH;FMTTYPE=image/jpeg:https://www.ibk.be/wp-content/uploads/2025/11/SR.jpg
END:VEVENT
BEGIN:VEVENT
DTSTART;TZID=Europe/Brussels:20251120T093000
DTEND;TZID=Europe/Brussels:20251121T180000
DTSTAMP:20260421T144522
CREATED:20200529T065129Z
LAST-MODIFIED:20251120T103917Z
UID:10001332-1763631000-1763748000@www.ibk.be
SUMMARY:Psychogénéalogie - Problématiques de deuil - PG 4 de semaine
DESCRIPTION:
URL:https://www.ibk.be/evenement/psychogenealogie-problematiques-de-deuil-pg-4-3/
LOCATION:IBK Rixensart\, avenue Paul Nicodème\, 26\, Rixensart\, 1330\, Belgique
CATEGORIES:PG 4 - Problématiques de deuil
END:VEVENT
BEGIN:VEVENT
DTSTART;TZID=Europe/Brussels:20251121T183000
DTEND;TZID=Europe/Brussels:20251123T180000
DTSTAMP:20260421T144522
CREATED:20220110T094618Z
LAST-MODIFIED:20251125T143726Z
UID:10001780-1763749800-1763920800@www.ibk.be
SUMMARY:Corps Énergie 1
DESCRIPTION:Horaires du week-end : Vendredi de 18h30 à 21h30 – Samedi et Dimanche de 9h30 à 18h00
URL:https://www.ibk.be/evenement/corps-energie-1/
LOCATION:IBK Rixensart\, avenue Paul Nicodème\, 26\, Rixensart\, 1330\, Belgique
CATEGORIES:Corps Énergie 1
ATTACH;FMTTYPE=image/jpeg:https://www.ibk.be/wp-content/uploads/2021/07/efiimodjcdmhfdhc.jpg
END:VEVENT
BEGIN:VEVENT
DTSTART;TZID=Europe/Brussels:20251122T093000
DTEND;TZID=Europe/Brussels:20251124T180000
DTSTAMP:20260421T144522
CREATED:20200529T065129Z
LAST-MODIFIED:20251120T103917Z
UID:10001328-1763803800-1764007200@www.ibk.be
SUMMARY:Psychogénéalogie - Problématiques de deuil - PG 4
DESCRIPTION:
URL:https://www.ibk.be/evenement/psychogenealogie-problematiques-de-deuil-pg-4-2/
LOCATION:IBK Rixensart\, avenue Paul Nicodème\, 26\, Rixensart\, 1330\, Belgique
CATEGORIES:PG 4 - Problématiques de deuil
END:VEVENT
BEGIN:VEVENT
DTSTART;TZID=Europe/Brussels:20251124T093000
DTEND;TZID=Europe/Brussels:20251124T154500
DTSTAMP:20260421T144522
CREATED:20220501T093619Z
LAST-MODIFIED:20251125T125933Z
UID:10001880-1763976600-1763999100@www.ibk.be
SUMMARY:Touch for Health 3 de semaine
DESCRIPTION:Ceci est une des 3 dates d’un même cours commençant le 17/11/2025 et se poursuivant les 24/11/2025 et 1/12/2025. Merci de veiller à vous inscrire uniquement à la première date.
URL:https://www.ibk.be/evenement/touch-for-health-3-de-semaine/2025-11-24/
LOCATION:IBK Rixensart\, avenue Paul Nicodème\, 26\, Rixensart\, 1330\, Belgique
CATEGORIES:Touch for Health 3
ATTACH;FMTTYPE=image/jpeg:https://www.ibk.be/wp-content/uploads/2021/07/IMG_0852_bis.jpg
END:VEVENT
BEGIN:VEVENT
DTSTART;TZID=Europe/Brussels:20251124T180000
DTEND;TZID=Europe/Brussels:20251124T200000
DTSTAMP:20260421T144522
CREATED:20210624T062557Z
LAST-MODIFIED:20251125T135144Z
UID:10001563-1764007200-1764014400@www.ibk.be
SUMMARY:Atelier Pratique d'EFT 2 - Online
DESCRIPTION:
URL:https://www.ibk.be/evenement/atelier-pratique-deft-2-online-6/
LOCATION:Online\, Belgique
CATEGORIES:Atelier Pratique d'EFT 2 - Online
END:VEVENT
BEGIN:VEVENT
DTSTART;TZID=Europe/Brussels:20251126T183000
DTEND;TZID=Europe/Brussels:20251126T203000
DTSTAMP:20260421T144522
CREATED:20220317T104631Z
LAST-MODIFIED:20251125T134225Z
UID:10002112-1764181800-1764189000@www.ibk.be
SUMMARY:PTT - Séance de groupe - Online
DESCRIPTION:
URL:https://www.ibk.be/evenement/ptt-seance-de-groupe-online/
LOCATION:Online\, Belgique
CATEGORIES:PTT de base,Picture Tapping Technique (PTT)
ATTACH;FMTTYPE=image/jpeg:https://www.ibk.be/wp-content/uploads/2022/03/PTT.jpg
END:VEVENT
BEGIN:VEVENT
DTSTART;TZID=Europe/Brussels:20251127T093000
DTEND;TZID=Europe/Brussels:20251127T170000
DTSTAMP:20260421T144522
CREATED:20200530T142819Z
LAST-MODIFIED:20260311T105521Z
UID:10001214-1764235800-1764262800@www.ibk.be
SUMMARY:Analyse Transactionnelle - Approfondissement
DESCRIPTION:Ceci est une des 11 dates d’un même cours commençant le 18/09/2025 et se poursuivant\, en 2025\, les 2/10\, 13/11\, 27/11 et 11/12 et en 2026\, 22/01\, 5/02\, 12/03\, 9/04\, 23/04 et le 21/05. Merci de veiller à vous inscrire uniquement à la première date.
URL:https://www.ibk.be/evenement/analyse-transactionnelle-approfondissement/2025-11-27/
LOCATION:IBK Rixensart\, avenue Paul Nicodème\, 26\, Rixensart\, 1330\, Belgique
CATEGORIES:AT - Approfondissement - deuxième et troisième années
ATTACH;FMTTYPE=image/jpeg:https://www.ibk.be/wp-content/uploads/2023/10/PAE.jpg
END:VEVENT
BEGIN:VEVENT
DTSTART;TZID=Europe/Brussels:20251127T140000
DTEND;TZID=Europe/Brussels:20251127T183000
DTSTAMP:20260421T144522
CREATED:20210702T101018Z
LAST-MODIFIED:20251125T154008Z
UID:10001584-1764252000-1764268200@www.ibk.be
SUMMARY:Anatomie Système Musculo-Squelettique
DESCRIPTION:Ceci est une des 12 dates d’un même cours commençant le 2/10/2025 et se poursuivant les 16/10\, 6/11\, 13/11\, 27/11\, 11/12/2025 et les 8/01\, 5/02\, 5/03\, 26/03\, 23/04\, et 21/05/2026. Merci de veiller à vous inscrire uniquement à la première date.
URL:https://www.ibk.be/evenement/anatomie-systeme-musculo-squelettique/2025-11-27/
LOCATION:IBK Rixensart\, avenue Paul Nicodème\, 26\, Rixensart\, 1330\, Belgique
CATEGORIES:Système Musculo-Squelettique
ATTACH;FMTTYPE=image/jpeg:https://www.ibk.be/wp-content/uploads/2024/02/Illustration-Anatomie-SMS-2b-scaled.jpg
END:VEVENT
BEGIN:VEVENT
DTSTART;TZID=Europe/Brussels:20251129T093000
DTEND;TZID=Europe/Brussels:20251130T180000
DTSTAMP:20260421T144522
CREATED:20220110T100344Z
LAST-MODIFIED:20251125T131335Z
UID:10001787-1764408600-1764525600@www.ibk.be
SUMMARY:Stress Release 2
DESCRIPTION:
URL:https://www.ibk.be/evenement/stress-release-2/
LOCATION:IBK Rixensart\, avenue Paul Nicodème\, 26\, Rixensart\, 1330\, Belgique
CATEGORIES:Stress Release 2
ATTACH;FMTTYPE=image/jpeg:https://www.ibk.be/wp-content/uploads/2025/11/SR.jpg
END:VEVENT
END:VCALENDAR