BEGIN:VCALENDAR
VERSION:2.0
PRODID:-//IBK - ECPv6.15.18//NONSGML v1.0//EN
CALSCALE:GREGORIAN
METHOD:PUBLISH
X-ORIGINAL-URL:https://www.ibk.be
X-WR-CALDESC:Évènements pour IBK
REFRESH-INTERVAL;VALUE=DURATION:PT1H
X-Robots-Tag:noindex
X-PUBLISHED-TTL:PT1H
BEGIN:VTIMEZONE
TZID:Europe/Brussels
BEGIN:DAYLIGHT
TZOFFSETFROM:+0100
TZOFFSETTO:+0200
TZNAME:CEST
DTSTART:20240331T010000
END:DAYLIGHT
BEGIN:STANDARD
TZOFFSETFROM:+0200
TZOFFSETTO:+0100
TZNAME:CET
DTSTART:20241027T010000
END:STANDARD
BEGIN:DAYLIGHT
TZOFFSETFROM:+0100
TZOFFSETTO:+0200
TZNAME:CEST
DTSTART:20250330T010000
END:DAYLIGHT
BEGIN:STANDARD
TZOFFSETFROM:+0200
TZOFFSETTO:+0100
TZNAME:CET
DTSTART:20251026T010000
END:STANDARD
BEGIN:DAYLIGHT
TZOFFSETFROM:+0100
TZOFFSETTO:+0200
TZNAME:CEST
DTSTART:20260329T010000
END:DAYLIGHT
BEGIN:STANDARD
TZOFFSETFROM:+0200
TZOFFSETTO:+0100
TZNAME:CET
DTSTART:20261025T010000
END:STANDARD
END:VTIMEZONE
BEGIN:VEVENT
DTSTART;TZID=Europe/Brussels:20251002T093000
DTEND;TZID=Europe/Brussels:20251002T170000
DTSTAMP:20260421T143308
CREATED:20200530T142819Z
LAST-MODIFIED:20260311T105521Z
UID:10001212-1759397400-1759424400@www.ibk.be
SUMMARY:Analyse Transactionnelle - Approfondissement
DESCRIPTION:Ceci est une des 11 dates d’un même cours commençant le 18/09/2025 et se poursuivant\, en 2025\, les 2/10\, 13/11\, 27/11 et 11/12 et en 2026\, 22/01\, 5/02\, 12/03\, 9/04\, 23/04 et le 21/05. Merci de veiller à vous inscrire uniquement à la première date.
URL:https://www.ibk.be/evenement/analyse-transactionnelle-approfondissement/2025-10-02/
LOCATION:IBK Rixensart\, avenue Paul Nicodème\, 26\, Rixensart\, 1330\, Belgique
CATEGORIES:AT - Approfondissement - deuxième et troisième années
ATTACH;FMTTYPE=image/jpeg:https://www.ibk.be/wp-content/uploads/2023/10/PAE.jpg
END:VEVENT
BEGIN:VEVENT
DTSTART;TZID=Europe/Brussels:20251002T140000
DTEND;TZID=Europe/Brussels:20251002T183000
DTSTAMP:20260421T143308
CREATED:20210702T101018Z
LAST-MODIFIED:20251125T154008Z
UID:10001580-1759413600-1759429800@www.ibk.be
SUMMARY:Anatomie Système Musculo-Squelettique
DESCRIPTION:Ceci est une des 12 dates d’un même cours commençant le 2/10/2025 et se poursuivant les 16/10\, 6/11\, 13/11\, 27/11\, 11/12/2025 et les 8/01\, 5/02\, 5/03\, 26/03\, 23/04\, et 21/05/2026. Merci de veiller à vous inscrire uniquement à la première date.
URL:https://www.ibk.be/evenement/anatomie-systeme-musculo-squelettique/2025-10-02/
LOCATION:IBK Rixensart\, avenue Paul Nicodème\, 26\, Rixensart\, 1330\, Belgique
CATEGORIES:Système Musculo-Squelettique
ATTACH;FMTTYPE=image/jpeg:https://www.ibk.be/wp-content/uploads/2024/02/Illustration-Anatomie-SMS-2b-scaled.jpg
END:VEVENT
BEGIN:VEVENT
DTSTART;TZID=Europe/Brussels:20251004T093000
DTEND;TZID=Europe/Brussels:20251005T180000
DTSTAMP:20260421T143308
CREATED:20220110T085130Z
LAST-MODIFIED:20251125T131137Z
UID:10001512-1759570200-1759687200@www.ibk.be
SUMMARY:Stress Release 1
DESCRIPTION:Horaires du week-end :  Samedi et Dimanche de 9h30 à 18h00
URL:https://www.ibk.be/evenement/stress-release-1/
LOCATION:IBK Rixensart\, avenue Paul Nicodème\, 26\, Rixensart\, 1330\, Belgique
CATEGORIES:Stress Release 1
ATTACH;FMTTYPE=image/jpeg:https://www.ibk.be/wp-content/uploads/2025/11/SR.jpg
END:VEVENT
BEGIN:VEVENT
DTSTART;TZID=Europe/Brussels:20251006T093000
DTEND;TZID=Europe/Brussels:20251006T154500
DTSTAMP:20260421T143308
CREATED:20210126T062329Z
LAST-MODIFIED:20250910T063523Z
UID:10002103-1759743000-1759765500@www.ibk.be
SUMMARY:Touch for Health 1 de semaine
DESCRIPTION:[vc_row][vc_column][vc_column_text css= » »]Ceci est une des 3 dates d’un même cours commençant le 22/09/2025 et se poursuivant les 29/09/2025 et 06/10/2025. Merci de veiller à vous inscrire uniquement à la première date.[/vc_column_text][/vc_column][/vc_row]
URL:https://www.ibk.be/evenement/touch-for-health-1-de-semaine-3/2025-10-06/
LOCATION:IBK Rixensart\, avenue Paul Nicodème\, 26\, Rixensart\, 1330\, Belgique
CATEGORIES:Touch for Health 1
END:VEVENT
BEGIN:VEVENT
DTSTART;TZID=Europe/Brussels:20251007T093000
DTEND;TZID=Europe/Brussels:20251007T154500
DTSTAMP:20260421T143308
CREATED:20210126T062753Z
LAST-MODIFIED:20251125T131103Z
UID:10001254-1759829400-1759851900@www.ibk.be
SUMMARY:Stress Release 1 de semaine
DESCRIPTION:Ceci est une des 3 dates d’un même cours commençant le 30/09/2025 et se poursuivant les 07/10/25 et 14/10/25. Merci de veiller à vous inscrire uniquement à la première date.
URL:https://www.ibk.be/evenement/stress-release-1-de-semaine-2/2025-10-07/
LOCATION:IBK Rixensart\, avenue Paul Nicodème\, 26\, Rixensart\, 1330\, Belgique
CATEGORIES:Stress Release 1
ATTACH;FMTTYPE=image/jpeg:https://www.ibk.be/wp-content/uploads/2025/11/SR.jpg
END:VEVENT
BEGIN:VEVENT
DTSTART;TZID=Europe/Brussels:20251008T093000
DTEND;TZID=Europe/Brussels:20251010T170000
DTSTAMP:20260421T143308
CREATED:20200525T065451Z
LAST-MODIFIED:20251120T104613Z
UID:10001303-1759915800-1760115600@www.ibk.be
SUMMARY:Analyse Transactionnelle - Cours 101
DESCRIPTION:
URL:https://www.ibk.be/evenement/analyse-transactionnelle-cours-101-4/
LOCATION:IBK Rixensart\, avenue Paul Nicodème\, 26\, Rixensart\, 1330\, Belgique
CATEGORIES:AT - Introduction - cours 101
END:VEVENT
BEGIN:VEVENT
DTSTART;TZID=Europe/Brussels:20251008T180000
DTEND;TZID=Europe/Brussels:20251008T203000
DTSTAMP:20260421T143308
CREATED:20220317T104631Z
LAST-MODIFIED:20251125T125824Z
UID:10001836-1759946400-1759955400@www.ibk.be
SUMMARY:PTT de base - Online
DESCRIPTION:Ceci est une des 4 dates d’un même cours commençant le 10/09/2025 et se poursuivant les 17/09\, 08/10 et 15/10/2025 (de 18h00 à 20h30). Merci de veiller à vous inscrire uniquement à la première date. \n 
URL:https://www.ibk.be/evenement/ptt-de-base-online-3/2025-10-08/
LOCATION:Online\, Belgique
CATEGORIES:PTT de base,Picture Tapping Technique (PTT)
ATTACH;FMTTYPE=image/jpeg:https://www.ibk.be/wp-content/uploads/2022/03/PTT.jpg
END:VEVENT
BEGIN:VEVENT
DTSTART;TZID=Europe/Brussels:20251008T180000
DTEND;TZID=Europe/Brussels:20251008T203000
DTSTAMP:20260421T143308
CREATED:20220317T104631Z
LAST-MODIFIED:20251125T125915Z
UID:10002120-1759946400-1759955400@www.ibk.be
SUMMARY:PTT de base - Online
DESCRIPTION:Ceci est une des 4 dates d’un même cours commençant le 10/09/2025 et se poursuivant les 17/09\, 08/10 et 15/10/2025 (de 18h00 à 20h30). Merci de veiller à vous inscrire uniquement à la première date. \n 
URL:https://www.ibk.be/evenement/ptt-de-base-online/2025-10-08/
LOCATION:Online\, Belgique
CATEGORIES:PTT de base,Picture Tapping Technique (PTT)
ATTACH;FMTTYPE=image/jpeg:https://www.ibk.be/wp-content/uploads/2022/03/PTT.jpg
END:VEVENT
BEGIN:VEVENT
DTSTART;TZID=Europe/Brussels:20251008T180000
DTEND;TZID=Europe/Brussels:20251008T203000
DTSTAMP:20260421T143308
CREATED:20220501T003453Z
LAST-MODIFIED:20251125T125732Z
UID:10002089-1759946400-1759955400@www.ibk.be
SUMMARY:Pack Art-thérapeute
DESCRIPTION:Ce pack comprend : \n– Cours EFT 1 en visio du 9 au 10/07/2025 \n– Cours de PTT en visio dont les dates sont les suivantes :  10/09\, 17/09\, 08/10 et 15/10/2025 (de 18h00 à 20h30) \n  \n  \n[vc_row][vc_column][vc_column_text][/vc_column_text][/vc_column][/vc_row]
URL:https://www.ibk.be/evenement/eft-1-en-visio/2025-10-08/
LOCATION:Online\, Belgique
CATEGORIES:PTT - Pack pour les arts-thérapeutes
ATTACH;FMTTYPE=image/jpeg:https://www.ibk.be/wp-content/uploads/2022/03/PTT.jpg
END:VEVENT
BEGIN:VEVENT
DTSTART;TZID=Europe/Brussels:20251010T180000
DTEND;TZID=Europe/Brussels:20251010T213000
DTSTAMP:20260421T143308
CREATED:20211018T082416Z
LAST-MODIFIED:20250401T080719Z
UID:10001469-1760119200-1760131800@www.ibk.be
SUMMARY:Color for Health - complément au TFH 1
DESCRIPTION:[vc_row][vc_column][vc_column_text]Matériel à apporter : des crayons de couleurs[/vc_column_text][/vc_column][/vc_row]
URL:https://www.ibk.be/evenement/color-for-health-complement-au-tfh-1-3/
LOCATION:IBK Rixensart\, avenue Paul Nicodème\, 26\, Rixensart\, 1330\, Belgique
CATEGORIES:Color for Health - complément au TFH 1
END:VEVENT
BEGIN:VEVENT
DTSTART;TZID=Europe/Brussels:20251011T093000
DTEND;TZID=Europe/Brussels:20251012T180000
DTSTAMP:20260421T143308
CREATED:20220110T091855Z
LAST-MODIFIED:20251125T140539Z
UID:10001515-1760175000-1760292000@www.ibk.be
SUMMARY:Core Kinesiology 1
DESCRIPTION:[vc_row][vc_column][vc_column_text][/vc_column_text][/vc_column][/vc_row]
URL:https://www.ibk.be/evenement/core-kinesiology-1-4/
LOCATION:IBK Rixensart\, avenue Paul Nicodème\, 26\, Rixensart\, 1330\, Belgique
CATEGORIES:Core Kinesiology 1
END:VEVENT
BEGIN:VEVENT
DTSTART;TZID=Europe/Brussels:20251011T093000
DTEND;TZID=Europe/Brussels:20251014T180000
DTSTAMP:20260421T143308
CREATED:20220110T101615Z
LAST-MODIFIED:20251125T142407Z
UID:10001560-1760175000-1760464800@www.ibk.be
SUMMARY:Corps Énergie 2
DESCRIPTION:
URL:https://www.ibk.be/evenement/corps-energie-2-2/
LOCATION:IBK Rixensart\, avenue Paul Nicodème\, 26\, Rixensart\, 1330\, Belgique
CATEGORIES:Corps Énergie 2
ATTACH;FMTTYPE=image/jpeg:https://www.ibk.be/wp-content/uploads/2021/07/efiimodjcdmhfdhc.jpg
END:VEVENT
BEGIN:VEVENT
DTSTART;TZID=Europe/Brussels:20251011T093000
DTEND;TZID=Europe/Brussels:20251014T180000
DTSTAMP:20260421T143308
CREATED:20220110T101615Z
LAST-MODIFIED:20251125T142828Z
UID:10002046-1760175000-1760464800@www.ibk.be
SUMMARY:Corps Énergie 2
DESCRIPTION:
URL:https://www.ibk.be/evenement/corps-energie-2-3/
LOCATION:IBK Rixensart\, avenue Paul Nicodème\, 26\, Rixensart\, 1330\, Belgique
CATEGORIES:Corps Énergie 2
ATTACH;FMTTYPE=image/jpeg:https://www.ibk.be/wp-content/uploads/2021/07/efiimodjcdmhfdhc.jpg
END:VEVENT
BEGIN:VEVENT
DTSTART;TZID=Europe/Brussels:20251013T093000
DTEND;TZID=Europe/Brussels:20251013T154500
DTSTAMP:20260421T143308
CREATED:20210126T062329Z
LAST-MODIFIED:20250407T092900Z
UID:10001434-1760347800-1760370300@www.ibk.be
SUMMARY:Touch for Health 2 de semaine
DESCRIPTION:[vc_row][vc_column][vc_column_text css= » »]Ceci est une des 3 dates d’un même cours commençant le 13/10/2025 et se poursuivant les 03/11/2025 et 10/11/2025. Merci de veiller à vous inscrire uniquement à la première date. \n\n[/vc_column_text][/vc_column][/vc_row][vc_row][vc_column][vc_column_text] \n\n[/vc_column_text][/vc_column][/vc_row]
URL:https://www.ibk.be/evenement/touch-for-health-2-de-semaine-2/2025-10-13/
LOCATION:IBK Rixensart\, avenue Paul Nicodème\, 26\, Rixensart\, 1330\, Belgique
CATEGORIES:Touch for Health 2
END:VEVENT
BEGIN:VEVENT
DTSTART;TZID=Europe/Brussels:20251013T180000
DTEND;TZID=Europe/Brussels:20251013T200000
DTSTAMP:20260421T143308
CREATED:20210624T062557Z
LAST-MODIFIED:20251125T135144Z
UID:10001561-1760378400-1760385600@www.ibk.be
SUMMARY:Atelier Pratique d'EFT 1 - Online
DESCRIPTION:[vc_row][vc_column][vc_column_text][/vc_column_text][/vc_column][/vc_row]
URL:https://www.ibk.be/evenement/atelier-pratique-deft-1-online-6/
LOCATION:Online\, Belgique
CATEGORIES:Atelier Pratique d'EFT 1 - Online
END:VEVENT
BEGIN:VEVENT
DTSTART;TZID=Europe/Brussels:20251014T093000
DTEND;TZID=Europe/Brussels:20251014T154500
DTSTAMP:20260421T143308
CREATED:20210126T062753Z
LAST-MODIFIED:20251125T131103Z
UID:10001255-1760434200-1760456700@www.ibk.be
SUMMARY:Stress Release 1 de semaine
DESCRIPTION:Ceci est une des 3 dates d’un même cours commençant le 30/09/2025 et se poursuivant les 07/10/25 et 14/10/25. Merci de veiller à vous inscrire uniquement à la première date.
URL:https://www.ibk.be/evenement/stress-release-1-de-semaine-2/2025-10-14/
LOCATION:IBK Rixensart\, avenue Paul Nicodème\, 26\, Rixensart\, 1330\, Belgique
CATEGORIES:Stress Release 1
ATTACH;FMTTYPE=image/jpeg:https://www.ibk.be/wp-content/uploads/2025/11/SR.jpg
END:VEVENT
BEGIN:VEVENT
DTSTART;TZID=Europe/Brussels:20251015T180000
DTEND;TZID=Europe/Brussels:20251015T203000
DTSTAMP:20260421T143308
CREATED:20220317T104631Z
LAST-MODIFIED:20251125T125915Z
UID:10002121-1760551200-1760560200@www.ibk.be
SUMMARY:PTT de base - Online
DESCRIPTION:Ceci est une des 4 dates d’un même cours commençant le 10/09/2025 et se poursuivant les 17/09\, 08/10 et 15/10/2025 (de 18h00 à 20h30). Merci de veiller à vous inscrire uniquement à la première date. \n 
URL:https://www.ibk.be/evenement/ptt-de-base-online/2025-10-15/
LOCATION:Online\, Belgique
CATEGORIES:PTT de base,Picture Tapping Technique (PTT)
ATTACH;FMTTYPE=image/jpeg:https://www.ibk.be/wp-content/uploads/2022/03/PTT.jpg
END:VEVENT
BEGIN:VEVENT
DTSTART;TZID=Europe/Brussels:20251015T180000
DTEND;TZID=Europe/Brussels:20251015T203000
DTSTAMP:20260421T143308
CREATED:20220317T104631Z
LAST-MODIFIED:20251125T125824Z
UID:10001837-1760551200-1760560200@www.ibk.be
SUMMARY:PTT de base - Online
DESCRIPTION:Ceci est une des 4 dates d’un même cours commençant le 10/09/2025 et se poursuivant les 17/09\, 08/10 et 15/10/2025 (de 18h00 à 20h30). Merci de veiller à vous inscrire uniquement à la première date. \n 
URL:https://www.ibk.be/evenement/ptt-de-base-online-3/2025-10-15/
LOCATION:Online\, Belgique
CATEGORIES:PTT de base,Picture Tapping Technique (PTT)
ATTACH;FMTTYPE=image/jpeg:https://www.ibk.be/wp-content/uploads/2022/03/PTT.jpg
END:VEVENT
BEGIN:VEVENT
DTSTART;TZID=Europe/Brussels:20251015T180000
DTEND;TZID=Europe/Brussels:20251015T203000
DTSTAMP:20260421T143308
CREATED:20220501T003453Z
LAST-MODIFIED:20251125T125732Z
UID:10002090-1760551200-1760560200@www.ibk.be
SUMMARY:Pack Art-thérapeute
DESCRIPTION:Ce pack comprend : \n– Cours EFT 1 en visio du 9 au 10/07/2025 \n– Cours de PTT en visio dont les dates sont les suivantes :  10/09\, 17/09\, 08/10 et 15/10/2025 (de 18h00 à 20h30) \n  \n  \n[vc_row][vc_column][vc_column_text][/vc_column_text][/vc_column][/vc_row]
URL:https://www.ibk.be/evenement/eft-1-en-visio/2025-10-15/
LOCATION:Online\, Belgique
CATEGORIES:PTT - Pack pour les arts-thérapeutes
ATTACH;FMTTYPE=image/jpeg:https://www.ibk.be/wp-content/uploads/2022/03/PTT.jpg
END:VEVENT
BEGIN:VEVENT
DTSTART;TZID=Europe/Brussels:20251016T140000
DTEND;TZID=Europe/Brussels:20251016T183000
DTSTAMP:20260421T143308
CREATED:20210702T101018Z
LAST-MODIFIED:20251125T154008Z
UID:10001581-1760623200-1760639400@www.ibk.be
SUMMARY:Anatomie Système Musculo-Squelettique
DESCRIPTION:Ceci est une des 12 dates d’un même cours commençant le 2/10/2025 et se poursuivant les 16/10\, 6/11\, 13/11\, 27/11\, 11/12/2025 et les 8/01\, 5/02\, 5/03\, 26/03\, 23/04\, et 21/05/2026. Merci de veiller à vous inscrire uniquement à la première date.
URL:https://www.ibk.be/evenement/anatomie-systeme-musculo-squelettique/2025-10-16/
LOCATION:IBK Rixensart\, avenue Paul Nicodème\, 26\, Rixensart\, 1330\, Belgique
CATEGORIES:Système Musculo-Squelettique
ATTACH;FMTTYPE=image/jpeg:https://www.ibk.be/wp-content/uploads/2024/02/Illustration-Anatomie-SMS-2b-scaled.jpg
END:VEVENT
BEGIN:VEVENT
DTSTART;TZID=Europe/Brussels:20251017T093000
DTEND;TZID=Europe/Brussels:20251017T180000
DTSTAMP:20260421T143308
CREATED:20210824T081216Z
LAST-MODIFIED:20251125T140539Z
UID:10001680-1760693400-1760724000@www.ibk.be
SUMMARY:Core Kinesiology RPP
DESCRIPTION:[vc_row][vc_column][vc_column_text][/vc_column_text][/vc_column][/vc_row]
URL:https://www.ibk.be/evenement/core-kinesiology-rpp/
LOCATION:IBK Rixensart\, avenue Paul Nicodème\, 26\, Rixensart\, 1330\, Belgique
CATEGORIES:Pratiques de base,Core Kinesiology RPP
END:VEVENT
BEGIN:VEVENT
DTSTART;TZID=Europe/Brussels:20251018T093000
DTEND;TZID=Europe/Brussels:20251020T180000
DTSTAMP:20260421T143308
CREATED:20200529T065129Z
LAST-MODIFIED:20251120T103917Z
UID:10001327-1760779800-1760983200@www.ibk.be
SUMMARY:Psychogénéalogie - Introduction - PG 1
DESCRIPTION:
URL:https://www.ibk.be/evenement/psychogenealogie-introduction-pg-1-3/
LOCATION:IBK Rixensart\, avenue Paul Nicodème\, 26\, Rixensart\, 1330\, Belgique
CATEGORIES:PG 1 - Introduction,Psychogénéalogie
END:VEVENT
BEGIN:VEVENT
DTSTART;TZID=Europe/Brussels:20251018T183000
DTEND;TZID=Europe/Brussels:20251019T180000
DTSTAMP:20260421T143308
CREATED:20220110T092416Z
LAST-MODIFIED:20251015T083145Z
UID:10001772-1760812200-1760896800@www.ibk.be
SUMMARY:Touch for Health 2
DESCRIPTION:[vc_row][vc_column][vc_column_text]Horaires du week-end : Samedi et Dimanche de 9h30 à 18h00[/vc_column_text][/vc_column][/vc_row]
URL:https://www.ibk.be/evenement/touch-for-health-2-3/
LOCATION:IBK Rixensart\, avenue Paul Nicodème\, 26\, Rixensart\, 1330\, Belgique
CATEGORIES:Touch for Health 2
END:VEVENT
BEGIN:VEVENT
DTSTART;TZID=Europe/Brussels:20251021T093000
DTEND;TZID=Europe/Brussels:20251023T180000
DTSTAMP:20260421T143308
CREATED:20200529T065129Z
LAST-MODIFIED:20251120T103917Z
UID:10001334-1761039000-1761242400@www.ibk.be
SUMMARY:Psychogénéalogie - Maladies - PG 8 de Semaine
DESCRIPTION:
URL:https://www.ibk.be/evenement/psychogenealogie-maladies-pg-8-de-semaine/
LOCATION:IBK Rixensart\, avenue Paul Nicodème\, 26\, Rixensart\, 1330\, Belgique
CATEGORIES:PG 8 - Maladies en psychogénéalogie
END:VEVENT
BEGIN:VEVENT
DTSTART;TZID=Europe/Brussels:20251024T093000
DTEND;TZID=Europe/Brussels:20251026T180000
DTSTAMP:20260421T143308
CREATED:20220110T100550Z
LAST-MODIFIED:20251125T135144Z
UID:10001794-1761298200-1761501600@www.ibk.be
SUMMARY:EFT 2
DESCRIPTION:[vc_row][vc_column][vc_column_text]EFT 2 est un cours de 3 jours complets. L’horaire des 3 journées de cours est de 9h30 à 18h00.[/vc_column_text][/vc_column][/vc_row]
URL:https://www.ibk.be/evenement/eft-2-2/
LOCATION:IBK Rixensart\, avenue Paul Nicodème\, 26\, Rixensart\, 1330\, Belgique
CATEGORIES:EFT 2
END:VEVENT
END:VCALENDAR