BEGIN:VCALENDAR
VERSION:2.0
PRODID:-//IBK - ECPv6.15.18//NONSGML v1.0//EN
CALSCALE:GREGORIAN
METHOD:PUBLISH
X-ORIGINAL-URL:https://www.ibk.be
X-WR-CALDESC:Évènements pour IBK
REFRESH-INTERVAL;VALUE=DURATION:PT1H
X-Robots-Tag:noindex
X-PUBLISHED-TTL:PT1H
BEGIN:VTIMEZONE
TZID:Europe/Brussels
BEGIN:DAYLIGHT
TZOFFSETFROM:+0100
TZOFFSETTO:+0200
TZNAME:CEST
DTSTART:20240331T010000
END:DAYLIGHT
BEGIN:STANDARD
TZOFFSETFROM:+0200
TZOFFSETTO:+0100
TZNAME:CET
DTSTART:20241027T010000
END:STANDARD
BEGIN:DAYLIGHT
TZOFFSETFROM:+0100
TZOFFSETTO:+0200
TZNAME:CEST
DTSTART:20250330T010000
END:DAYLIGHT
BEGIN:STANDARD
TZOFFSETFROM:+0200
TZOFFSETTO:+0100
TZNAME:CET
DTSTART:20251026T010000
END:STANDARD
BEGIN:DAYLIGHT
TZOFFSETFROM:+0100
TZOFFSETTO:+0200
TZNAME:CEST
DTSTART:20260329T010000
END:DAYLIGHT
BEGIN:STANDARD
TZOFFSETFROM:+0200
TZOFFSETTO:+0100
TZNAME:CET
DTSTART:20261025T010000
END:STANDARD
END:VTIMEZONE
BEGIN:VEVENT
DTSTART;TZID=Europe/Brussels:20250901T093000
DTEND;TZID=Europe/Brussels:20250902T173000
DTSTAMP:20260421T115832
CREATED:20220512T063209Z
LAST-MODIFIED:20251125T141926Z
UID:10001666-1756719000-1756834200@www.ibk.be
SUMMARY:S'ouvrir à l'enfant
DESCRIPTION:Matériel à apporter : crayons de couleurs
URL:https://www.ibk.be/evenement/souvrir-a-lenfant-2/
LOCATION:IBK Rixensart\, avenue Paul Nicodème\, 26\, Rixensart\, 1330\, Belgique
CATEGORIES:S'ouvrir à l'enfant
END:VEVENT
BEGIN:VEVENT
DTSTART;TZID=Europe/Brussels:20250901T190000
DTEND;TZID=Europe/Brussels:20250901T200000
DTSTAMP:20260421T115832
CREATED:20220411T095057Z
LAST-MODIFIED:20250130T110704Z
UID:10001602-1756753200-1756756800@www.ibk.be
SUMMARY:Intro à l'EFT - Online
DESCRIPTION:
URL:https://www.ibk.be/evenement/intro-a-left-online-3/
LOCATION:Online\, Belgique
CATEGORIES:Intro à l'EFT
END:VEVENT
BEGIN:VEVENT
DTSTART;TZID=Europe/Brussels:20250904T093000
DTEND;TZID=Europe/Brussels:20250907T180000
DTSTAMP:20260421T115832
CREATED:20220110T082931Z
LAST-MODIFIED:20251125T140539Z
UID:10001744-1756978200-1757268000@www.ibk.be
SUMMARY:Core Kinesiology 4
DESCRIPTION:
URL:https://www.ibk.be/evenement/core-kinesiology-4/
LOCATION:IBK Rixensart\, avenue Paul Nicodème\, 26\, Rixensart\, 1330\, Belgique
CATEGORIES:Core Kinesiology 4
END:VEVENT
BEGIN:VEVENT
DTSTART;TZID=Europe/Brussels:20250910T180000
DTEND;TZID=Europe/Brussels:20250910T203000
DTSTAMP:20260421T115832
CREATED:20220317T104631Z
LAST-MODIFIED:20251125T125915Z
UID:10002118-1757527200-1757536200@www.ibk.be
SUMMARY:PTT de base - Online
DESCRIPTION:Ceci est une des 4 dates d’un même cours commençant le 10/09/2025 et se poursuivant les 17/09\, 08/10 et 15/10/2025 (de 18h00 à 20h30). Merci de veiller à vous inscrire uniquement à la première date. \n 
URL:https://www.ibk.be/evenement/ptt-de-base-online/2025-09-10/
LOCATION:Online\, Belgique
CATEGORIES:PTT de base,Picture Tapping Technique (PTT)
ATTACH;FMTTYPE=image/jpeg:https://www.ibk.be/wp-content/uploads/2022/03/PTT.jpg
END:VEVENT
BEGIN:VEVENT
DTSTART;TZID=Europe/Brussels:20250910T180000
DTEND;TZID=Europe/Brussels:20250910T203000
DTSTAMP:20260421T115832
CREATED:20220317T104631Z
LAST-MODIFIED:20251125T125824Z
UID:10001834-1757527200-1757536200@www.ibk.be
SUMMARY:PTT de base - Online
DESCRIPTION:Ceci est une des 4 dates d’un même cours commençant le 10/09/2025 et se poursuivant les 17/09\, 08/10 et 15/10/2025 (de 18h00 à 20h30). Merci de veiller à vous inscrire uniquement à la première date. \n 
URL:https://www.ibk.be/evenement/ptt-de-base-online-3/2025-09-10/
LOCATION:Online\, Belgique
CATEGORIES:PTT de base,Picture Tapping Technique (PTT)
ATTACH;FMTTYPE=image/jpeg:https://www.ibk.be/wp-content/uploads/2022/03/PTT.jpg
END:VEVENT
BEGIN:VEVENT
DTSTART;TZID=Europe/Brussels:20250910T180000
DTEND;TZID=Europe/Brussels:20250910T203000
DTSTAMP:20260421T115832
CREATED:20220501T003453Z
LAST-MODIFIED:20251125T125732Z
UID:10002087-1757527200-1757536200@www.ibk.be
SUMMARY:Pack Art-thérapeute
DESCRIPTION:Ce pack comprend : \n– Cours EFT 1 en visio du 9 au 10/07/2025 \n– Cours de PTT en visio dont les dates sont les suivantes :  10/09\, 17/09\, 08/10 et 15/10/2025 (de 18h00 à 20h30) \n  \n  \n[vc_row][vc_column][vc_column_text][/vc_column_text][/vc_column][/vc_row]
URL:https://www.ibk.be/evenement/eft-1-en-visio/2025-09-10/
LOCATION:Online\, Belgique
CATEGORIES:PTT - Pack pour les arts-thérapeutes
ATTACH;FMTTYPE=image/jpeg:https://www.ibk.be/wp-content/uploads/2022/03/PTT.jpg
END:VEVENT
BEGIN:VEVENT
DTSTART;TZID=Europe/Brussels:20250911T193000
DTEND;TZID=Europe/Brussels:20250911T213000
DTSTAMP:20260421T115832
CREATED:20220110T080352Z
LAST-MODIFIED:20250225T070451Z
UID:10001740-1757619000-1757626200@www.ibk.be
SUMMARY:Porte Ouverte
DESCRIPTION:
URL:https://www.ibk.be/evenement/porte-ouverte-3/
LOCATION:IBK Rixensart\, avenue Paul Nicodème\, 26\, Rixensart\, 1330\, Belgique
CATEGORIES:Portes Ouvertes
END:VEVENT
BEGIN:VEVENT
DTSTART;TZID=Europe/Brussels:20250912T093000
DTEND;TZID=Europe/Brussels:20250912T170000
DTSTAMP:20260421T115832
CREATED:20210824T084103Z
LAST-MODIFIED:20251125T133030Z
UID:10002096-1757669400-1757696400@www.ibk.be
SUMMARY:Pratique supervisée EFT 2
DESCRIPTION:Votre participation à la journée de pratique supervisée implique que vous ayez suivi le cours d’EFT2 et que vous souhaitiez vous améliorer dans votre pratique.\nLe contenu de cette journée se fera « à la carte »\, selon les besoins du groupe\, mais il vous sera proposé:\n\n\nUne démo avec des techniques de douceur\n\n\nDe pratiquer des débuts de séance avec « un nouveau client » (précadrage)\n\n\nDe pratiquer la partie « détective » pour voir comment la rendre plus efficace selon la demande du client\n\n\nDe pratiquer des extraits de séances commentés et analysés ensemble
URL:https://www.ibk.be/evenement/pratique-supervisee-eft-2/
LOCATION:IBK Rixensart\, avenue Paul Nicodème\, 26\, Rixensart\, 1330\, Belgique
CATEGORIES:Pratiques avancées,Certification en EFT,Supervision en EFT
END:VEVENT
BEGIN:VEVENT
DTSTART;TZID=Europe/Brussels:20250913T093000
DTEND;TZID=Europe/Brussels:20250914T180000
DTSTAMP:20260421T115832
CREATED:20210702T101826Z
LAST-MODIFIED:20251125T135218Z
UID:10001595-1757755800-1757872800@www.ibk.be
SUMMARY:SR 4a Défusion des traits de personnalité négatifs
DESCRIPTION:
URL:https://www.ibk.be/evenement/sr-4a-defusion-des-traits-de-personnalite-negatifs-3/
LOCATION:IBK Rixensart\, avenue Paul Nicodème\, 26\, Rixensart\, 1330\, Belgique
CATEGORIES:SR 4a Défusion des traits de personnalité négatifs
ATTACH;FMTTYPE=image/jpeg:https://www.ibk.be/wp-content/uploads/2025/11/SR.jpg
END:VEVENT
BEGIN:VEVENT
DTSTART;TZID=Europe/Brussels:20250915T180000
DTEND;TZID=Europe/Brussels:20250915T200000
DTSTAMP:20260421T115832
CREATED:20220207T143638Z
LAST-MODIFIED:20250714T091051Z
UID:10002097-1757959200-1757966400@www.ibk.be
SUMMARY:Examen de repêche - SR 1-3
DESCRIPTION:
URL:https://www.ibk.be/evenement/examen-de-repeche-sr-1-3-2/
LOCATION:IBK Rixensart\, avenue Paul Nicodème\, 26\, Rixensart\, 1330\, Belgique
CATEGORIES:Pratiques de base,Pratiques supervisées Wellness Kinesiology
END:VEVENT
BEGIN:VEVENT
DTSTART;TZID=Europe/Brussels:20250917T180000
DTEND;TZID=Europe/Brussels:20250917T203000
DTSTAMP:20260421T115832
CREATED:20220317T104631Z
LAST-MODIFIED:20251125T125915Z
UID:10002119-1758132000-1758141000@www.ibk.be
SUMMARY:PTT de base - Online
DESCRIPTION:Ceci est une des 4 dates d’un même cours commençant le 10/09/2025 et se poursuivant les 17/09\, 08/10 et 15/10/2025 (de 18h00 à 20h30). Merci de veiller à vous inscrire uniquement à la première date. \n 
URL:https://www.ibk.be/evenement/ptt-de-base-online/2025-09-17/
LOCATION:Online\, Belgique
CATEGORIES:PTT de base,Picture Tapping Technique (PTT)
ATTACH;FMTTYPE=image/jpeg:https://www.ibk.be/wp-content/uploads/2022/03/PTT.jpg
END:VEVENT
BEGIN:VEVENT
DTSTART;TZID=Europe/Brussels:20250917T180000
DTEND;TZID=Europe/Brussels:20250917T203000
DTSTAMP:20260421T115832
CREATED:20220317T104631Z
LAST-MODIFIED:20251125T125824Z
UID:10001835-1758132000-1758141000@www.ibk.be
SUMMARY:PTT de base - Online
DESCRIPTION:Ceci est une des 4 dates d’un même cours commençant le 10/09/2025 et se poursuivant les 17/09\, 08/10 et 15/10/2025 (de 18h00 à 20h30). Merci de veiller à vous inscrire uniquement à la première date. \n 
URL:https://www.ibk.be/evenement/ptt-de-base-online-3/2025-09-17/
LOCATION:Online\, Belgique
CATEGORIES:PTT de base,Picture Tapping Technique (PTT)
ATTACH;FMTTYPE=image/jpeg:https://www.ibk.be/wp-content/uploads/2022/03/PTT.jpg
END:VEVENT
BEGIN:VEVENT
DTSTART;TZID=Europe/Brussels:20250917T180000
DTEND;TZID=Europe/Brussels:20250917T203000
DTSTAMP:20260421T115832
CREATED:20220501T003453Z
LAST-MODIFIED:20251125T125732Z
UID:10002088-1758132000-1758141000@www.ibk.be
SUMMARY:Pack Art-thérapeute
DESCRIPTION:Ce pack comprend : \n– Cours EFT 1 en visio du 9 au 10/07/2025 \n– Cours de PTT en visio dont les dates sont les suivantes :  10/09\, 17/09\, 08/10 et 15/10/2025 (de 18h00 à 20h30) \n  \n  \n[vc_row][vc_column][vc_column_text][/vc_column_text][/vc_column][/vc_row]
URL:https://www.ibk.be/evenement/eft-1-en-visio/2025-09-17/
LOCATION:Online\, Belgique
CATEGORIES:PTT - Pack pour les arts-thérapeutes
ATTACH;FMTTYPE=image/jpeg:https://www.ibk.be/wp-content/uploads/2022/03/PTT.jpg
END:VEVENT
BEGIN:VEVENT
DTSTART;TZID=Europe/Brussels:20250918T093000
DTEND;TZID=Europe/Brussels:20250918T170000
DTSTAMP:20260421T115832
CREATED:20200530T142819Z
LAST-MODIFIED:20260311T105521Z
UID:10001211-1758187800-1758214800@www.ibk.be
SUMMARY:Analyse Transactionnelle - Approfondissement
DESCRIPTION:Ceci est une des 11 dates d’un même cours commençant le 18/09/2025 et se poursuivant\, en 2025\, les 2/10\, 13/11\, 27/11 et 11/12 et en 2026\, 22/01\, 5/02\, 12/03\, 9/04\, 23/04 et le 21/05. Merci de veiller à vous inscrire uniquement à la première date.
URL:https://www.ibk.be/evenement/analyse-transactionnelle-approfondissement/2025-09-18/
LOCATION:IBK Rixensart\, avenue Paul Nicodème\, 26\, Rixensart\, 1330\, Belgique
CATEGORIES:AT - Approfondissement - deuxième et troisième années
ATTACH;FMTTYPE=image/jpeg:https://www.ibk.be/wp-content/uploads/2023/10/PAE.jpg
END:VEVENT
BEGIN:VEVENT
DTSTART;TZID=Europe/Brussels:20250920T093000
DTEND;TZID=Europe/Brussels:20250921T180000
DTSTAMP:20260421T115832
CREATED:20220110T083735Z
LAST-MODIFIED:20250407T101703Z
UID:10001748-1758360600-1758477600@www.ibk.be
SUMMARY:Exercices Biokinétiques
DESCRIPTION:Matériel à amener : 2 petits coussins (min. 40 x 40cm) et un tapis de yoga si possible. Prévoir des vêtements souples pour les 2 jours de formation.
URL:https://www.ibk.be/evenement/exercices-biokinetiques/
LOCATION:IBK Rixensart\, avenue Paul Nicodème\, 26\, Rixensart\, 1330\, Belgique
CATEGORIES:Exercices Biokinétiques
END:VEVENT
BEGIN:VEVENT
DTSTART;TZID=Europe/Brussels:20250920T093000
DTEND;TZID=Europe/Brussels:20250921T183000
DTSTAMP:20260421T115832
CREATED:20220110T084146Z
LAST-MODIFIED:20250916T061432Z
UID:10001756-1758360600-1758479400@www.ibk.be
SUMMARY:Touch for Health 1
DESCRIPTION: 
URL:https://www.ibk.be/evenement/touch-for-health-1-3/
LOCATION:IBK Rixensart\, avenue Paul Nicodème\, 26\, Rixensart\, 1330\, Belgique
CATEGORIES:Touch for Health 1
END:VEVENT
BEGIN:VEVENT
DTSTART;TZID=Europe/Brussels:20250922T093000
DTEND;TZID=Europe/Brussels:20250922T154500
DTSTAMP:20260421T115832
CREATED:20210126T062329Z
LAST-MODIFIED:20250910T063523Z
UID:10001430-1758533400-1758555900@www.ibk.be
SUMMARY:Touch for Health 1 de semaine
DESCRIPTION:[vc_row][vc_column][vc_column_text css= » »]Ceci est une des 3 dates d’un même cours commençant le 22/09/2025 et se poursuivant les 29/09/2025 et 06/10/2025. Merci de veiller à vous inscrire uniquement à la première date.[/vc_column_text][/vc_column][/vc_row]
URL:https://www.ibk.be/evenement/touch-for-health-1-de-semaine-3/2025-09-22/
LOCATION:IBK Rixensart\, avenue Paul Nicodème\, 26\, Rixensart\, 1330\, Belgique
CATEGORIES:Touch for Health 1
END:VEVENT
BEGIN:VEVENT
DTSTART;TZID=Europe/Brussels:20250927T093000
DTEND;TZID=Europe/Brussels:20250928T170000
DTSTAMP:20260421T115832
CREATED:20220501T003453Z
LAST-MODIFIED:20251125T135144Z
UID:10001628-1758965400-1759078800@www.ibk.be
SUMMARY:EFT 1
DESCRIPTION:[vc_row][vc_column][vc_column_text][/vc_column_text][/vc_column][/vc_row]
URL:https://www.ibk.be/evenement/eft-1/
LOCATION:IBK Rixensart\, avenue Paul Nicodème\, 26\, Rixensart\, 1330\, Belgique
CATEGORIES:EFT 1
END:VEVENT
BEGIN:VEVENT
DTSTART;TZID=Europe/Brussels:20250929T093000
DTEND;TZID=Europe/Brussels:20250929T154500
DTSTAMP:20260421T115832
CREATED:20210126T062329Z
LAST-MODIFIED:20250910T063523Z
UID:10002102-1759138200-1759160700@www.ibk.be
SUMMARY:Touch for Health 1 de semaine
DESCRIPTION:[vc_row][vc_column][vc_column_text css= » »]Ceci est une des 3 dates d’un même cours commençant le 22/09/2025 et se poursuivant les 29/09/2025 et 06/10/2025. Merci de veiller à vous inscrire uniquement à la première date.[/vc_column_text][/vc_column][/vc_row]
URL:https://www.ibk.be/evenement/touch-for-health-1-de-semaine-3/2025-09-29/
LOCATION:IBK Rixensart\, avenue Paul Nicodème\, 26\, Rixensart\, 1330\, Belgique
CATEGORIES:Touch for Health 1
END:VEVENT
BEGIN:VEVENT
DTSTART;TZID=Europe/Brussels:20250930T093000
DTEND;TZID=Europe/Brussels:20250930T154500
DTSTAMP:20260421T115832
CREATED:20210126T062753Z
LAST-MODIFIED:20251125T131103Z
UID:10001253-1759224600-1759247100@www.ibk.be
SUMMARY:Stress Release 1 de semaine
DESCRIPTION:Ceci est une des 3 dates d’un même cours commençant le 30/09/2025 et se poursuivant les 07/10/25 et 14/10/25. Merci de veiller à vous inscrire uniquement à la première date.
URL:https://www.ibk.be/evenement/stress-release-1-de-semaine-2/2025-09-30/
LOCATION:IBK Rixensart\, avenue Paul Nicodème\, 26\, Rixensart\, 1330\, Belgique
CATEGORIES:Stress Release 1
ATTACH;FMTTYPE=image/jpeg:https://www.ibk.be/wp-content/uploads/2025/11/SR.jpg
END:VEVENT
END:VCALENDAR