BEGIN:VCALENDAR
VERSION:2.0
PRODID:-//IBK - ECPv6.15.18//NONSGML v1.0//EN
CALSCALE:GREGORIAN
METHOD:PUBLISH
X-WR-CALNAME:IBK
X-ORIGINAL-URL:https://www.ibk.be
X-WR-CALDESC:Évènements pour IBK
REFRESH-INTERVAL;VALUE=DURATION:PT1H
X-Robots-Tag:noindex
X-PUBLISHED-TTL:PT1H
BEGIN:VTIMEZONE
TZID:Europe/Brussels
BEGIN:DAYLIGHT
TZOFFSETFROM:+0100
TZOFFSETTO:+0200
TZNAME:CEST
DTSTART:20240331T010000
END:DAYLIGHT
BEGIN:STANDARD
TZOFFSETFROM:+0200
TZOFFSETTO:+0100
TZNAME:CET
DTSTART:20241027T010000
END:STANDARD
BEGIN:DAYLIGHT
TZOFFSETFROM:+0100
TZOFFSETTO:+0200
TZNAME:CEST
DTSTART:20250330T010000
END:DAYLIGHT
BEGIN:STANDARD
TZOFFSETFROM:+0200
TZOFFSETTO:+0100
TZNAME:CET
DTSTART:20251026T010000
END:STANDARD
BEGIN:DAYLIGHT
TZOFFSETFROM:+0100
TZOFFSETTO:+0200
TZNAME:CEST
DTSTART:20260329T010000
END:DAYLIGHT
BEGIN:STANDARD
TZOFFSETFROM:+0200
TZOFFSETTO:+0100
TZNAME:CET
DTSTART:20261025T010000
END:STANDARD
END:VTIMEZONE
BEGIN:VEVENT
DTSTART;TZID=Europe/Brussels:20250704T093000
DTEND;TZID=Europe/Brussels:20250704T170000
DTSTAMP:20260421T144023
CREATED:20210824T081216Z
LAST-MODIFIED:20240717T092225Z
UID:10001677-1751621400-1751648400@www.ibk.be
SUMMARY:Examen de CK 1-3
DESCRIPTION:[vc_row][vc_column][vc_column_text][/vc_column_text][/vc_column][/vc_row]
URL:https://www.ibk.be/evenement/examen-de-ck-1-3-3/
LOCATION:IBK Rixensart\, avenue Paul Nicodème\, 26\, Rixensart\, 1330\, Belgique
CATEGORIES:Pratiques de base,Pratiques supervisées Core Kinesiology
END:VEVENT
BEGIN:VEVENT
DTSTART;TZID=Europe/Brussels:20250704T183000
DTEND;TZID=Europe/Brussels:20250706T180000
DTSTAMP:20260421T144023
CREATED:20220110T092416Z
LAST-MODIFIED:20241210T085222Z
UID:10001771-1751653800-1751824800@www.ibk.be
SUMMARY:Touch for Health 2
DESCRIPTION:[vc_row][vc_column][vc_column_text]Horaires du week-end : Vendredi de 18h30 à 21h30 – Samedi et Dimanche de 9h30 à 18h00[/vc_column_text][/vc_column][/vc_row]
URL:https://www.ibk.be/evenement/touch-for-health-2-10/
LOCATION:IBK Rixensart\, avenue Paul Nicodème\, 26\, Rixensart\, 1330\, Belgique
CATEGORIES:Touch for Health 2
END:VEVENT
BEGIN:VEVENT
DTSTART;TZID=Europe/Brussels:20250706T090000
DTEND;TZID=Europe/Brussels:20250708T180000
DTSTAMP:20260421T144023
CREATED:20210202T023416Z
LAST-MODIFIED:20250625T063037Z
UID:10001276-1751792400-1751997600@www.ibk.be
SUMMARY:Brain Gym 101
DESCRIPTION:[vc_row][vc_column][vc_column_text][/vc_column_text][/vc_column][/vc_row]
URL:https://www.ibk.be/evenement/brain-gym-101-5/
LOCATION:IBK Rixensart\, avenue Paul Nicodème\, 26\, Rixensart\, 1330\, Belgique
CATEGORIES:Brain Gym 101
END:VEVENT
BEGIN:VEVENT
DTSTART;TZID=Europe/Brussels:20250709T090000
DTEND;TZID=Europe/Brussels:20250710T160000
DTSTAMP:20260421T144023
CREATED:20220501T003453Z
LAST-MODIFIED:20251125T125732Z
UID:10002086-1752051600-1752163200@www.ibk.be
SUMMARY:Pack Art-thérapeute
DESCRIPTION:Ce pack comprend : \n– Cours EFT 1 en visio du 9 au 10/07/2025 \n– Cours de PTT en visio dont les dates sont les suivantes :  10/09\, 17/09\, 08/10 et 15/10/2025 (de 18h00 à 20h30) \n  \n  \n[vc_row][vc_column][vc_column_text][/vc_column_text][/vc_column][/vc_row]
URL:https://www.ibk.be/evenement/eft-1-en-visio/2025-07-09/
LOCATION:Online\, Belgique
CATEGORIES:PTT - Pack pour les arts-thérapeutes
ATTACH;FMTTYPE=image/jpeg:https://www.ibk.be/wp-content/uploads/2022/03/PTT.jpg
END:VEVENT
BEGIN:VEVENT
DTSTART;TZID=Europe/Brussels:20250709T093000
DTEND;TZID=Europe/Brussels:20250710T170000
DTSTAMP:20260421T144023
CREATED:20220501T003453Z
LAST-MODIFIED:20251120T104320Z
UID:10001627-1752053400-1752166800@www.ibk.be
SUMMARY:EFT 1 Online
DESCRIPTION:[vc_row][vc_column][vc_column_text][/vc_column_text][/vc_column][/vc_row]
URL:https://www.ibk.be/evenement/eft-1-11/
LOCATION:IBK Rixensart\, avenue Paul Nicodème\, 26\, Rixensart\, 1330\, Belgique
CATEGORIES:EFT 1
END:VEVENT
BEGIN:VEVENT
DTSTART;TZID=Europe/Brussels:20250709T183000
DTEND;TZID=Europe/Brussels:20250711T180000
DTSTAMP:20260421T144023
CREATED:20220110T101011Z
LAST-MODIFIED:20251120T104005Z
UID:10001799-1752085800-1752256800@www.ibk.be
SUMMARY:Touch for Health 3
DESCRIPTION:[vc_row][vc_column][vc_column_text]Horaires  : Mercredi de 18h30 à 21h30 – Jeudi et vendredi de 9h30 à 18h00[/vc_column_text][/vc_column][/vc_row]
URL:https://www.ibk.be/evenement/touch-for-health-3-8/
LOCATION:IBK Rixensart\, avenue Paul Nicodème\, 26\, Rixensart\, 1330\, Belgique
CATEGORIES:Touch for Health 3
END:VEVENT
BEGIN:VEVENT
DTSTART;TZID=Europe/Brussels:20250712T090000
DTEND;TZID=Europe/Brussels:20250713T183000
DTSTAMP:20260421T144023
CREATED:20220110T094618Z
LAST-MODIFIED:20251120T104035Z
UID:10001779-1752310800-1752431400@www.ibk.be
SUMMARY:Corps Énergie 1
DESCRIPTION:[vc_row][vc_column][vc_column_text]Horaires : Samedi et Dimanche de 9h00 à 18h30[/vc_column_text][/vc_column][/vc_row][vc_row][vc_column][vc_column_text] \n\n[/vc_column_text][/vc_column][/vc_row]
URL:https://www.ibk.be/evenement/corps-energie-1-9/
LOCATION:IBK Rixensart\, avenue Paul Nicodème\, 26\, Rixensart\, 1330\, Belgique
CATEGORIES:Corps Énergie 1
END:VEVENT
BEGIN:VEVENT
DTSTART;TZID=Europe/Brussels:20250714T093000
DTEND;TZID=Europe/Brussels:20250715T183000
DTSTAMP:20260421T144023
CREATED:20220110T103319Z
LAST-MODIFIED:20251120T104005Z
UID:10001811-1752485400-1752604200@www.ibk.be
SUMMARY:Touch for Health 4
DESCRIPTION:Horaires : de 9h30 à 18h30
URL:https://www.ibk.be/evenement/touch-for-health-4-8/
LOCATION:IBK Rixensart\, avenue Paul Nicodème\, 26\, Rixensart\, 1330\, Belgique
CATEGORIES:Touch for Health 4
END:VEVENT
BEGIN:VEVENT
DTSTART;TZID=Europe/Brussels:20250716T093000
DTEND;TZID=Europe/Brussels:20250717T180000
DTSTAMP:20260421T144023
CREATED:20220501T003020Z
LAST-MODIFIED:20251125T132611Z
UID:10001862-1752658200-1752775200@www.ibk.be
SUMMARY:TFH Métaphores et Établissement de l’Objectif
DESCRIPTION:[vc_row][vc_column][vc_column_text][/vc_column_text][/vc_column][/vc_row]
URL:https://www.ibk.be/evenement/tfh-metaphores-8/
LOCATION:IBK Rixensart\, avenue Paul Nicodème\, 26\, Rixensart\, 1330\, Belgique
CATEGORIES:TFH Métaphores et Etablissement de l'Objectif
END:VEVENT
END:VCALENDAR