BEGIN:VCALENDAR
VERSION:2.0
PRODID:-//IBK - ECPv6.15.18//NONSGML v1.0//EN
CALSCALE:GREGORIAN
METHOD:PUBLISH
X-ORIGINAL-URL:https://www.ibk.be
X-WR-CALDESC:Évènements pour IBK
REFRESH-INTERVAL;VALUE=DURATION:PT1H
X-Robots-Tag:noindex
X-PUBLISHED-TTL:PT1H
BEGIN:VTIMEZONE
TZID:Europe/Brussels
BEGIN:DAYLIGHT
TZOFFSETFROM:+0100
TZOFFSETTO:+0200
TZNAME:CEST
DTSTART:20240331T010000
END:DAYLIGHT
BEGIN:STANDARD
TZOFFSETFROM:+0200
TZOFFSETTO:+0100
TZNAME:CET
DTSTART:20241027T010000
END:STANDARD
BEGIN:DAYLIGHT
TZOFFSETFROM:+0100
TZOFFSETTO:+0200
TZNAME:CEST
DTSTART:20250330T010000
END:DAYLIGHT
BEGIN:STANDARD
TZOFFSETFROM:+0200
TZOFFSETTO:+0100
TZNAME:CET
DTSTART:20251026T010000
END:STANDARD
BEGIN:DAYLIGHT
TZOFFSETFROM:+0100
TZOFFSETTO:+0200
TZNAME:CEST
DTSTART:20260329T010000
END:DAYLIGHT
BEGIN:STANDARD
TZOFFSETFROM:+0200
TZOFFSETTO:+0100
TZNAME:CET
DTSTART:20261025T010000
END:STANDARD
END:VTIMEZONE
BEGIN:VEVENT
DTSTART;TZID=Europe/Brussels:20250602T090000
DTEND;TZID=Europe/Brussels:20250602T170000
DTSTAMP:20260421T141105
CREATED:20220719T103715Z
LAST-MODIFIED:20251120T104319Z
UID:10001911-1748854800-1748883600@www.ibk.be
SUMMARY:Relecture des études de cas (EFT)
DESCRIPTION:Le prix est de 100EUR pour la relecture de 4 études de cas.
URL:https://www.ibk.be/evenement/relecture-des-etudes-de-cas-en-eft-2/
LOCATION:Online\, Belgique
CATEGORIES:Certification en EFT
END:VEVENT
BEGIN:VEVENT
DTSTART;TZID=Europe/Brussels:20250603T093000
DTEND;TZID=Europe/Brussels:20250603T170000
DTSTAMP:20260421T141105
CREATED:20210824T070055Z
LAST-MODIFIED:20251125T140252Z
UID:10001387-1748943000-1748970000@www.ibk.be
SUMMARY:Pratique supervisée TFH 1-4 et préparation à l'examen
DESCRIPTION:
URL:https://www.ibk.be/evenement/pratique-supervisee-tfh-1-4-et-preparation-a-lexamen-7/
LOCATION:IBK Rixensart\, avenue Paul Nicodème\, 26\, Rixensart\, 1330\, Belgique
CATEGORIES:Pratiques de base,Pratiques supervisées TFH
END:VEVENT
BEGIN:VEVENT
DTSTART;TZID=Europe/Brussels:20250603T093000
DTEND;TZID=Europe/Brussels:20250603T170000
DTSTAMP:20260421T141105
CREATED:20210824T084103Z
LAST-MODIFIED:20240717T091813Z
UID:10001699-1748943000-1748970000@www.ibk.be
SUMMARY:Pratique supervisée CE 2
DESCRIPTION:
URL:https://www.ibk.be/evenement/pratique-supervisee-ce-2-4/
LOCATION:IBK Rixensart\, avenue Paul Nicodème\, 26\, Rixensart\, 1330\, Belgique
CATEGORIES:Pratiques avancées,Pratiques supervisées Corps Énergie
END:VEVENT
BEGIN:VEVENT
DTSTART;TZID=Europe/Brussels:20250604T093000
DTEND;TZID=Europe/Brussels:20250608T180000
DTSTAMP:20260421T141105
CREATED:20240319T104011Z
LAST-MODIFIED:20240319T104102Z
UID:10001962-1749029400-1749405600@www.ibk.be
SUMMARY:Psychogénéalogie Comportementale et Kinésiologie
DESCRIPTION:
URL:https://www.ibk.be/evenement/psychogenealogie-comportementale-et-kinesiologie/
LOCATION:IBK Rixensart\, avenue Paul Nicodème\, 26\, Rixensart\, 1330\, Belgique
CATEGORIES:Psychogénéalogie Comportementale et Kinésiologie
END:VEVENT
BEGIN:VEVENT
DTSTART;TZID=Europe/Brussels:20250605T093000
DTEND;TZID=Europe/Brussels:20250605T170000
DTSTAMP:20260421T141105
CREATED:20200530T142819Z
LAST-MODIFIED:20251120T104612Z
UID:10001421-1749115800-1749142800@www.ibk.be
SUMMARY:Analyse Transactionnelle - Base
DESCRIPTION:[vc_row][vc_column][vc_column_text css= » »]Ceci est une des 10 dates d’un même cours commençant le 16 janvier 2025 et se poursuivant\, les  30/01\, 13/02\, 21/02\, 13/03\, 27/03\, 10/04\, 24/04\, 22/05 et 05/06. Merci de veiller à vous inscrire uniquement à la première date.[/vc_column_text][/vc_column][/vc_row]
URL:https://www.ibk.be/evenement/analyse-transactionnelle-base-3/2025-06-05/
LOCATION:IBK Rixensart\, avenue Paul Nicodème\, 26\, Rixensart\, 1330\, Belgique
CATEGORIES:AT - Base - première année
END:VEVENT
BEGIN:VEVENT
DTSTART;TZID=Europe/Brussels:20250610T180000
DTEND;TZID=Europe/Brussels:20250610T200000
DTSTAMP:20260421T141105
CREATED:20210624T062557Z
LAST-MODIFIED:20240510T082658Z
UID:10001559-1749578400-1749585600@www.ibk.be
SUMMARY:Atelier Pratique d'EFT 2 - Online
DESCRIPTION:[vc_row][vc_column][vc_column_text][/vc_column_text][/vc_column][/vc_row]
URL:https://www.ibk.be/evenement/atelier-pratique-deft-2-online-5/
LOCATION:Online\, Belgique
CATEGORIES:Atelier Pratique d'EFT 2 - Online
END:VEVENT
BEGIN:VEVENT
DTSTART;TZID=Europe/Brussels:20250612T093000
DTEND;TZID=Europe/Brussels:20250612T170000
DTSTAMP:20260421T141105
CREATED:20200530T142819Z
LAST-MODIFIED:20251120T104613Z
UID:10001411-1749720600-1749747600@www.ibk.be
SUMMARY:Analyse Transactionnelle - Approfondissement
DESCRIPTION:[vc_row][vc_column][vc_column_text]Ceci est une des 10 dates d’un même cours commençant le 19/09/2024 et se poursuivant\, en 2024\, les 24/10\, 14/11 et 12/12 et en 2025\, 09/01\, 06/02\, 20/03\, 17/04\, 15/05 et le 12/06. Merci de veiller à vous inscrire uniquement à la première date.[/vc_column_text][/vc_column][/vc_row]
URL:https://www.ibk.be/evenement/analyse-transactionnelle-approfondissement-3/2025-06-12/
LOCATION:IBK Rixensart\, avenue Paul Nicodème\, 26\, Rixensart\, 1330\, Belgique
CATEGORIES:AT - Approfondissement - deuxième et troisième années
END:VEVENT
BEGIN:VEVENT
DTSTART;TZID=Europe/Brussels:20250614T093000
DTEND;TZID=Europe/Brussels:20250615T180000
DTSTAMP:20260421T141105
CREATED:20210607T071413Z
LAST-MODIFIED:20251125T141502Z
UID:10001536-1749893400-1750010400@www.ibk.be
SUMMARY:TFH Proficiency (Examen)
DESCRIPTION: 
URL:https://www.ibk.be/evenement/tfh-proficiency-examen-7/
LOCATION:IBK Rixensart\, avenue Paul Nicodème\, 26\, Rixensart\, 1330\, Belgique
CATEGORIES:TFH Proficiency
END:VEVENT
BEGIN:VEVENT
DTSTART;TZID=Europe/Brussels:20250616T093000
DTEND;TZID=Europe/Brussels:20250616T170000
DTSTAMP:20260421T141105
CREATED:20210824T073307Z
LAST-MODIFIED:20251125T133030Z
UID:10001673-1750066200-1750093200@www.ibk.be
SUMMARY:Pratique supervisée SR 1-3 + préparation à l'examen
DESCRIPTION:
URL:https://www.ibk.be/evenement/pratique-supervisee-sr-1-3-preparation-a-lexamen-2/
LOCATION:IBK Rixensart\, avenue Paul Nicodème\, 26\, Rixensart\, 1330\, Belgique
CATEGORIES:Pratiques de base,Pratiques supervisées Wellness Kinesiology
END:VEVENT
BEGIN:VEVENT
DTSTART;TZID=Europe/Brussels:20250617T170000
DTEND;TZID=Europe/Brussels:20250617T190000
DTSTAMP:20260421T141105
CREATED:20210824T082850Z
LAST-MODIFIED:20240924T095427Z
UID:10001429-1750179600-1750186800@www.ibk.be
SUMMARY:Supervision EFT 2 - Online
DESCRIPTION:[vc_row][vc_column][vc_column_text][/vc_column_text][/vc_column][/vc_row]
URL:https://www.ibk.be/evenement/supervision-eft-2-online-11/
LOCATION:Online\, Belgique
CATEGORIES:Supervision en EFT
END:VEVENT
BEGIN:VEVENT
DTSTART;TZID=Europe/Brussels:20250618T090000
DTEND;TZID=Europe/Brussels:20250618T170000
DTSTAMP:20260421T141105
CREATED:20210826T093904Z
LAST-MODIFIED:20240614T101047Z
UID:10001711-1750237200-1750266000@www.ibk.be
SUMMARY:Examen Final
DESCRIPTION:
URL:https://www.ibk.be/evenement/examen-final-9/
LOCATION:IBK Rixensart\, avenue Paul Nicodème\, 26\, Rixensart\, 1330\, Belgique
CATEGORIES:Examens Finaux/Mémoires
END:VEVENT
BEGIN:VEVENT
DTSTART;TZID=Europe/Brussels:20250618T090000
DTEND;TZID=Europe/Brussels:20250618T170000
DTSTAMP:20260421T141105
CREATED:20220719T103715Z
LAST-MODIFIED:20241211T102710Z
UID:10001906-1750237200-1750266000@www.ibk.be
SUMMARY:Relecture des études de cas (kinésio)
DESCRIPTION:Les études de cas dans le cadre des examens finaux doivent être : \n\ncommencées au plus tard 6 mois avant la date de votre examen (maximum 1 séance d’étude cas avant le cours de CE 3)\net terminées au plus tard 3 mois avant la date de votre examen. \n\nPrix : \n– 100 EUR pour la relecture d’1 étude de cas (càd 4 séances)\n– 200 EUR pour la relecture de 2 études de cas (càd 2 fois 4 séances)
URL:https://www.ibk.be/evenement/relecture-des-etudes-de-cas/
LOCATION:Online\, Belgique
CATEGORIES:Examens Finaux/Mémoires
END:VEVENT
BEGIN:VEVENT
DTSTART;TZID=Europe/Brussels:20250618T090000
DTEND;TZID=Europe/Brussels:20250618T170000
DTSTAMP:20260421T141105
CREATED:20220719T103715Z
LAST-MODIFIED:20251120T104704Z
UID:10001903-1750237200-1750266000@www.ibk.be
SUMMARY:Présentation du mémoire
DESCRIPTION:Le mémoire doit être imprimé en 4 exemplaires et envoyé au plus tard 8 semaines avant la date de passage de l’examen.
URL:https://www.ibk.be/evenement/presentation-du-memoire-7/
LOCATION:IBK Rixensart\, avenue Paul Nicodème\, 26\, Rixensart\, 1330\, Belgique
CATEGORIES:Examens Finaux/Mémoires
END:VEVENT
BEGIN:VEVENT
DTSTART;TZID=Europe/Brussels:20250619T090000
DTEND;TZID=Europe/Brussels:20250619T170000
DTSTAMP:20260421T141105
CREATED:20210826T093904Z
LAST-MODIFIED:20241119T100840Z
UID:10001717-1750323600-1750352400@www.ibk.be
SUMMARY:Examen Final
DESCRIPTION:
URL:https://www.ibk.be/evenement/examen-final-10/
LOCATION:IBK Rixensart\, avenue Paul Nicodème\, 26\, Rixensart\, 1330\, Belgique
CATEGORIES:Examens Finaux/Mémoires
END:VEVENT
BEGIN:VEVENT
DTSTART;TZID=Europe/Brussels:20250619T090000
DTEND;TZID=Europe/Brussels:20250619T170000
DTSTAMP:20260421T141105
CREATED:20220719T103715Z
LAST-MODIFIED:20251120T104704Z
UID:10001904-1750323600-1750352400@www.ibk.be
SUMMARY:Présentation du mémoire
DESCRIPTION:Le mémoire doit être imprimé en 4 exemplaires et envoyé au plus tard 8 semaines avant la date de passage de l’examen.
URL:https://www.ibk.be/evenement/presentation-du-memoire-8/
LOCATION:IBK Rixensart\, avenue Paul Nicodème\, 26\, Rixensart\, 1330\, Belgique
CATEGORIES:Examens Finaux/Mémoires
END:VEVENT
BEGIN:VEVENT
DTSTART;TZID=Europe/Brussels:20250620T183000
DTEND;TZID=Europe/Brussels:20250622T180000
DTSTAMP:20260421T141105
CREATED:20220110T085130Z
LAST-MODIFIED:20251125T131012Z
UID:10001511-1750444200-1750615200@www.ibk.be
SUMMARY:Stress Release 1
DESCRIPTION:Horaires du week-end : Vendredi de 18h30 à 21h30 – Samedi et Dimanche de 9h30 à 18h00
URL:https://www.ibk.be/evenement/stress-release-1-7/
LOCATION:IBK Rixensart\, avenue Paul Nicodème\, 26\, Rixensart\, 1330\, Belgique
CATEGORIES:Stress Release 1
ATTACH;FMTTYPE=image/jpeg:https://www.ibk.be/wp-content/uploads/2025/11/SR.jpg
END:VEVENT
BEGIN:VEVENT
DTSTART;TZID=Europe/Brussels:20250623T090000
DTEND;TZID=Europe/Brussels:20250623T170000
DTSTAMP:20260421T141105
CREATED:20210826T093904Z
LAST-MODIFIED:20240704T063618Z
UID:10001718-1750669200-1750698000@www.ibk.be
SUMMARY:Examen Final
DESCRIPTION:
URL:https://www.ibk.be/evenement/examen-final-11/
LOCATION:IBK Rixensart\, avenue Paul Nicodème\, 26\, Rixensart\, 1330\, Belgique
CATEGORIES:Examens Finaux/Mémoires
END:VEVENT
BEGIN:VEVENT
DTSTART;TZID=Europe/Brussels:20250623T090000
DTEND;TZID=Europe/Brussels:20250623T170000
DTSTAMP:20260421T141105
CREATED:20220719T103715Z
LAST-MODIFIED:20251120T104704Z
UID:10001905-1750669200-1750698000@www.ibk.be
SUMMARY:Présentation du mémoire
DESCRIPTION:Le mémoire doit être imprimé en 4 exemplaires et envoyé au plus tard 8 semaines avant la date de passage de l’examen.
URL:https://www.ibk.be/evenement/presentation-du-memoire-9/
LOCATION:IBK Rixensart\, avenue Paul Nicodème\, 26\, Rixensart\, 1330\, Belgique
CATEGORIES:Examens Finaux/Mémoires
END:VEVENT
BEGIN:VEVENT
DTSTART;TZID=Europe/Brussels:20250623T090000
DTEND;TZID=Europe/Brussels:20250623T170000
DTSTAMP:20260421T141105
CREATED:20220719T103715Z
LAST-MODIFIED:20241211T102718Z
UID:10001908-1750669200-1750698000@www.ibk.be
SUMMARY:Relecture des études de cas (kinésio)
DESCRIPTION:Les études de cas dans le cadre des examens finaux doivent être : \n\ncommencées au plus tard 6 mois avant la date de votre examen (maximum 1 séance d’étude cas avant le cours de CE 3)\net terminées au plus tard 3 mois avant la date de votre examen. \n\nPrix : \n– 100 EUR pour la relecture d’1 étude de cas (càd 4 séances)\n– 200 EUR pour la relecture de 2 études de cas (càd 2 fois 4 séances)
URL:https://www.ibk.be/evenement/relecture-des-etudes-de-cas-3/
LOCATION:Online\, Belgique
CATEGORIES:Examens Finaux/Mémoires
END:VEVENT
BEGIN:VEVENT
DTSTART;TZID=Europe/Brussels:20250625T093000
DTEND;TZID=Europe/Brussels:20250625T123000
DTSTAMP:20260421T141105
CREATED:20210824T073307Z
LAST-MODIFIED:20240614T100830Z
UID:10001674-1750843800-1750854600@www.ibk.be
SUMMARY:Examen de SR 1-3
DESCRIPTION:
URL:https://www.ibk.be/evenement/examen-de-sr-1-3-3/
LOCATION:IBK Rixensart\, avenue Paul Nicodème\, 26\, Rixensart\, 1330\, Belgique
CATEGORIES:Pratiques de base,Pratiques supervisées Wellness Kinesiology
END:VEVENT
BEGIN:VEVENT
DTSTART;TZID=Europe/Brussels:20250627T093000
DTEND;TZID=Europe/Brussels:20250627T170000
DTSTAMP:20260421T141105
CREATED:20210824T081216Z
LAST-MODIFIED:20251125T133030Z
UID:10001676-1751016600-1751043600@www.ibk.be
SUMMARY:Pratique supervisée CK 1-3 + préparation à l'examen
DESCRIPTION:[vc_row][vc_column][vc_column_text][/vc_column_text][/vc_column][/vc_row]
URL:https://www.ibk.be/evenement/pratique-supervisee-ck-1-3-preparation-a-lexamen-3/
LOCATION:IBK Rixensart\, avenue Paul Nicodème\, 26\, Rixensart\, 1330\, Belgique
CATEGORIES:Pratiques de base,Pratiques supervisées Core Kinesiology
END:VEVENT
BEGIN:VEVENT
DTSTART;TZID=Europe/Brussels:20250627T183000
DTEND;TZID=Europe/Brussels:20250629T180000
DTSTAMP:20260421T141105
CREATED:20220110T084146Z
LAST-MODIFIED:20240619T075828Z
UID:10001755-1751049000-1751220000@www.ibk.be
SUMMARY:Touch for Health 1
DESCRIPTION:[vc_row][vc_column][vc_column_text]Horaires du week-end : Vendredi de 18h30 à 21h30 – Samedi et Dimanche de 9h30 à 18h00[/vc_column_text][/vc_column][/vc_row]
URL:https://www.ibk.be/evenement/touch-for-health-1-10/
LOCATION:IBK Rixensart\, avenue Paul Nicodème\, 26\, Rixensart\, 1330\, Belgique
CATEGORIES:Touch for Health 1
END:VEVENT
END:VCALENDAR