BEGIN:VCALENDAR
VERSION:2.0
PRODID:-//IBK - ECPv6.15.18//NONSGML v1.0//EN
CALSCALE:GREGORIAN
METHOD:PUBLISH
X-ORIGINAL-URL:https://www.ibk.be
X-WR-CALDESC:Évènements pour IBK
REFRESH-INTERVAL;VALUE=DURATION:PT1H
X-Robots-Tag:noindex
X-PUBLISHED-TTL:PT1H
BEGIN:VTIMEZONE
TZID:Europe/Brussels
BEGIN:DAYLIGHT
TZOFFSETFROM:+0100
TZOFFSETTO:+0200
TZNAME:CEST
DTSTART:20240331T010000
END:DAYLIGHT
BEGIN:STANDARD
TZOFFSETFROM:+0200
TZOFFSETTO:+0100
TZNAME:CET
DTSTART:20241027T010000
END:STANDARD
BEGIN:DAYLIGHT
TZOFFSETFROM:+0100
TZOFFSETTO:+0200
TZNAME:CEST
DTSTART:20250330T010000
END:DAYLIGHT
BEGIN:STANDARD
TZOFFSETFROM:+0200
TZOFFSETTO:+0100
TZNAME:CET
DTSTART:20251026T010000
END:STANDARD
BEGIN:DAYLIGHT
TZOFFSETFROM:+0100
TZOFFSETTO:+0200
TZNAME:CEST
DTSTART:20260329T010000
END:DAYLIGHT
BEGIN:STANDARD
TZOFFSETFROM:+0200
TZOFFSETTO:+0100
TZNAME:CET
DTSTART:20261025T010000
END:STANDARD
END:VTIMEZONE
BEGIN:VEVENT
DTSTART;TZID=Europe/Brussels:20250501T091500
DTEND;TZID=Europe/Brussels:20250504T180000
DTSTAMP:20260421T135449
CREATED:20240314T112059Z
LAST-MODIFIED:20251120T104704Z
UID:10001964-1746090900-1746381600@www.ibk.be
SUMMARY:IMP 1 – Alphabet du mouvement (ADM)
DESCRIPTION:Matériel : merci d’amener votre tapis de sol et des coussins (le cours se travaille au sol). Prévoir également une tenue souple\, une gourde et de quoi écrire
URL:https://www.ibk.be/evenement/imp-1-alphabet-du-mouvement-adm/
LOCATION:IBK Rixensart\, avenue Paul Nicodème\, 26\, Rixensart\, 1330\, Belgique
CATEGORIES:IMP 1 - Alphabet du mouvement (ADM)
END:VEVENT
BEGIN:VEVENT
DTSTART;TZID=Europe/Brussels:20250508T140000
DTEND;TZID=Europe/Brussels:20250508T183000
DTSTAMP:20260421T135449
CREATED:20200530T142819Z
LAST-MODIFIED:20251125T123714Z
UID:10001210-1746712800-1746729000@www.ibk.be
SUMMARY:Anatomie du Système Musculo-Squelettique
DESCRIPTION:Ceci est une des 12 dates d’un même cours commençant le 19/09/24 et se poursuivant\, en 2024\, les 26/09 – 24/10 – 21/11 – 28/11 – 05/12 et en 2025\, les 09/01 – 20/02 – 27/02 – 20/03 – 03/04 – 08/05. Merci de veiller à vous inscrire uniquement à la première date.
URL:https://www.ibk.be/evenement/anatomie-du-systeme-musculo-squelettique/2025-05-08/
LOCATION:IBK Rixensart\, avenue Paul Nicodème\, 26\, Rixensart\, 1330\, Belgique
CATEGORIES:Système Musculo-Squelettique
ATTACH;FMTTYPE=image/jpeg:https://www.ibk.be/wp-content/uploads/2024/02/Illustration-Anatomie-SMS-2b-scaled.jpg
END:VEVENT
BEGIN:VEVENT
DTSTART;TZID=Europe/Brussels:20250509T093000
DTEND;TZID=Europe/Brussels:20250511T180000
DTSTAMP:20260421T135449
CREATED:20220110T100550Z
LAST-MODIFIED:20240513T102142Z
UID:10001793-1746783000-1746986400@www.ibk.be
SUMMARY:EFT 2
DESCRIPTION:[vc_row][vc_column][vc_column_text]EFT 2 est un cours de 3 jours complets. L’horaire des 3 journées de cours est de 9h30 à 18h00.[/vc_column_text][/vc_column][/vc_row]
URL:https://www.ibk.be/evenement/eft-2/
LOCATION:IBK Rixensart\, avenue Paul Nicodème\, 26\, Rixensart\, 1330\, Belgique
CATEGORIES:EFT 2
END:VEVENT
BEGIN:VEVENT
DTSTART;TZID=Europe/Brussels:20250510T093000
DTEND;TZID=Europe/Brussels:20250511T183000
DTSTAMP:20260421T135449
CREATED:20220110T103319Z
LAST-MODIFIED:20251120T104005Z
UID:10001810-1746869400-1746988200@www.ibk.be
SUMMARY:Touch for Health 4
DESCRIPTION:[vc_row][vc_column][vc_column_text] \n\n\n\n\n\n\n\n\n\nHoraires du week-end : Samedi et Dimanche de 9h30 à 18h30 \n\n\n\n\n\n\n\n\n\n[/vc_column_text][/vc_column][/vc_row]
URL:https://www.ibk.be/evenement/touch-for-health-4-6/
LOCATION:IBK Rixensart\, avenue Paul Nicodème\, 26\, Rixensart\, 1330\, Belgique
CATEGORIES:Touch for Health 4
END:VEVENT
BEGIN:VEVENT
DTSTART;TZID=Europe/Brussels:20250512T093000
DTEND;TZID=Europe/Brussels:20250514T180000
DTSTAMP:20260421T135449
CREATED:20220502T072824Z
LAST-MODIFIED:20251125T155522Z
UID:10001658-1747042200-1747245600@www.ibk.be
SUMMARY:SIPS 7
DESCRIPTION:[vc_row][vc_column][vc_column_text][/vc_column_text][/vc_column][/vc_row]
URL:https://www.ibk.be/evenement/sips-7-2/
LOCATION:IBK Rixensart\, avenue Paul Nicodème\, 26\, Rixensart\, 1330\, Belgique
CATEGORIES:SIPS 7
END:VEVENT
BEGIN:VEVENT
DTSTART;TZID=Europe/Brussels:20250512T180000
DTEND;TZID=Europe/Brussels:20250512T213000
DTSTAMP:20260421T135449
CREATED:20210812T051231Z
LAST-MODIFIED:20240619T074449Z
UID:10001378-1747072800-1747085400@www.ibk.be
SUMMARY:Énergie Tibétaine
DESCRIPTION:
URL:https://www.ibk.be/evenement/energie-tibetaine-3/
LOCATION:IBK Rixensart\, avenue Paul Nicodème\, 26\, Rixensart\, 1330\, Belgique
CATEGORIES:Energie et Vitalité Tibétaines
END:VEVENT
BEGIN:VEVENT
DTSTART;TZID=Europe/Brussels:20250515T093000
DTEND;TZID=Europe/Brussels:20250515T170000
DTSTAMP:20260421T135449
CREATED:20200530T142819Z
LAST-MODIFIED:20251120T104613Z
UID:10001410-1747301400-1747328400@www.ibk.be
SUMMARY:Analyse Transactionnelle - Approfondissement
DESCRIPTION:[vc_row][vc_column][vc_column_text]Ceci est une des 10 dates d’un même cours commençant le 19/09/2024 et se poursuivant\, en 2024\, les 24/10\, 14/11 et 12/12 et en 2025\, 09/01\, 06/02\, 20/03\, 17/04\, 15/05 et le 12/06. Merci de veiller à vous inscrire uniquement à la première date.[/vc_column_text][/vc_column][/vc_row]
URL:https://www.ibk.be/evenement/analyse-transactionnelle-approfondissement-3/2025-05-15/
LOCATION:IBK Rixensart\, avenue Paul Nicodème\, 26\, Rixensart\, 1330\, Belgique
CATEGORIES:AT - Approfondissement - deuxième et troisième années
END:VEVENT
BEGIN:VEVENT
DTSTART;TZID=Europe/Brussels:20250515T193000
DTEND;TZID=Europe/Brussels:20250515T213000
DTSTAMP:20260421T135449
CREATED:20220110T080352Z
LAST-MODIFIED:20250416T092037Z
UID:10002084-1747337400-1747344600@www.ibk.be
SUMMARY:Porte Ouverte
DESCRIPTION:Vous avez la possibilité de participer à la soirée Portes Ouvertes en présentiel\, ou en visio.  \nPour les personnes qui viennent en présentiel\, il y aura la possibilité de visiter l’école\, et de participer aux exercices pratiques. \nMerci de préciser dans le formulaire ci-dessous\, dans la zone remarque\, si vous souhaitez participer en présentiel ou en visio. \n 
URL:https://www.ibk.be/evenement/porte-ouverte-6/
LOCATION:IBK Rixensart\, avenue Paul Nicodème\, 26\, Rixensart\, 1330\, Belgique
CATEGORIES:Portes Ouvertes
END:VEVENT
BEGIN:VEVENT
DTSTART;TZID=Europe/Brussels:20250516T093000
DTEND;TZID=Europe/Brussels:20250518T180000
DTSTAMP:20260421T135449
CREATED:20220502T072824Z
LAST-MODIFIED:20251125T155522Z
UID:10001660-1747387800-1747591200@www.ibk.be
SUMMARY:SIPS 8
DESCRIPTION:[vc_row][vc_column][vc_column_text][/vc_column_text][/vc_column][/vc_row]
URL:https://www.ibk.be/evenement/sips-8-2/
LOCATION:IBK Rixensart\, avenue Paul Nicodème\, 26\, Rixensart\, 1330\, Belgique
CATEGORIES:SIPS 8
END:VEVENT
BEGIN:VEVENT
DTSTART;TZID=Europe/Brussels:20250520T093000
DTEND;TZID=Europe/Brussels:20250522T180000
DTSTAMP:20260421T135449
CREATED:20230628T072350Z
LAST-MODIFIED:20251125T155521Z
UID:10001948-1747733400-1747936800@www.ibk.be
SUMMARY:SIPS The Gut – Brain Axis
DESCRIPTION:
URL:https://www.ibk.be/evenement/sips-the-gut-brain-axis/
LOCATION:IBK Rixensart\, avenue Paul Nicodème\, 26\, Rixensart\, 1330\, Belgique
CATEGORIES:SIPS The Gut - Brain Axis
END:VEVENT
BEGIN:VEVENT
DTSTART;TZID=Europe/Brussels:20250522T093000
DTEND;TZID=Europe/Brussels:20250522T170000
DTSTAMP:20260421T135449
CREATED:20200530T142819Z
LAST-MODIFIED:20251120T104612Z
UID:10001420-1747906200-1747933200@www.ibk.be
SUMMARY:Analyse Transactionnelle - Base
DESCRIPTION:[vc_row][vc_column][vc_column_text css= » »]Ceci est une des 10 dates d’un même cours commençant le 16 janvier 2025 et se poursuivant\, les  30/01\, 13/02\, 21/02\, 13/03\, 27/03\, 10/04\, 24/04\, 22/05 et 05/06. Merci de veiller à vous inscrire uniquement à la première date.[/vc_column_text][/vc_column][/vc_row]
URL:https://www.ibk.be/evenement/analyse-transactionnelle-base-3/2025-05-22/
LOCATION:IBK Rixensart\, avenue Paul Nicodème\, 26\, Rixensart\, 1330\, Belgique
CATEGORIES:AT - Base - première année
END:VEVENT
BEGIN:VEVENT
DTSTART;TZID=Europe/Brussels:20250523T183000
DTEND;TZID=Europe/Brussels:20250525T180000
DTSTAMP:20260421T135449
CREATED:20220110T104012Z
LAST-MODIFIED:20251125T130931Z
UID:10001820-1748025000-1748196000@www.ibk.be
SUMMARY:Stress Release 3
DESCRIPTION:Horaires du week-end : Vendredi de 18h30 à 21h30 – Samedi et Dimanche de 9h30 à 18h00
URL:https://www.ibk.be/evenement/stress-release-3-8/
LOCATION:IBK Rixensart\, avenue Paul Nicodème\, 26\, Rixensart\, 1330\, Belgique
CATEGORIES:Stress Release 3
ATTACH;FMTTYPE=image/jpeg:https://www.ibk.be/wp-content/uploads/2025/11/SR.jpg
END:VEVENT
BEGIN:VEVENT
DTSTART;TZID=Europe/Brussels:20250524T093000
DTEND;TZID=Europe/Brussels:20250526T180000
DTSTAMP:20260421T135449
CREATED:20200529T065129Z
LAST-MODIFIED:20251120T103917Z
UID:10001326-1748079000-1748282400@www.ibk.be
SUMMARY:Psychogénéalogie - Faits Historiques - PG 7
DESCRIPTION:
URL:https://www.ibk.be/evenement/psychogenealogie-faits-historiques-pg-7-2/
LOCATION:IBK Rixensart\, avenue Paul Nicodème\, 26\, Rixensart\, 1330\, Belgique
CATEGORIES:PG 7 - Impact des faits historiques sur notre clan
END:VEVENT
END:VCALENDAR