BEGIN:VCALENDAR
VERSION:2.0
PRODID:-//IBK - ECPv6.15.18//NONSGML v1.0//EN
CALSCALE:GREGORIAN
METHOD:PUBLISH
X-WR-CALNAME:IBK
X-ORIGINAL-URL:https://www.ibk.be
X-WR-CALDESC:Évènements pour IBK
REFRESH-INTERVAL;VALUE=DURATION:PT1H
X-Robots-Tag:noindex
X-PUBLISHED-TTL:PT1H
BEGIN:VTIMEZONE
TZID:Europe/Brussels
BEGIN:DAYLIGHT
TZOFFSETFROM:+0100
TZOFFSETTO:+0200
TZNAME:CEST
DTSTART:20240331T010000
END:DAYLIGHT
BEGIN:STANDARD
TZOFFSETFROM:+0200
TZOFFSETTO:+0100
TZNAME:CET
DTSTART:20241027T010000
END:STANDARD
BEGIN:DAYLIGHT
TZOFFSETFROM:+0100
TZOFFSETTO:+0200
TZNAME:CEST
DTSTART:20250330T010000
END:DAYLIGHT
BEGIN:STANDARD
TZOFFSETFROM:+0200
TZOFFSETTO:+0100
TZNAME:CET
DTSTART:20251026T010000
END:STANDARD
BEGIN:DAYLIGHT
TZOFFSETFROM:+0100
TZOFFSETTO:+0200
TZNAME:CEST
DTSTART:20260329T010000
END:DAYLIGHT
BEGIN:STANDARD
TZOFFSETFROM:+0200
TZOFFSETTO:+0100
TZNAME:CET
DTSTART:20261025T010000
END:STANDARD
END:VTIMEZONE
BEGIN:VEVENT
DTSTART;TZID=Europe/Brussels:20250402T093000
DTEND;TZID=Europe/Brussels:20250402T160000
DTSTAMP:20260421T112424
CREATED:20220501T115955Z
LAST-MODIFIED:20240322T102057Z
UID:10001888-1743586200-1743609600@www.ibk.be
SUMMARY:TRE - initiation
DESCRIPTION:Matériel à amener : un ou plusieurs coussins\, une couverture et un tapis de sol (type tapis de yoga)
URL:https://www.ibk.be/evenement/tre-initiation-3/
LOCATION:IBK Rixensart\, avenue Paul Nicodème\, 26\, Rixensart\, 1330\, Belgique
CATEGORIES:Tension Release Exercises
END:VEVENT
BEGIN:VEVENT
DTSTART;TZID=Europe/Brussels:20250402T180000
DTEND;TZID=Europe/Brussels:20250402T203000
DTSTAMP:20260421T112424
CREATED:20220317T104631Z
LAST-MODIFIED:20251125T134030Z
UID:10001830-1743616800-1743625800@www.ibk.be
SUMMARY:PTT de base - Online
DESCRIPTION:Ceci est une des 4 dates d’un même cours commençant le 2/04/2025 et se poursuivant les 9/04\, 16/04 et 23/04/2025 (de 18h00 à 20h30). Merci de veiller à vous inscrire uniquement à la première date. \nLe prix du cours est de 275 EUR pour les personnes habitant en Belgique et France.\nIl est de 295 EUR pour les personnes habitant au Canada et en Suisse (frais d’envoi du manuel inclus).
URL:https://www.ibk.be/evenement/ptt-de-base-online-2/2025-04-02/
LOCATION:Online\, Belgique
CATEGORIES:PTT de base,Picture Tapping Technique (PTT)
ATTACH;FMTTYPE=image/jpeg:https://www.ibk.be/wp-content/uploads/2022/03/PTT.jpg
END:VEVENT
BEGIN:VEVENT
DTSTART;TZID=Europe/Brussels:20250403T140000
DTEND;TZID=Europe/Brussels:20250403T183000
DTSTAMP:20260421T112424
CREATED:20200530T142819Z
LAST-MODIFIED:20251125T123714Z
UID:10001209-1743688800-1743705000@www.ibk.be
SUMMARY:Anatomie du Système Musculo-Squelettique
DESCRIPTION:Ceci est une des 12 dates d’un même cours commençant le 19/09/24 et se poursuivant\, en 2024\, les 26/09 – 24/10 – 21/11 – 28/11 – 05/12 et en 2025\, les 09/01 – 20/02 – 27/02 – 20/03 – 03/04 – 08/05. Merci de veiller à vous inscrire uniquement à la première date.
URL:https://www.ibk.be/evenement/anatomie-du-systeme-musculo-squelettique/2025-04-03/
LOCATION:IBK Rixensart\, avenue Paul Nicodème\, 26\, Rixensart\, 1330\, Belgique
CATEGORIES:Système Musculo-Squelettique
ATTACH;FMTTYPE=image/jpeg:https://www.ibk.be/wp-content/uploads/2024/02/Illustration-Anatomie-SMS-2b-scaled.jpg
END:VEVENT
BEGIN:VEVENT
DTSTART;TZID=Europe/Brussels:20250403T193000
DTEND;TZID=Europe/Brussels:20250403T213000
DTSTAMP:20260421T112424
CREATED:20220110T080352Z
LAST-MODIFIED:20250225T070319Z
UID:10001739-1743708600-1743715800@www.ibk.be
SUMMARY:Webinaire interactif
DESCRIPTION:[vc_row][vc_column][vc_column_text css= » »] \nAu programme : \n\nPrésentation de l’IBK et de ses formations spécialisées.\nDécouverte de certains outils pratiques en Kinésiologie et Tapping\, que vous pourrez appliquer dans votre quotidien dès maintenant !\nRencontre avec nos formateurs : une occasion de poser toutes vos questions en direct.\n\n[/vc_column_text][/vc_column][/vc_row]
URL:https://www.ibk.be/evenement/porte-ouverte-10/
LOCATION:Online\, Belgique
CATEGORIES:Portes Ouvertes
END:VEVENT
BEGIN:VEVENT
DTSTART;TZID=Europe/Brussels:20250404T093000
DTEND;TZID=Europe/Brussels:20250407T180000
DTSTAMP:20260421T112424
CREATED:20220718T093716Z
LAST-MODIFIED:20251125T140252Z
UID:10001895-1743759000-1744048800@www.ibk.be
SUMMARY:TFH en pratique
DESCRIPTION:Matériel à amener : vos manuels de TFH\, le Topoguide\, le livret « TFH en pratique » et un long foulard de type écharpe
URL:https://www.ibk.be/evenement/tfh-en-pratique-3/
LOCATION:IBK Rixensart\, avenue Paul Nicodème\, 26\, Rixensart\, 1330\, Belgique
CATEGORIES:TFH en pratique
END:VEVENT
BEGIN:VEVENT
DTSTART;TZID=Europe/Brussels:20250404T183000
DTEND;TZID=Europe/Brussels:20250406T180000
DTSTAMP:20260421T112424
CREATED:20220110T094618Z
LAST-MODIFIED:20251120T104036Z
UID:10001778-1743791400-1743962400@www.ibk.be
SUMMARY:Corps Énergie 1
DESCRIPTION:[vc_row][vc_column][vc_column_text]Horaires du week-end : Vendredi de 18h30 à 21h30 – Samedi et Dimanche de 9h30 à 18h00[/vc_column_text][/vc_column][/vc_row]
URL:https://www.ibk.be/evenement/corps-energie-1-6/
LOCATION:IBK Rixensart\, avenue Paul Nicodème\, 26\, Rixensart\, 1330\, Belgique
CATEGORIES:Corps Énergie 1
END:VEVENT
BEGIN:VEVENT
DTSTART;TZID=Europe/Brussels:20250409T093000
DTEND;TZID=Europe/Brussels:20250409T180000
DTSTAMP:20260421T112424
CREATED:20210126T062329Z
LAST-MODIFIED:20240819T094732Z
UID:10001427-1744191000-1744221600@www.ibk.be
SUMMARY:De la communication efficace à la formulation de l’objectif
DESCRIPTION:[vc_row][vc_column][vc_column_text css= » »]Ceci est une des 2 dates d’un même cours commençant le 09/04/2025 et se poursuivant le 16/04/2025. Merci de veiller à vous inscrire uniquement à la première date.[/vc_column_text][/vc_column][/vc_row]
URL:https://www.ibk.be/evenement/de-la-communication-efficace-a-la-formulation-de-lobjectif/2025-04-09/
LOCATION:IBK Rixensart\, avenue Paul Nicodème\, 26\, Rixensart\, 1330\, Belgique
CATEGORIES:De la communication efficace à la formulation de l’objectif
END:VEVENT
BEGIN:VEVENT
DTSTART;TZID=Europe/Brussels:20250409T180000
DTEND;TZID=Europe/Brussels:20250409T203000
DTSTAMP:20260421T112424
CREATED:20220317T104631Z
LAST-MODIFIED:20251125T134030Z
UID:10001831-1744221600-1744230600@www.ibk.be
SUMMARY:PTT de base - Online
DESCRIPTION:Ceci est une des 4 dates d’un même cours commençant le 2/04/2025 et se poursuivant les 9/04\, 16/04 et 23/04/2025 (de 18h00 à 20h30). Merci de veiller à vous inscrire uniquement à la première date. \nLe prix du cours est de 275 EUR pour les personnes habitant en Belgique et France.\nIl est de 295 EUR pour les personnes habitant au Canada et en Suisse (frais d’envoi du manuel inclus).
URL:https://www.ibk.be/evenement/ptt-de-base-online-2/2025-04-09/
LOCATION:Online\, Belgique
CATEGORIES:PTT de base,Picture Tapping Technique (PTT)
ATTACH;FMTTYPE=image/jpeg:https://www.ibk.be/wp-content/uploads/2022/03/PTT.jpg
END:VEVENT
BEGIN:VEVENT
DTSTART;TZID=Europe/Brussels:20250410T093000
DTEND;TZID=Europe/Brussels:20250410T170000
DTSTAMP:20260421T112424
CREATED:20200530T142819Z
LAST-MODIFIED:20251120T104612Z
UID:10001418-1744277400-1744304400@www.ibk.be
SUMMARY:Analyse Transactionnelle - Base
DESCRIPTION:[vc_row][vc_column][vc_column_text css= » »]Ceci est une des 10 dates d’un même cours commençant le 16 janvier 2025 et se poursuivant\, les  30/01\, 13/02\, 21/02\, 13/03\, 27/03\, 10/04\, 24/04\, 22/05 et 05/06. Merci de veiller à vous inscrire uniquement à la première date.[/vc_column_text][/vc_column][/vc_row]
URL:https://www.ibk.be/evenement/analyse-transactionnelle-base-3/2025-04-10/
LOCATION:IBK Rixensart\, avenue Paul Nicodème\, 26\, Rixensart\, 1330\, Belgique
CATEGORIES:AT - Base - première année
END:VEVENT
BEGIN:VEVENT
DTSTART;TZID=Europe/Brussels:20250411T093000
DTEND;TZID=Europe/Brussels:20250413T180000
DTSTAMP:20260421T112424
CREATED:20210606T071838Z
LAST-MODIFIED:20240314T111249Z
UID:10001498-1744363800-1744567200@www.ibk.be
SUMMARY:SIPS 6
DESCRIPTION:[vc_row][vc_column][vc_column_text][/vc_column_text][/vc_column][/vc_row]
URL:https://www.ibk.be/evenement/sips-6-4/
LOCATION:IBK Rixensart\, avenue Paul Nicodème\, 26\, Rixensart\, 1330\, Belgique
CATEGORIES:SIPS 6
END:VEVENT
BEGIN:VEVENT
DTSTART;TZID=Europe/Brussels:20250411T183000
DTEND;TZID=Europe/Brussels:20250413T180000
DTSTAMP:20260421T112424
CREATED:20220110T101011Z
LAST-MODIFIED:20251120T104005Z
UID:10001800-1744396200-1744567200@www.ibk.be
SUMMARY:Touch for Health 3
DESCRIPTION:[vc_row][vc_column][vc_column_text]Horaires du week-end : Vendredi de 18h30 à 21h30 – Samedi et Dimanche de 9h30 à 18h00[/vc_column_text][/vc_column][/vc_row]
URL:https://www.ibk.be/evenement/touch-for-health-3/
LOCATION:IBK Rixensart\, avenue Paul Nicodème\, 26\, Rixensart\, 1330\, Belgique
CATEGORIES:Touch for Health 3
END:VEVENT
BEGIN:VEVENT
DTSTART;TZID=Europe/Brussels:20250414T093000
DTEND;TZID=Europe/Brussels:20250415T160000
DTSTAMP:20260421T112424
CREATED:20240308T091047Z
LAST-MODIFIED:20240723T093126Z
UID:10001961-1744623000-1744732800@www.ibk.be
SUMMARY:Comprendre pour mieux communiquer lors de la prise en charge des traumatismes
DESCRIPTION:
URL:https://www.ibk.be/evenement/trauma-comprendre-pour-une-meilleure-prise-en-charge-2/
LOCATION:IBK Rixensart\, avenue Paul Nicodème\, 26\, Rixensart\, 1330\, Belgique
CATEGORIES:Comprendre pour mieux communiquer lors de la prise en charge des traumatismes
END:VEVENT
BEGIN:VEVENT
DTSTART;TZID=Europe/Brussels:20250415T173000
DTEND;TZID=Europe/Brussels:20250415T203000
DTSTAMP:20260421T112424
CREATED:20211102T082132Z
LAST-MODIFIED:20240418T072757Z
UID:10001481-1744738200-1744749000@www.ibk.be
SUMMARY:Soirée Q/R Instructeurs SR 1-3 avec W. Topping – Online
DESCRIPTION:
URL:https://www.ibk.be/evenement/soiree-q-r-instructeurs-sr-1-3-avec-w-topping-online-5/
LOCATION:Online\, Belgique
CATEGORIES:Soirées Q/R Instructeurs SR 1-3 (W. Topping) - Online - Q/A Instructor SR 1-3 online evening
END:VEVENT
BEGIN:VEVENT
DTSTART;TZID=Europe/Brussels:20250416T093000
DTEND;TZID=Europe/Brussels:20250416T180000
DTSTAMP:20260421T112424
CREATED:20210126T062329Z
LAST-MODIFIED:20240819T094732Z
UID:10001428-1744795800-1744826400@www.ibk.be
SUMMARY:De la communication efficace à la formulation de l’objectif
DESCRIPTION:[vc_row][vc_column][vc_column_text css= » »]Ceci est une des 2 dates d’un même cours commençant le 09/04/2025 et se poursuivant le 16/04/2025. Merci de veiller à vous inscrire uniquement à la première date.[/vc_column_text][/vc_column][/vc_row]
URL:https://www.ibk.be/evenement/de-la-communication-efficace-a-la-formulation-de-lobjectif/2025-04-16/
LOCATION:IBK Rixensart\, avenue Paul Nicodème\, 26\, Rixensart\, 1330\, Belgique
CATEGORIES:De la communication efficace à la formulation de l’objectif
END:VEVENT
BEGIN:VEVENT
DTSTART;TZID=Europe/Brussels:20250416T180000
DTEND;TZID=Europe/Brussels:20250416T203000
DTSTAMP:20260421T112424
CREATED:20220317T104631Z
LAST-MODIFIED:20251125T134030Z
UID:10001832-1744826400-1744835400@www.ibk.be
SUMMARY:PTT de base - Online
DESCRIPTION:Ceci est une des 4 dates d’un même cours commençant le 2/04/2025 et se poursuivant les 9/04\, 16/04 et 23/04/2025 (de 18h00 à 20h30). Merci de veiller à vous inscrire uniquement à la première date. \nLe prix du cours est de 275 EUR pour les personnes habitant en Belgique et France.\nIl est de 295 EUR pour les personnes habitant au Canada et en Suisse (frais d’envoi du manuel inclus).
URL:https://www.ibk.be/evenement/ptt-de-base-online-2/2025-04-16/
LOCATION:Online\, Belgique
CATEGORIES:PTT de base,Picture Tapping Technique (PTT)
ATTACH;FMTTYPE=image/jpeg:https://www.ibk.be/wp-content/uploads/2022/03/PTT.jpg
END:VEVENT
BEGIN:VEVENT
DTSTART;TZID=Europe/Brussels:20250417T093000
DTEND;TZID=Europe/Brussels:20250417T170000
DTSTAMP:20260421T112424
CREATED:20200530T142819Z
LAST-MODIFIED:20251120T104613Z
UID:10001409-1744882200-1744909200@www.ibk.be
SUMMARY:Analyse Transactionnelle - Approfondissement
DESCRIPTION:[vc_row][vc_column][vc_column_text]Ceci est une des 10 dates d’un même cours commençant le 19/09/2024 et se poursuivant\, en 2024\, les 24/10\, 14/11 et 12/12 et en 2025\, 09/01\, 06/02\, 20/03\, 17/04\, 15/05 et le 12/06. Merci de veiller à vous inscrire uniquement à la première date.[/vc_column_text][/vc_column][/vc_row]
URL:https://www.ibk.be/evenement/analyse-transactionnelle-approfondissement-3/2025-04-17/
LOCATION:IBK Rixensart\, avenue Paul Nicodème\, 26\, Rixensart\, 1330\, Belgique
CATEGORIES:AT - Approfondissement - deuxième et troisième années
END:VEVENT
BEGIN:VEVENT
DTSTART;TZID=Europe/Brussels:20250418T093000
DTEND;TZID=Europe/Brussels:20250418T180000
DTSTAMP:20260421T112424
CREATED:20240125T100700Z
LAST-MODIFIED:20251120T104319Z
UID:10001958-1744968600-1744999200@www.ibk.be
SUMMARY:EFT 3
DESCRIPTION:Ceci est une des 3 dates d’un même cours commençant le 14/03/2025 et se poursuivant les 21/03/2025 et 18/04/2025. Merci de veiller à vous inscrire uniquement à la première date.
URL:https://www.ibk.be/evenement/eft-3/2025-04-18/
LOCATION:IBK Rixensart\, avenue Paul Nicodème\, 26\, Rixensart\, 1330\, Belgique
CATEGORIES:EFT 3
END:VEVENT
BEGIN:VEVENT
DTSTART;TZID=Europe/Brussels:20250423T093000
DTEND;TZID=Europe/Brussels:20250423T170000
DTSTAMP:20260421T112424
CREATED:20210824T080931Z
LAST-MODIFIED:20240717T091543Z
UID:10001393-1745400600-1745427600@www.ibk.be
SUMMARY:Pratique supervisée CE 1
DESCRIPTION:[vc_row][vc_column][vc_column_text][/vc_column_text][/vc_column][/vc_row]
URL:https://www.ibk.be/evenement/pratique-supervisee-ce-1-5/
LOCATION:IBK Rixensart\, avenue Paul Nicodème\, 26\, Rixensart\, 1330\, Belgique
CATEGORIES:Pratiques de base,Pratiques supervisées Corps Énergie
END:VEVENT
BEGIN:VEVENT
DTSTART;TZID=Europe/Brussels:20250423T180000
DTEND;TZID=Europe/Brussels:20250423T203000
DTSTAMP:20260421T112424
CREATED:20220317T104631Z
LAST-MODIFIED:20251125T134030Z
UID:10001833-1745431200-1745440200@www.ibk.be
SUMMARY:PTT de base - Online
DESCRIPTION:Ceci est une des 4 dates d’un même cours commençant le 2/04/2025 et se poursuivant les 9/04\, 16/04 et 23/04/2025 (de 18h00 à 20h30). Merci de veiller à vous inscrire uniquement à la première date. \nLe prix du cours est de 275 EUR pour les personnes habitant en Belgique et France.\nIl est de 295 EUR pour les personnes habitant au Canada et en Suisse (frais d’envoi du manuel inclus).
URL:https://www.ibk.be/evenement/ptt-de-base-online-2/2025-04-23/
LOCATION:Online\, Belgique
CATEGORIES:PTT de base,Picture Tapping Technique (PTT)
ATTACH;FMTTYPE=image/jpeg:https://www.ibk.be/wp-content/uploads/2022/03/PTT.jpg
END:VEVENT
BEGIN:VEVENT
DTSTART;TZID=Europe/Brussels:20250424T093000
DTEND;TZID=Europe/Brussels:20250424T170000
DTSTAMP:20260421T112424
CREATED:20200530T142819Z
LAST-MODIFIED:20251120T104612Z
UID:10001419-1745487000-1745514000@www.ibk.be
SUMMARY:Analyse Transactionnelle - Base
DESCRIPTION:[vc_row][vc_column][vc_column_text css= » »]Ceci est une des 10 dates d’un même cours commençant le 16 janvier 2025 et se poursuivant\, les  30/01\, 13/02\, 21/02\, 13/03\, 27/03\, 10/04\, 24/04\, 22/05 et 05/06. Merci de veiller à vous inscrire uniquement à la première date.[/vc_column_text][/vc_column][/vc_row]
URL:https://www.ibk.be/evenement/analyse-transactionnelle-base-3/2025-04-24/
LOCATION:IBK Rixensart\, avenue Paul Nicodème\, 26\, Rixensart\, 1330\, Belgique
CATEGORIES:AT - Base - première année
END:VEVENT
BEGIN:VEVENT
DTSTART;TZID=Europe/Brussels:20250425T093000
DTEND;TZID=Europe/Brussels:20250425T170000
DTSTAMP:20260421T112424
CREATED:20210824T081216Z
LAST-MODIFIED:20240717T091624Z
UID:10001675-1745573400-1745600400@www.ibk.be
SUMMARY:Pratique supervisée CK 1-2
DESCRIPTION:[vc_row][vc_column][vc_column_text][/vc_column_text][/vc_column][/vc_row]
URL:https://www.ibk.be/evenement/pratique-supervisee-ck-1-2-6/
LOCATION:IBK Rixensart\, avenue Paul Nicodème\, 26\, Rixensart\, 1330\, Belgique
CATEGORIES:Pratiques de base,Pratiques supervisées Core Kinesiology
END:VEVENT
BEGIN:VEVENT
DTSTART;TZID=Europe/Brussels:20250426T093000
DTEND;TZID=Europe/Brussels:20250427T180000
DTSTAMP:20260421T112424
CREATED:20220110T101843Z
LAST-MODIFIED:20251125T140539Z
UID:10001801-1745659800-1745776800@www.ibk.be
SUMMARY:Core Kinesiology 3
DESCRIPTION:
URL:https://www.ibk.be/evenement/core-kinesiology-3-5/
LOCATION:IBK Rixensart\, avenue Paul Nicodème\, 26\, Rixensart\, 1330\, Belgique
CATEGORIES:Core Kinesiology 3
END:VEVENT
END:VCALENDAR