BEGIN:VCALENDAR
VERSION:2.0
PRODID:-//IBK - ECPv6.15.18//NONSGML v1.0//EN
CALSCALE:GREGORIAN
METHOD:PUBLISH
X-WR-CALNAME:IBK
X-ORIGINAL-URL:https://www.ibk.be
X-WR-CALDESC:Évènements pour IBK
REFRESH-INTERVAL;VALUE=DURATION:PT1H
X-Robots-Tag:noindex
X-PUBLISHED-TTL:PT1H
BEGIN:VTIMEZONE
TZID:Europe/Brussels
BEGIN:DAYLIGHT
TZOFFSETFROM:+0100
TZOFFSETTO:+0200
TZNAME:CEST
DTSTART:20240331T010000
END:DAYLIGHT
BEGIN:STANDARD
TZOFFSETFROM:+0200
TZOFFSETTO:+0100
TZNAME:CET
DTSTART:20241027T010000
END:STANDARD
BEGIN:DAYLIGHT
TZOFFSETFROM:+0100
TZOFFSETTO:+0200
TZNAME:CEST
DTSTART:20250330T010000
END:DAYLIGHT
BEGIN:STANDARD
TZOFFSETFROM:+0200
TZOFFSETTO:+0100
TZNAME:CET
DTSTART:20251026T010000
END:STANDARD
BEGIN:DAYLIGHT
TZOFFSETFROM:+0100
TZOFFSETTO:+0200
TZNAME:CEST
DTSTART:20260329T010000
END:DAYLIGHT
BEGIN:STANDARD
TZOFFSETFROM:+0200
TZOFFSETTO:+0100
TZNAME:CET
DTSTART:20261025T010000
END:STANDARD
END:VTIMEZONE
BEGIN:VEVENT
DTSTART;TZID=Europe/Brussels:20250106T090000
DTEND;TZID=Europe/Brussels:20250106T170000
DTSTAMP:20260421T060536
CREATED:20220719T103715Z
LAST-MODIFIED:20251125T133543Z
UID:10001910-1736154000-1736182800@www.ibk.be
SUMMARY:Relecture des études de cas (EFT)
DESCRIPTION:Le prix est de 100EUR pour la relecture de 4 études de cas.
URL:https://www.ibk.be/evenement/relecture-des-etudes-de-cas-en-eft/
LOCATION:Online\, Belgique
CATEGORIES:Certification en EFT
END:VEVENT
BEGIN:VEVENT
DTSTART;TZID=Europe/Brussels:20250106T093000
DTEND;TZID=Europe/Brussels:20250108T170000
DTSTAMP:20260421T060536
CREATED:20200525T065451Z
LAST-MODIFIED:20251120T104613Z
UID:10001302-1736155800-1736355600@www.ibk.be
SUMMARY:Analyse Transactionnelle - Cours 101
DESCRIPTION:
URL:https://www.ibk.be/evenement/analyse-transactionnelle-cours-101-2/
LOCATION:IBK Rixensart\, avenue Paul Nicodème\, 26\, Rixensart\, 1330\, Belgique
CATEGORIES:AT - Introduction - cours 101
END:VEVENT
BEGIN:VEVENT
DTSTART;TZID=Europe/Brussels:20250106T093000
DTEND;TZID=Europe/Brussels:20250108T180000
DTSTAMP:20260421T060536
CREATED:20220501T002600Z
LAST-MODIFIED:20251125T155522Z
UID:10001853-1736155800-1736359200@www.ibk.be
SUMMARY:SIPS 1
DESCRIPTION:[vc_row][vc_column][vc_column_text][/vc_column_text][/vc_column][/vc_row]
URL:https://www.ibk.be/evenement/sips-1-6/
LOCATION:IBK Rixensart\, avenue Paul Nicodème\, 26\, Rixensart\, 1330\, Belgique
CATEGORIES:SIPS 1
END:VEVENT
BEGIN:VEVENT
DTSTART;TZID=Europe/Brussels:20250108T140000
DTEND;TZID=Europe/Brussels:20250108T183000
DTSTAMP:20260421T060536
CREATED:20210702T101018Z
LAST-MODIFIED:20251125T154008Z
UID:10001579-1736344800-1736361000@www.ibk.be
SUMMARY:Anatomie Système Musculo-Squelettique
DESCRIPTION:Ceci est une des 12 dates d’un même cours commençant le 2/10/2025 et se poursuivant les 16/10\, 6/11\, 13/11\, 27/11\, 11/12/2025 et les 8/01\, 5/02\, 5/03\, 26/03\, 23/04\, et 21/05/2026. Merci de veiller à vous inscrire uniquement à la première date.
URL:https://www.ibk.be/evenement/anatomie-systeme-musculo-squelettique/2025-01-08/
LOCATION:IBK Rixensart\, avenue Paul Nicodème\, 26\, Rixensart\, 1330\, Belgique
CATEGORIES:Système Musculo-Squelettique
ATTACH;FMTTYPE=image/jpeg:https://www.ibk.be/wp-content/uploads/2024/02/Illustration-Anatomie-SMS-2b-scaled.jpg
END:VEVENT
BEGIN:VEVENT
DTSTART;TZID=Europe/Brussels:20250109T093000
DTEND;TZID=Europe/Brussels:20250109T170000
DTSTAMP:20260421T060536
CREATED:20200530T142819Z
LAST-MODIFIED:20251120T104613Z
UID:10001406-1736415000-1736442000@www.ibk.be
SUMMARY:Analyse Transactionnelle - Approfondissement
DESCRIPTION:[vc_row][vc_column][vc_column_text]Ceci est une des 10 dates d’un même cours commençant le 19/09/2024 et se poursuivant\, en 2024\, les 24/10\, 14/11 et 12/12 et en 2025\, 09/01\, 06/02\, 20/03\, 17/04\, 15/05 et le 12/06. Merci de veiller à vous inscrire uniquement à la première date.[/vc_column_text][/vc_column][/vc_row]
URL:https://www.ibk.be/evenement/analyse-transactionnelle-approfondissement-3/2025-01-09/
LOCATION:IBK Rixensart\, avenue Paul Nicodème\, 26\, Rixensart\, 1330\, Belgique
CATEGORIES:AT - Approfondissement - deuxième et troisième années
END:VEVENT
BEGIN:VEVENT
DTSTART;TZID=Europe/Brussels:20250109T140000
DTEND;TZID=Europe/Brussels:20250109T183000
DTSTAMP:20260421T060536
CREATED:20200530T142819Z
LAST-MODIFIED:20251125T123714Z
UID:10001205-1736431200-1736447400@www.ibk.be
SUMMARY:Anatomie du Système Musculo-Squelettique
DESCRIPTION:Ceci est une des 12 dates d’un même cours commençant le 19/09/24 et se poursuivant\, en 2024\, les 26/09 – 24/10 – 21/11 – 28/11 – 05/12 et en 2025\, les 09/01 – 20/02 – 27/02 – 20/03 – 03/04 – 08/05. Merci de veiller à vous inscrire uniquement à la première date.
URL:https://www.ibk.be/evenement/anatomie-du-systeme-musculo-squelettique/2025-01-09/
LOCATION:IBK Rixensart\, avenue Paul Nicodème\, 26\, Rixensart\, 1330\, Belgique
CATEGORIES:Système Musculo-Squelettique
ATTACH;FMTTYPE=image/jpeg:https://www.ibk.be/wp-content/uploads/2024/02/Illustration-Anatomie-SMS-2b-scaled.jpg
END:VEVENT
BEGIN:VEVENT
DTSTART;TZID=Europe/Brussels:20250110T093000
DTEND;TZID=Europe/Brussels:20250112T180000
DTSTAMP:20260421T060536
CREATED:20220110T102939Z
LAST-MODIFIED:20240411T101442Z
UID:10001805-1736501400-1736704800@www.ibk.be
SUMMARY:8 Merveilleux Vaisseaux
DESCRIPTION:
URL:https://www.ibk.be/evenement/8-merveilleux-vaisseaux-3/
LOCATION:IBK Rixensart\, avenue Paul Nicodème\, 26\, Rixensart\, 1330\, Belgique
CATEGORIES:8 Merveilleux Vaisseaux
END:VEVENT
BEGIN:VEVENT
DTSTART;TZID=Europe/Brussels:20250113T093000
DTEND;TZID=Europe/Brussels:20250113T154500
DTSTAMP:20260421T060536
CREATED:20210126T063350Z
LAST-MODIFIED:20251120T104036Z
UID:10001267-1736760600-1736783100@www.ibk.be
SUMMARY:Corps Energie 1 de semaine
DESCRIPTION:Ceci est une des 3 dates d’un même cours commençant le 13/01/25 et se poursuivant les 20/01/25 et 27/01/25. Merci de veiller à vous inscrire uniquement à la première date. \n 
URL:https://www.ibk.be/evenement/corps-energie-1-de-semaine-4/2025-01-13/
LOCATION:IBK Rixensart\, avenue Paul Nicodème\, 26\, Rixensart\, 1330\, Belgique
CATEGORIES:Corps Énergie 1
END:VEVENT
BEGIN:VEVENT
DTSTART;TZID=Europe/Brussels:20250115T093000
DTEND;TZID=Europe/Brussels:20250115T170000
DTSTAMP:20260421T060536
CREATED:20210824T070055Z
LAST-MODIFIED:20251125T140252Z
UID:10001383-1736933400-1736960400@www.ibk.be
SUMMARY:Pratique supervisée TFH 1-4 et préparation à l'examen
DESCRIPTION:
URL:https://www.ibk.be/evenement/pratique-supervisee-tfh-1-4-et-preparation-a-lexamen-2/
LOCATION:IBK Rixensart\, avenue Paul Nicodème\, 26\, Rixensart\, 1330\, Belgique
CATEGORIES:Pratiques de base,Pratiques supervisées TFH
END:VEVENT
BEGIN:VEVENT
DTSTART;TZID=Europe/Brussels:20250116T093000
DTEND;TZID=Europe/Brussels:20250116T170000
DTSTAMP:20260421T060536
CREATED:20200530T142819Z
LAST-MODIFIED:20251120T104612Z
UID:10001412-1737019800-1737046800@www.ibk.be
SUMMARY:Analyse Transactionnelle - Base
DESCRIPTION:[vc_row][vc_column][vc_column_text css= » »]Ceci est une des 10 dates d’un même cours commençant le 16 janvier 2025 et se poursuivant\, les  30/01\, 13/02\, 21/02\, 13/03\, 27/03\, 10/04\, 24/04\, 22/05 et 05/06. Merci de veiller à vous inscrire uniquement à la première date.[/vc_column_text][/vc_column][/vc_row]
URL:https://www.ibk.be/evenement/analyse-transactionnelle-base-3/2025-01-16/
LOCATION:IBK Rixensart\, avenue Paul Nicodème\, 26\, Rixensart\, 1330\, Belgique
CATEGORIES:AT - Base - première année
END:VEVENT
BEGIN:VEVENT
DTSTART;TZID=Europe/Brussels:20250116T193000
DTEND;TZID=Europe/Brussels:20250116T213000
DTSTAMP:20260421T060536
CREATED:20220110T080352Z
LAST-MODIFIED:20240618T085038Z
UID:10001738-1737055800-1737063000@www.ibk.be
SUMMARY:Porte Ouverte
DESCRIPTION:
URL:https://www.ibk.be/evenement/porte-ouverte/
LOCATION:IBK Rixensart\, avenue Paul Nicodème\, 26\, Rixensart\, 1330\, Belgique
CATEGORIES:Portes Ouvertes
END:VEVENT
BEGIN:VEVENT
DTSTART;TZID=Europe/Brussels:20250118T093000
DTEND;TZID=Europe/Brussels:20250119T180000
DTSTAMP:20260421T060536
CREATED:20220501T003020Z
LAST-MODIFIED:20251125T132611Z
UID:10001860-1737192600-1737309600@www.ibk.be
SUMMARY:TFH Métaphores et Établissement de l’Objectif
DESCRIPTION:[vc_row][vc_column][vc_column_text][/vc_column_text][/vc_column][/vc_row]
URL:https://www.ibk.be/evenement/tfh-metaphores/
LOCATION:IBK Rixensart\, avenue Paul Nicodème\, 26\, Rixensart\, 1330\, Belgique
CATEGORIES:TFH Métaphores et Etablissement de l'Objectif
END:VEVENT
BEGIN:VEVENT
DTSTART;TZID=Europe/Brussels:20250120T093000
DTEND;TZID=Europe/Brussels:20250120T154500
DTSTAMP:20260421T060536
CREATED:20210126T063350Z
LAST-MODIFIED:20251120T104036Z
UID:10001268-1737365400-1737387900@www.ibk.be
SUMMARY:Corps Energie 1 de semaine
DESCRIPTION:Ceci est une des 3 dates d’un même cours commençant le 13/01/25 et se poursuivant les 20/01/25 et 27/01/25. Merci de veiller à vous inscrire uniquement à la première date. \n 
URL:https://www.ibk.be/evenement/corps-energie-1-de-semaine-4/2025-01-20/
LOCATION:IBK Rixensart\, avenue Paul Nicodème\, 26\, Rixensart\, 1330\, Belgique
CATEGORIES:Corps Énergie 1
END:VEVENT
BEGIN:VEVENT
DTSTART;TZID=Europe/Brussels:20250120T093000
DTEND;TZID=Europe/Brussels:20250122T183000
DTSTAMP:20260421T060536
CREATED:20220110T100211Z
LAST-MODIFIED:20251125T155522Z
UID:10001532-1737365400-1737570600@www.ibk.be
SUMMARY:SIPS 2
DESCRIPTION:
URL:https://www.ibk.be/evenement/sips-2-2/
LOCATION:IBK Rixensart\, avenue Paul Nicodème\, 26\, Rixensart\, 1330\, Belgique
CATEGORIES:SIPS 2
END:VEVENT
BEGIN:VEVENT
DTSTART;TZID=Europe/Brussels:20250123T093000
DTEND;TZID=Europe/Brussels:20250123T170000
DTSTAMP:20260421T060536
CREATED:20210824T081216Z
LAST-MODIFIED:20241118T103449Z
UID:10001678-1737624600-1737651600@www.ibk.be
SUMMARY:Pratique supervisée CK 3
DESCRIPTION:[vc_row][vc_column][vc_column_text][/vc_column_text][/vc_column][/vc_row]
URL:https://www.ibk.be/evenement/pratique-supervisee-ck-1-3/
LOCATION:IBK Rixensart\, avenue Paul Nicodème\, 26\, Rixensart\, 1330\, Belgique
CATEGORIES:Pratiques de base,Pratiques supervisées Core Kinesiology
END:VEVENT
BEGIN:VEVENT
DTSTART;TZID=Europe/Brussels:20250124T093000
DTEND;TZID=Europe/Brussels:20250124T170000
DTSTAMP:20260421T060536
CREATED:20210824T100612Z
LAST-MODIFIED:20241114T094159Z
UID:10001703-1737711000-1737738000@www.ibk.be
SUMMARY:S'installer comme kinésiologue
DESCRIPTION:
URL:https://www.ibk.be/evenement/sinstaller-comme-kinesiologue/
LOCATION:IBK Rixensart\, avenue Paul Nicodème\, 26\, Rixensart\, 1330\, Belgique
CATEGORIES:Pratiques professionnelles
END:VEVENT
BEGIN:VEVENT
DTSTART;TZID=Europe/Brussels:20250125T093000
DTEND;TZID=Europe/Brussels:20250126T170000
DTSTAMP:20260421T060536
CREATED:20220501T003453Z
LAST-MODIFIED:20251125T133543Z
UID:10001626-1737797400-1737910800@www.ibk.be
SUMMARY:EFT 1
DESCRIPTION:[vc_row][vc_column][vc_column_text][/vc_column_text][/vc_column][/vc_row]
URL:https://www.ibk.be/evenement/eft-1-5/
LOCATION:IBK Rixensart\, avenue Paul Nicodème\, 26\, Rixensart\, 1330\, Belgique
CATEGORIES:EFT 1
END:VEVENT
BEGIN:VEVENT
DTSTART;TZID=Europe/Brussels:20250125T093000
DTEND;TZID=Europe/Brussels:20250126T180000
DTSTAMP:20260421T060536
CREATED:20210607T071413Z
LAST-MODIFIED:20251125T141502Z
UID:10001535-1737797400-1737914400@www.ibk.be
SUMMARY:TFH Proficiency (Examen)
DESCRIPTION: 
URL:https://www.ibk.be/evenement/tfh-proficiency-examen-6/
LOCATION:IBK Rixensart\, avenue Paul Nicodème\, 26\, Rixensart\, 1330\, Belgique
CATEGORIES:TFH Proficiency
END:VEVENT
BEGIN:VEVENT
DTSTART;TZID=Europe/Brussels:20250127T093000
DTEND;TZID=Europe/Brussels:20250127T154500
DTSTAMP:20260421T060536
CREATED:20210126T063350Z
LAST-MODIFIED:20251120T104036Z
UID:10001269-1737970200-1737992700@www.ibk.be
SUMMARY:Corps Energie 1 de semaine
DESCRIPTION:Ceci est une des 3 dates d’un même cours commençant le 13/01/25 et se poursuivant les 20/01/25 et 27/01/25. Merci de veiller à vous inscrire uniquement à la première date. \n 
URL:https://www.ibk.be/evenement/corps-energie-1-de-semaine-4/2025-01-27/
LOCATION:IBK Rixensart\, avenue Paul Nicodème\, 26\, Rixensart\, 1330\, Belgique
CATEGORIES:Corps Énergie 1
END:VEVENT
BEGIN:VEVENT
DTSTART;TZID=Europe/Brussels:20250128T090000
DTEND;TZID=Europe/Brussels:20250128T130000
DTSTAMP:20260421T060536
CREATED:20220414T082520Z
LAST-MODIFIED:20241030T102507Z
UID:10001849-1738054800-1738069200@www.ibk.be
SUMMARY:Premiers Secours - Recyclage
DESCRIPTION:Le prix est de 95 EUR (90 EUR pour les élèves de l’IBK).
URL:https://www.ibk.be/evenement/premiers-secours-recyclage/
LOCATION:IBK Rixensart\, avenue Paul Nicodème\, 26\, Rixensart\, 1330\, Belgique
CATEGORIES:Premiers Secours - Recyclage,Sciences
END:VEVENT
BEGIN:VEVENT
DTSTART;TZID=Europe/Brussels:20250128T170000
DTEND;TZID=Europe/Brussels:20250128T190000
DTSTAMP:20260421T060536
CREATED:20210824T082850Z
LAST-MODIFIED:20251125T133543Z
UID:10001433-1738083600-1738090800@www.ibk.be
SUMMARY:Supervision EFT 2 - Online
DESCRIPTION:[vc_row][vc_column][vc_column_text][/vc_column_text][/vc_column][/vc_row]
URL:https://www.ibk.be/evenement/supervision-eft-2-online/
LOCATION:Online\, Belgique
CATEGORIES:Supervision en EFT
END:VEVENT
BEGIN:VEVENT
DTSTART;TZID=Europe/Brussels:20250129T093000
DTEND;TZID=Europe/Brussels:20250129T170000
DTSTAMP:20260421T060536
CREATED:20210824T084103Z
LAST-MODIFIED:20240717T091100Z
UID:10001695-1738143000-1738170000@www.ibk.be
SUMMARY:Pratique supervisée SIPS 1-2
DESCRIPTION:
URL:https://www.ibk.be/evenement/pratique-supervisee-sips-1-2-3/
LOCATION:IBK Rixensart\, avenue Paul Nicodème\, 26\, Rixensart\, 1330\, Belgique
CATEGORIES:Pratiques avancées,Pratiques supervisées SIPS
END:VEVENT
BEGIN:VEVENT
DTSTART;TZID=Europe/Brussels:20250129T093000
DTEND;TZID=Europe/Brussels:20250129T170000
DTSTAMP:20260421T060536
CREATED:20220501T010310Z
LAST-MODIFIED:20240411T101552Z
UID:10001632-1738143000-1738170000@www.ibk.be
SUMMARY:Sciences Energétiques
DESCRIPTION:[vc_row][vc_column][vc_column_text][/vc_column_text][/vc_column][/vc_row]
URL:https://www.ibk.be/evenement/sciences-energetiques-4/
LOCATION:IBK Rixensart\, avenue Paul Nicodème\, 26\, Rixensart\, 1330\, Belgique
CATEGORIES:Sciences Energétiques
END:VEVENT
BEGIN:VEVENT
DTSTART;TZID=Europe/Brussels:20250130T093000
DTEND;TZID=Europe/Brussels:20250130T170000
DTSTAMP:20260421T060536
CREATED:20200530T142819Z
LAST-MODIFIED:20251120T104612Z
UID:10001413-1738229400-1738256400@www.ibk.be
SUMMARY:Analyse Transactionnelle - Base
DESCRIPTION:[vc_row][vc_column][vc_column_text css= » »]Ceci est une des 10 dates d’un même cours commençant le 16 janvier 2025 et se poursuivant\, les  30/01\, 13/02\, 21/02\, 13/03\, 27/03\, 10/04\, 24/04\, 22/05 et 05/06. Merci de veiller à vous inscrire uniquement à la première date.[/vc_column_text][/vc_column][/vc_row]
URL:https://www.ibk.be/evenement/analyse-transactionnelle-base-3/2025-01-30/
LOCATION:IBK Rixensart\, avenue Paul Nicodème\, 26\, Rixensart\, 1330\, Belgique
CATEGORIES:AT - Base - première année
END:VEVENT
BEGIN:VEVENT
DTSTART;TZID=Europe/Brussels:20250130T093000
DTEND;TZID=Europe/Brussels:20250131T180000
DTSTAMP:20260421T060536
CREATED:20220501T011220Z
LAST-MODIFIED:20251125T155522Z
UID:10001866-1738229400-1738346400@www.ibk.be
SUMMARY:SIPS BAP
DESCRIPTION:[vc_row][vc_column][vc_column_text][/vc_column_text][/vc_column][/vc_row]
URL:https://www.ibk.be/evenement/sips-bap/
LOCATION:IBK Rixensart\, avenue Paul Nicodème\, 26\, Rixensart\, 1330\, Belgique
CATEGORIES:SIPS BAP
END:VEVENT
BEGIN:VEVENT
DTSTART;TZID=Europe/Brussels:20250130T183000
DTEND;TZID=Europe/Brussels:20250130T213000
DTSTAMP:20260421T060536
CREATED:20220110T084617Z
LAST-MODIFIED:20250128T083208Z
UID:10001504-1738261800-1738272600@www.ibk.be
SUMMARY:Équilibration par les couleurs - Online
DESCRIPTION:
URL:https://www.ibk.be/evenement/equilibration-par-les-couleurs-5/
LOCATION:Online\, Belgique
CATEGORIES:Équilibration par les couleurs
END:VEVENT
BEGIN:VEVENT
DTSTART;TZID=Europe/Brussels:20250131T183000
DTEND;TZID=Europe/Brussels:20250202T180000
DTSTAMP:20260421T060536
CREATED:20220110T085130Z
LAST-MODIFIED:20251125T130739Z
UID:10001510-1738348200-1738519200@www.ibk.be
SUMMARY:Stress Release 1
DESCRIPTION:Horaires du week-end : Vendredi de 18h30 à 21h30 – Samedi et Dimanche de 9h30 à 18h00
URL:https://www.ibk.be/evenement/stress-release-1-2/
LOCATION:IBK Rixensart\, avenue Paul Nicodème\, 26\, Rixensart\, 1330\, Belgique
CATEGORIES:Stress Release 1
ATTACH;FMTTYPE=image/jpeg:https://www.ibk.be/wp-content/uploads/2025/11/SR.jpg
END:VEVENT
END:VCALENDAR