BEGIN:VCALENDAR
VERSION:2.0
PRODID:-//IBK - ECPv6.15.18//NONSGML v1.0//EN
CALSCALE:GREGORIAN
METHOD:PUBLISH
X-ORIGINAL-URL:https://www.ibk.be
X-WR-CALDESC:Évènements pour IBK
REFRESH-INTERVAL;VALUE=DURATION:PT1H
X-Robots-Tag:noindex
X-PUBLISHED-TTL:PT1H
BEGIN:VTIMEZONE
TZID:Europe/Brussels
BEGIN:DAYLIGHT
TZOFFSETFROM:+0100
TZOFFSETTO:+0200
TZNAME:CEST
DTSTART:20230326T010000
END:DAYLIGHT
BEGIN:STANDARD
TZOFFSETFROM:+0200
TZOFFSETTO:+0100
TZNAME:CET
DTSTART:20231029T010000
END:STANDARD
BEGIN:DAYLIGHT
TZOFFSETFROM:+0100
TZOFFSETTO:+0200
TZNAME:CEST
DTSTART:20240331T010000
END:DAYLIGHT
BEGIN:STANDARD
TZOFFSETFROM:+0200
TZOFFSETTO:+0100
TZNAME:CET
DTSTART:20241027T010000
END:STANDARD
BEGIN:DAYLIGHT
TZOFFSETFROM:+0100
TZOFFSETTO:+0200
TZNAME:CEST
DTSTART:20250330T010000
END:DAYLIGHT
BEGIN:STANDARD
TZOFFSETFROM:+0200
TZOFFSETTO:+0100
TZNAME:CET
DTSTART:20251026T010000
END:STANDARD
END:VTIMEZONE
BEGIN:VEVENT
DTSTART;TZID=Europe/Brussels:20241104T090000
DTEND;TZID=Europe/Brussels:20241106T180000
DTSTAMP:20260421T024649
CREATED:20210607T075302Z
LAST-MODIFIED:20250303T085131Z
UID:10001313-1730710800-1730916000@www.ibk.be
SUMMARY:SIPS 5 à Genève
DESCRIPTION:[vc_row][vc_column][vc_column_text] \n\n\n\n\nCentre de Vernier\n\n\n\n\n\n1 chemin de Mouille-Galand\n1214 Vernier (Genève\, Suisse)\n1er étage proche de l’aéroport \n\n\n\nAccès en transport public: TPG 6\, 19\, 53\, 73 Arrêt Vernier-Village \n\n\n[/vc_column_text][/vc_column][/vc_row]
URL:https://www.ibk.be/evenement/sips-5-4/
LOCATION:Centre Equilibre Formation à Vernier\, 1 chemin de Mouille-Galand\, Vernier (Genève\, Suisse)\, 1214\, Suisse
CATEGORIES:SIPS 5
END:VEVENT
BEGIN:VEVENT
DTSTART;TZID=Europe/Brussels:20241104T093000
DTEND;TZID=Europe/Brussels:20241104T154500
DTSTAMP:20260421T024649
CREATED:20210126T062329Z
LAST-MODIFIED:20240618T093151Z
UID:10001249-1730712600-1730735100@www.ibk.be
SUMMARY:Touch for Health 2 de semaine
DESCRIPTION:[vc_row][vc_column][vc_column_text]Ceci est une des 3 dates d’un même cours commençant le 14/10/2024 et se poursuivant les 21/10/2024 et 04/11/2024. Merci de veiller à vous inscrire uniquement à la première date. \n\n[/vc_column_text][/vc_column][/vc_row][vc_row][vc_column][vc_column_text] \n\n[/vc_column_text][/vc_column][/vc_row]
URL:https://www.ibk.be/evenement/touch-for-health-2-de-semaine-6/2024-11-04/
LOCATION:IBK Rixensart\, avenue Paul Nicodème\, 26\, Rixensart\, 1330\, Belgique
CATEGORIES:Touch for Health 2
END:VEVENT
BEGIN:VEVENT
DTSTART;TZID=Europe/Brussels:20241105T093000
DTEND;TZID=Europe/Brussels:20241105T173000
DTSTAMP:20260421T024649
CREATED:20210126T062753Z
LAST-MODIFIED:20241022T084424Z
UID:10001454-1730799000-1730827800@www.ibk.be
SUMMARY:Stress Release 2 de semaine
DESCRIPTION:[vc_row][vc_column][vc_column_text]Ceci est une des 2 dates d’un même cours commençant le 05/11/24 et se poursuivant le 12/11/24. L’horaire de cours est de 9h30 à 17h30 pour les 2 journées.\nMerci de veiller à vous inscrire uniquement à la première date.[/vc_column_text][/vc_column][/vc_row]
URL:https://www.ibk.be/evenement/stress-release-2-de-semaine-4/2024-11-05/
LOCATION:IBK Rixensart\, avenue Paul Nicodème\, 26\, Rixensart\, 1330\, Belgique
CATEGORIES:Stress Release 2
END:VEVENT
BEGIN:VEVENT
DTSTART;TZID=Europe/Brussels:20241105T190000
DTEND;TZID=Europe/Brussels:20241105T210000
DTSTAMP:20260421T024649
CREATED:20220411T095335Z
LAST-MODIFIED:20251125T133543Z
UID:10001608-1730833200-1730840400@www.ibk.be
SUMMARY:EFT pour les Enfants - Online
DESCRIPTION:
URL:https://www.ibk.be/evenement/eft-pour-les-enfants-online-3/
LOCATION:Online\, Belgique
CATEGORIES:EFT pour les Enfants - Online
END:VEVENT
BEGIN:VEVENT
DTSTART;TZID=Europe/Brussels:20241106T093000
DTEND;TZID=Europe/Brussels:20241106T170000
DTSTAMP:20260421T024649
CREATED:20210824T070055Z
LAST-MODIFIED:20251125T140252Z
UID:10001384-1730885400-1730912400@www.ibk.be
SUMMARY:Pratique supervisée TFH 1-2
DESCRIPTION:
URL:https://www.ibk.be/evenement/pratique-supervisee-tfh-1-2/
LOCATION:IBK Rixensart\, avenue Paul Nicodème\, 26\, Rixensart\, 1330\, Belgique
CATEGORIES:Pratiques de base,Pratiques supervisées TFH
END:VEVENT
BEGIN:VEVENT
DTSTART;TZID=Europe/Brussels:20241106T093000
DTEND;TZID=Europe/Brussels:20241106T170000
DTSTAMP:20260421T024649
CREATED:20210824T084103Z
LAST-MODIFIED:20240717T085514Z
UID:10001697-1730885400-1730912400@www.ibk.be
SUMMARY:Pratique supervisée CE 2
DESCRIPTION:
URL:https://www.ibk.be/evenement/pratique-supervisee-ce-2-3/
LOCATION:IBK Rixensart\, avenue Paul Nicodème\, 26\, Rixensart\, 1330\, Belgique
CATEGORIES:Pratiques avancées,Pratiques supervisées Corps Énergie
END:VEVENT
BEGIN:VEVENT
DTSTART;TZID=Europe/Brussels:20241108T093000
DTEND;TZID=Europe/Brussels:20241111T180000
DTSTAMP:20260421T024649
CREATED:20220110T103605Z
LAST-MODIFIED:20251120T104035Z
UID:10001815-1731058200-1731348000@www.ibk.be
SUMMARY:Corps Énergie 3
DESCRIPTION:
URL:https://www.ibk.be/evenement/corps-energie-3-2/
LOCATION:IBK Rixensart\, avenue Paul Nicodème\, 26\, Rixensart\, 1330\, Belgique
CATEGORIES:Corps Énergie 3
END:VEVENT
BEGIN:VEVENT
DTSTART;TZID=Europe/Brussels:20241111T093000
DTEND;TZID=Europe/Brussels:20241111T154500
DTSTAMP:20260421T024649
CREATED:20220501T093619Z
LAST-MODIFIED:20251120T104004Z
UID:10001648-1731317400-1731339900@www.ibk.be
SUMMARY:Touch for Health 3 de semaine
DESCRIPTION:Ceci est une des 3 dates d’un même cours commençant le 11/11/2024 et se poursuivant les 18/11/2024 et 25/11/2024. Merci de veiller à vous inscrire uniquement à la première date.
URL:https://www.ibk.be/evenement/touch-for-health-3-de-semaine-6/2024-11-11/
LOCATION:IBK Rixensart\, avenue Paul Nicodème\, 26\, Rixensart\, 1330\, Belgique
CATEGORIES:Touch for Health 3
END:VEVENT
BEGIN:VEVENT
DTSTART;TZID=Europe/Brussels:20241111T173000
DTEND;TZID=Europe/Brussels:20241111T203000
DTSTAMP:20260421T024649
CREATED:20211102T082132Z
LAST-MODIFIED:20240228T084334Z
UID:10001479-1731346200-1731357000@www.ibk.be
SUMMARY:Soirée Q/R Instructeurs SR 1-3 avec W. Topping – Online
DESCRIPTION:
URL:https://www.ibk.be/evenement/soiree-q-r-instructeurs-sr-1-3-avec-w-topping-online-4/
LOCATION:Online\, Belgique
CATEGORIES:Soirées Q/R Instructeurs SR 1-3 (W. Topping) - Online - Q/A Instructor SR 1-3 online evening
END:VEVENT
BEGIN:VEVENT
DTSTART;TZID=Europe/Brussels:20241112T093000
DTEND;TZID=Europe/Brussels:20241112T173000
DTSTAMP:20260421T024649
CREATED:20210126T062753Z
LAST-MODIFIED:20241022T084424Z
UID:10001455-1731403800-1731432600@www.ibk.be
SUMMARY:Stress Release 2 de semaine
DESCRIPTION:[vc_row][vc_column][vc_column_text]Ceci est une des 2 dates d’un même cours commençant le 05/11/24 et se poursuivant le 12/11/24. L’horaire de cours est de 9h30 à 17h30 pour les 2 journées.\nMerci de veiller à vous inscrire uniquement à la première date.[/vc_column_text][/vc_column][/vc_row]
URL:https://www.ibk.be/evenement/stress-release-2-de-semaine-4/2024-11-12/
LOCATION:IBK Rixensart\, avenue Paul Nicodème\, 26\, Rixensart\, 1330\, Belgique
CATEGORIES:Stress Release 2
END:VEVENT
BEGIN:VEVENT
DTSTART;TZID=Europe/Brussels:20241112T170000
DTEND;TZID=Europe/Brussels:20241112T190000
DTSTAMP:20260421T024649
CREATED:20210824T082850Z
LAST-MODIFIED:20251125T133543Z
UID:10001425-1731430800-1731438000@www.ibk.be
SUMMARY:Supervision EFT 2 - Online
DESCRIPTION:[vc_row][vc_column][vc_column_text][/vc_column_text][/vc_column][/vc_row]
URL:https://www.ibk.be/evenement/supervision-eft-2-online-9/
LOCATION:Online\, Belgique
CATEGORIES:Supervision en EFT
END:VEVENT
BEGIN:VEVENT
DTSTART;TZID=Europe/Brussels:20241113T093000
DTEND;TZID=Europe/Brussels:20241113T170000
DTSTAMP:20260421T024649
CREATED:20210824T081216Z
LAST-MODIFIED:20240717T085906Z
UID:10001400-1731490200-1731517200@www.ibk.be
SUMMARY:Pratique supervisée CK 1-2
DESCRIPTION:[vc_row][vc_column][vc_column_text][/vc_column_text][/vc_column][/vc_row]
URL:https://www.ibk.be/evenement/pratique-supervisee-ck-1-2-3/
LOCATION:IBK Rixensart\, avenue Paul Nicodème\, 26\, Rixensart\, 1330\, Belgique
CATEGORIES:Pratiques de base,Pratiques supervisées Core Kinesiology
END:VEVENT
BEGIN:VEVENT
DTSTART;TZID=Europe/Brussels:20241114T093000
DTEND;TZID=Europe/Brussels:20241114T170000
DTSTAMP:20260421T024649
CREATED:20200530T142819Z
LAST-MODIFIED:20251120T104613Z
UID:10001404-1731576600-1731603600@www.ibk.be
SUMMARY:Analyse Transactionnelle - Approfondissement
DESCRIPTION:[vc_row][vc_column][vc_column_text]Ceci est une des 10 dates d’un même cours commençant le 19/09/2024 et se poursuivant\, en 2024\, les 24/10\, 14/11 et 12/12 et en 2025\, 09/01\, 06/02\, 20/03\, 17/04\, 15/05 et le 12/06. Merci de veiller à vous inscrire uniquement à la première date.[/vc_column_text][/vc_column][/vc_row]
URL:https://www.ibk.be/evenement/analyse-transactionnelle-approfondissement-3/2024-11-14/
LOCATION:IBK Rixensart\, avenue Paul Nicodème\, 26\, Rixensart\, 1330\, Belgique
CATEGORIES:AT - Approfondissement - deuxième et troisième années
END:VEVENT
BEGIN:VEVENT
DTSTART;TZID=Europe/Brussels:20241114T093000
DTEND;TZID=Europe/Brussels:20241114T180000
DTSTAMP:20260421T024649
CREATED:20240125T093035Z
LAST-MODIFIED:20251125T140539Z
UID:10001950-1731576600-1731607200@www.ibk.be
SUMMARY:Core Kinesiology Training Workshop
DESCRIPTION:Ceci est une des 6 dates d’un même cours commençant le 14/11 et se poursuivant les 21/11\, 28/11\, 5/12\, 12/12 et 20/12/2024. Merci de veiller à vous inscrire uniquement à la première date.
URL:https://www.ibk.be/evenement/core-kinesiology-training-workshop/2024-11-14/
LOCATION:IBK Rixensart\, avenue Paul Nicodème\, 26\, Rixensart\, 1330\, Belgique
CATEGORIES:Core Kinesiology Training Workshop
END:VEVENT
BEGIN:VEVENT
DTSTART;TZID=Europe/Brussels:20241115T093000
DTEND;TZID=Europe/Brussels:20241117T180000
DTSTAMP:20260421T024649
CREATED:20220501T002600Z
LAST-MODIFIED:20251125T155522Z
UID:10001852-1731663000-1731866400@www.ibk.be
SUMMARY:SIPS 1
DESCRIPTION:[vc_row][vc_column][vc_column_text][/vc_column_text][/vc_column][/vc_row]
URL:https://www.ibk.be/evenement/sips-1-2/
LOCATION:IBK Rixensart\, avenue Paul Nicodème\, 26\, Rixensart\, 1330\, Belgique
CATEGORIES:SIPS 1
END:VEVENT
BEGIN:VEVENT
DTSTART;TZID=Europe/Brussels:20241115T183000
DTEND;TZID=Europe/Brussels:20241117T180000
DTSTAMP:20260421T024649
CREATED:20220110T101011Z
LAST-MODIFIED:20251120T104006Z
UID:10001798-1731695400-1731866400@www.ibk.be
SUMMARY:Touch for Health 3
DESCRIPTION:[vc_row][vc_column][vc_column_text]Horaires du week-end : Vendredi de 18h30 à 21h30 – Samedi et Dimanche de 9h30 à 18h00[/vc_column_text][/vc_column][/vc_row]
URL:https://www.ibk.be/evenement/touch-for-health-3-2/
LOCATION:IBK Rixensart\, avenue Paul Nicodème\, 26\, Rixensart\, 1330\, Belgique
CATEGORIES:Touch for Health 3
END:VEVENT
BEGIN:VEVENT
DTSTART;TZID=Europe/Brussels:20241118T093000
DTEND;TZID=Europe/Brussels:20241118T154500
DTSTAMP:20260421T024649
CREATED:20220501T093619Z
LAST-MODIFIED:20251120T104004Z
UID:10001649-1731922200-1731944700@www.ibk.be
SUMMARY:Touch for Health 3 de semaine
DESCRIPTION:Ceci est une des 3 dates d’un même cours commençant le 11/11/2024 et se poursuivant les 18/11/2024 et 25/11/2024. Merci de veiller à vous inscrire uniquement à la première date.
URL:https://www.ibk.be/evenement/touch-for-health-3-de-semaine-6/2024-11-18/
LOCATION:IBK Rixensart\, avenue Paul Nicodème\, 26\, Rixensart\, 1330\, Belgique
CATEGORIES:Touch for Health 3
END:VEVENT
BEGIN:VEVENT
DTSTART;TZID=Europe/Brussels:20241120T093000
DTEND;TZID=Europe/Brussels:20241120T160000
DTSTAMP:20260421T024649
CREATED:20220501T115955Z
LAST-MODIFIED:20240322T102101Z
UID:10001887-1732095000-1732118400@www.ibk.be
SUMMARY:TRE - initiation
DESCRIPTION:[vc_row][vc_column][vc_column_text]Matériel à amener : un ou plusieurs coussins\, une couverture et un tapis de sol (type tapis de yoga)[/vc_column_text][/vc_column][/vc_row]
URL:https://www.ibk.be/evenement/tre-initiation-2/
LOCATION:IBK Rixensart\, avenue Paul Nicodème\, 26\, Rixensart\, 1330\, Belgique
CATEGORIES:Tension Release Exercises
END:VEVENT
BEGIN:VEVENT
DTSTART;TZID=Europe/Brussels:20241121T093000
DTEND;TZID=Europe/Brussels:20241121T180000
DTSTAMP:20260421T024649
CREATED:20240125T093035Z
LAST-MODIFIED:20251125T140539Z
UID:10001951-1732181400-1732212000@www.ibk.be
SUMMARY:Core Kinesiology Training Workshop
DESCRIPTION:Ceci est une des 6 dates d’un même cours commençant le 14/11 et se poursuivant les 21/11\, 28/11\, 5/12\, 12/12 et 20/12/2024. Merci de veiller à vous inscrire uniquement à la première date.
URL:https://www.ibk.be/evenement/core-kinesiology-training-workshop/2024-11-21/
LOCATION:IBK Rixensart\, avenue Paul Nicodème\, 26\, Rixensart\, 1330\, Belgique
CATEGORIES:Core Kinesiology Training Workshop
END:VEVENT
BEGIN:VEVENT
DTSTART;TZID=Europe/Brussels:20241121T140000
DTEND;TZID=Europe/Brussels:20241121T183000
DTSTAMP:20260421T024649
CREATED:20200530T142819Z
LAST-MODIFIED:20251125T123714Z
UID:10001202-1732197600-1732213800@www.ibk.be
SUMMARY:Anatomie du Système Musculo-Squelettique
DESCRIPTION:Ceci est une des 12 dates d’un même cours commençant le 19/09/24 et se poursuivant\, en 2024\, les 26/09 – 24/10 – 21/11 – 28/11 – 05/12 et en 2025\, les 09/01 – 20/02 – 27/02 – 20/03 – 03/04 – 08/05. Merci de veiller à vous inscrire uniquement à la première date.
URL:https://www.ibk.be/evenement/anatomie-du-systeme-musculo-squelettique/2024-11-21/
LOCATION:IBK Rixensart\, avenue Paul Nicodème\, 26\, Rixensart\, 1330\, Belgique
CATEGORIES:Système Musculo-Squelettique
ATTACH;FMTTYPE=image/jpeg:https://www.ibk.be/wp-content/uploads/2024/02/Illustration-Anatomie-SMS-2b-scaled.jpg
END:VEVENT
BEGIN:VEVENT
DTSTART;TZID=Europe/Brussels:20241122T093000
DTEND;TZID=Europe/Brussels:20241122T170000
DTSTAMP:20260421T024649
CREATED:20220413T072630Z
LAST-MODIFIED:20240125T095909Z
UID:10001843-1732267800-1732294800@www.ibk.be
SUMMARY:AT - Journée complémentaire cours 101
DESCRIPTION:
URL:https://www.ibk.be/evenement/at-journee-complementaire-cours-101-3/
LOCATION:IBK Rixensart\, avenue Paul Nicodème\, 26\, Rixensart\, 1330\, Belgique
CATEGORIES:AT - Journée complémentaire cours 101
END:VEVENT
BEGIN:VEVENT
DTSTART;TZID=Europe/Brussels:20241125T093000
DTEND;TZID=Europe/Brussels:20241125T154500
DTSTAMP:20260421T024649
CREATED:20220501T093619Z
LAST-MODIFIED:20251120T104004Z
UID:10001650-1732527000-1732549500@www.ibk.be
SUMMARY:Touch for Health 3 de semaine
DESCRIPTION:Ceci est une des 3 dates d’un même cours commençant le 11/11/2024 et se poursuivant les 18/11/2024 et 25/11/2024. Merci de veiller à vous inscrire uniquement à la première date.
URL:https://www.ibk.be/evenement/touch-for-health-3-de-semaine-6/2024-11-25/
LOCATION:IBK Rixensart\, avenue Paul Nicodème\, 26\, Rixensart\, 1330\, Belgique
CATEGORIES:Touch for Health 3
END:VEVENT
BEGIN:VEVENT
DTSTART;TZID=Europe/Brussels:20241126T180000
DTEND;TZID=Europe/Brussels:20241126T200000
DTSTAMP:20260421T024649
CREATED:20210624T062557Z
LAST-MODIFIED:20251125T133543Z
UID:10001555-1732644000-1732651200@www.ibk.be
SUMMARY:Atelier Pratique d'EFT 2 - Online
DESCRIPTION:[vc_row][vc_column][vc_column_text][/vc_column_text][/vc_column][/vc_row]
URL:https://www.ibk.be/evenement/atelier-pratique-deft-2-online-3/
LOCATION:Online\, Belgique
CATEGORIES:Atelier Pratique d'EFT 2 - Online
END:VEVENT
BEGIN:VEVENT
DTSTART;TZID=Europe/Brussels:20241126T180000
DTEND;TZID=Europe/Brussels:20241126T213000
DTSTAMP:20260421T024649
CREATED:20210812T051231Z
LAST-MODIFIED:20240618T095607Z
UID:10001377-1732644000-1732656600@www.ibk.be
SUMMARY:Énergie Tibétaine
DESCRIPTION:
URL:https://www.ibk.be/evenement/energie-tibetaine-2/
LOCATION:IBK Rixensart\, avenue Paul Nicodème\, 26\, Rixensart\, 1330\, Belgique
CATEGORIES:Energie et Vitalité Tibétaines
END:VEVENT
BEGIN:VEVENT
DTSTART;TZID=Europe/Brussels:20241128T093000
DTEND;TZID=Europe/Brussels:20241128T180000
DTSTAMP:20260421T024649
CREATED:20240125T093035Z
LAST-MODIFIED:20251125T140539Z
UID:10001952-1732786200-1732816800@www.ibk.be
SUMMARY:Core Kinesiology Training Workshop
DESCRIPTION:Ceci est une des 6 dates d’un même cours commençant le 14/11 et se poursuivant les 21/11\, 28/11\, 5/12\, 12/12 et 20/12/2024. Merci de veiller à vous inscrire uniquement à la première date.
URL:https://www.ibk.be/evenement/core-kinesiology-training-workshop/2024-11-28/
LOCATION:IBK Rixensart\, avenue Paul Nicodème\, 26\, Rixensart\, 1330\, Belgique
CATEGORIES:Core Kinesiology Training Workshop
END:VEVENT
BEGIN:VEVENT
DTSTART;TZID=Europe/Brussels:20241128T140000
DTEND;TZID=Europe/Brussels:20241128T183000
DTSTAMP:20260421T024649
CREATED:20200530T142819Z
LAST-MODIFIED:20251125T123714Z
UID:10001203-1732802400-1732818600@www.ibk.be
SUMMARY:Anatomie du Système Musculo-Squelettique
DESCRIPTION:Ceci est une des 12 dates d’un même cours commençant le 19/09/24 et se poursuivant\, en 2024\, les 26/09 – 24/10 – 21/11 – 28/11 – 05/12 et en 2025\, les 09/01 – 20/02 – 27/02 – 20/03 – 03/04 – 08/05. Merci de veiller à vous inscrire uniquement à la première date.
URL:https://www.ibk.be/evenement/anatomie-du-systeme-musculo-squelettique/2024-11-28/
LOCATION:IBK Rixensart\, avenue Paul Nicodème\, 26\, Rixensart\, 1330\, Belgique
CATEGORIES:Système Musculo-Squelettique
ATTACH;FMTTYPE=image/jpeg:https://www.ibk.be/wp-content/uploads/2024/02/Illustration-Anatomie-SMS-2b-scaled.jpg
END:VEVENT
BEGIN:VEVENT
DTSTART;TZID=Europe/Brussels:20241130T093000
DTEND;TZID=Europe/Brussels:20241201T180000
DTSTAMP:20260421T024649
CREATED:20220110T101843Z
LAST-MODIFIED:20251125T140539Z
UID:10001564-1732959000-1733076000@www.ibk.be
SUMMARY:Core Kinesiology 3
DESCRIPTION:
URL:https://www.ibk.be/evenement/core-kinesiology-3/
LOCATION:IBK Rixensart\, avenue Paul Nicodème\, 26\, Rixensart\, 1330\, Belgique
CATEGORIES:Core Kinesiology 3
END:VEVENT
BEGIN:VEVENT
DTSTART;TZID=Europe/Brussels:20241130T093000
DTEND;TZID=Europe/Brussels:20241202T180000
DTSTAMP:20260421T024649
CREATED:20200529T065129Z
LAST-MODIFIED:20251120T103917Z
UID:10001319-1732959000-1733162400@www.ibk.be
SUMMARY:Psychogénéalogie - Kilos - PG 9
DESCRIPTION:
URL:https://www.ibk.be/evenement/psychogenealogie-kilos-pg-9-2/
LOCATION:IBK Rixensart\, avenue Paul Nicodème\, 26\, Rixensart\, 1330\, Belgique
CATEGORIES:PG 9 - Les kilos - le poids des mémoires
END:VEVENT
END:VCALENDAR