BEGIN:VCALENDAR
VERSION:2.0
PRODID:-//IBK - ECPv6.15.18//NONSGML v1.0//EN
CALSCALE:GREGORIAN
METHOD:PUBLISH
X-WR-CALNAME:IBK
X-ORIGINAL-URL:https://www.ibk.be
X-WR-CALDESC:Évènements pour IBK
REFRESH-INTERVAL;VALUE=DURATION:PT1H
X-Robots-Tag:noindex
X-PUBLISHED-TTL:PT1H
BEGIN:VTIMEZONE
TZID:Europe/Brussels
BEGIN:DAYLIGHT
TZOFFSETFROM:+0100
TZOFFSETTO:+0200
TZNAME:CEST
DTSTART:20230326T010000
END:DAYLIGHT
BEGIN:STANDARD
TZOFFSETFROM:+0200
TZOFFSETTO:+0100
TZNAME:CET
DTSTART:20231029T010000
END:STANDARD
BEGIN:DAYLIGHT
TZOFFSETFROM:+0100
TZOFFSETTO:+0200
TZNAME:CEST
DTSTART:20240331T010000
END:DAYLIGHT
BEGIN:STANDARD
TZOFFSETFROM:+0200
TZOFFSETTO:+0100
TZNAME:CET
DTSTART:20241027T010000
END:STANDARD
BEGIN:DAYLIGHT
TZOFFSETFROM:+0100
TZOFFSETTO:+0200
TZNAME:CEST
DTSTART:20250330T010000
END:DAYLIGHT
BEGIN:STANDARD
TZOFFSETFROM:+0200
TZOFFSETTO:+0100
TZNAME:CET
DTSTART:20251026T010000
END:STANDARD
END:VTIMEZONE
BEGIN:VEVENT
DTSTART;TZID=Europe/Brussels:20240904T093000
DTEND;TZID=Europe/Brussels:20240904T113000
DTSTAMP:20260420T232603
CREATED:20220207T143638Z
LAST-MODIFIED:20240703T091540Z
UID:10001825-1725442200-1725449400@www.ibk.be
SUMMARY:Examen de repêche - SR 1-3
DESCRIPTION:
URL:https://www.ibk.be/evenement/examen-de-repeche-sr-1-3/
LOCATION:IBK Rixensart\, avenue Paul Nicodème\, 26\, Rixensart\, 1330\, Belgique
CATEGORIES:Pratiques de base,Pratiques supervisées Wellness Kinesiology
END:VEVENT
BEGIN:VEVENT
DTSTART;TZID=Europe/Brussels:20240907T093000
DTEND;TZID=Europe/Brussels:20240910T180000
DTSTAMP:20260420T232603
CREATED:20220110T082931Z
LAST-MODIFIED:20240124T082715Z
UID:10001743-1725701400-1725991200@www.ibk.be
SUMMARY:Core Kinesiology 4
DESCRIPTION:
URL:https://www.ibk.be/evenement/core-kinesiology-4-2/
LOCATION:IBK Rixensart\, avenue Paul Nicodème\, 26\, Rixensart\, 1330\, Belgique
CATEGORIES:Core Kinesiology 4
END:VEVENT
BEGIN:VEVENT
DTSTART;TZID=Europe/Brussels:20240910T190000
DTEND;TZID=Europe/Brussels:20240910T200000
DTSTAMP:20260420T232603
CREATED:20220411T095057Z
LAST-MODIFIED:20251125T133543Z
UID:10001600-1725994800-1725998400@www.ibk.be
SUMMARY:Intro à l'EFT - Online
DESCRIPTION:
URL:https://www.ibk.be/evenement/intro-a-left-online-2/
LOCATION:Online\, Belgique
CATEGORIES:Intro à l'EFT
END:VEVENT
BEGIN:VEVENT
DTSTART;TZID=Europe/Brussels:20240911T093000
DTEND;TZID=Europe/Brussels:20240912T173000
DTSTAMP:20260420T232603
CREATED:20220512T063209Z
LAST-MODIFIED:20251125T141926Z
UID:10001664-1726047000-1726162200@www.ibk.be
SUMMARY:S'ouvrir à l'enfant
DESCRIPTION:Matériel à apporter : crayons de couleurs
URL:https://www.ibk.be/evenement/souvrir-a-lenfant-3/
LOCATION:IBK Rixensart\, avenue Paul Nicodème\, 26\, Rixensart\, 1330\, Belgique
CATEGORIES:S'ouvrir à l'enfant
END:VEVENT
BEGIN:VEVENT
DTSTART;TZID=Europe/Brussels:20240912T193000
DTEND;TZID=Europe/Brussels:20240912T213000
DTSTAMP:20260420T232603
CREATED:20220110T080352Z
LAST-MODIFIED:20240618T084937Z
UID:10001737-1726169400-1726176600@www.ibk.be
SUMMARY:Porte Ouverte
DESCRIPTION:
URL:https://www.ibk.be/evenement/porte-ouverte-2/
LOCATION:IBK Rixensart\, avenue Paul Nicodème\, 26\, Rixensart\, 1330\, Belgique
CATEGORIES:Portes Ouvertes
END:VEVENT
BEGIN:VEVENT
DTSTART;TZID=Europe/Brussels:20240913T093000
DTEND;TZID=Europe/Brussels:20240915T180000
DTSTAMP:20260420T232603
CREATED:20210702T101826Z
LAST-MODIFIED:20251125T135626Z
UID:10001593-1726219800-1726423200@www.ibk.be
SUMMARY:SR 4a Défusion des traits de personnalité négatifs
DESCRIPTION:
URL:https://www.ibk.be/evenement/sr-4a-defusion-des-traits-de-personnalite-negatifs-2/
LOCATION:IBK Rixensart\, avenue Paul Nicodème\, 26\, Rixensart\, 1330\, Belgique
CATEGORIES:SR 4a Défusion des traits de personnalité négatifs
ATTACH;FMTTYPE=image/jpeg:https://www.ibk.be/wp-content/uploads/2025/11/SR.jpg
END:VEVENT
BEGIN:VEVENT
DTSTART;TZID=Europe/Brussels:20240916T093000
DTEND;TZID=Europe/Brussels:20240917T170000
DTSTAMP:20260420T232603
CREATED:20210827T061925Z
LAST-MODIFIED:20240912T061829Z
UID:10001726-1726479000-1726592400@www.ibk.be
SUMMARY:Séance Intégrée
DESCRIPTION:Matériel à apporter: tous vos manuels de cours – fardes de travail… en bref: tout ce que vous utilisez en séance.
URL:https://www.ibk.be/evenement/seance-integree/
LOCATION:IBK Rixensart\, avenue Paul Nicodème\, 26\, Rixensart\, 1330\, Belgique
CATEGORIES:Pratiques professionnelles
END:VEVENT
BEGIN:VEVENT
DTSTART;TZID=Europe/Brussels:20240918T093000
DTEND;TZID=Europe/Brussels:20240918T113000
DTSTAMP:20260420T232603
CREATED:20220207T143638Z
LAST-MODIFIED:20251125T123553Z
UID:10001824-1726651800-1726659000@www.ibk.be
SUMMARY:Examen de repêche - Anatomie Système musculo-squelettique
DESCRIPTION:
URL:https://www.ibk.be/evenement/examen-de-repeche-anatomie-systeme-musculo-squelettique/
LOCATION:IBK Rixensart\, avenue Paul Nicodème\, 26\, Rixensart\, 1330\, Belgique
CATEGORIES:Système Musculo-Squelettique,Sciences
ATTACH;FMTTYPE=image/jpeg:https://www.ibk.be/wp-content/uploads/2024/02/Illustration-Anatomie-SMS-2b-scaled.jpg
END:VEVENT
BEGIN:VEVENT
DTSTART;TZID=Europe/Brussels:20240919T093000
DTEND;TZID=Europe/Brussels:20240919T170000
DTSTAMP:20260420T232603
CREATED:20200530T142819Z
LAST-MODIFIED:20251120T104613Z
UID:10001402-1726738200-1726765200@www.ibk.be
SUMMARY:Analyse Transactionnelle - Approfondissement
DESCRIPTION:[vc_row][vc_column][vc_column_text]Ceci est une des 10 dates d’un même cours commençant le 19/09/2024 et se poursuivant\, en 2024\, les 24/10\, 14/11 et 12/12 et en 2025\, 09/01\, 06/02\, 20/03\, 17/04\, 15/05 et le 12/06. Merci de veiller à vous inscrire uniquement à la première date.[/vc_column_text][/vc_column][/vc_row]
URL:https://www.ibk.be/evenement/analyse-transactionnelle-approfondissement-3/2024-09-19/
LOCATION:IBK Rixensart\, avenue Paul Nicodème\, 26\, Rixensart\, 1330\, Belgique
CATEGORIES:AT - Approfondissement - deuxième et troisième années
END:VEVENT
BEGIN:VEVENT
DTSTART;TZID=Europe/Brussels:20240919T140000
DTEND;TZID=Europe/Brussels:20240919T183000
DTSTAMP:20260420T232603
CREATED:20200530T142819Z
LAST-MODIFIED:20251125T123714Z
UID:10001199-1726754400-1726770600@www.ibk.be
SUMMARY:Anatomie du Système Musculo-Squelettique
DESCRIPTION:Ceci est une des 12 dates d’un même cours commençant le 19/09/24 et se poursuivant\, en 2024\, les 26/09 – 24/10 – 21/11 – 28/11 – 05/12 et en 2025\, les 09/01 – 20/02 – 27/02 – 20/03 – 03/04 – 08/05. Merci de veiller à vous inscrire uniquement à la première date.
URL:https://www.ibk.be/evenement/anatomie-du-systeme-musculo-squelettique/2024-09-19/
LOCATION:IBK Rixensart\, avenue Paul Nicodème\, 26\, Rixensart\, 1330\, Belgique
CATEGORIES:Système Musculo-Squelettique
ATTACH;FMTTYPE=image/jpeg:https://www.ibk.be/wp-content/uploads/2024/02/Illustration-Anatomie-SMS-2b-scaled.jpg
END:VEVENT
BEGIN:VEVENT
DTSTART;TZID=Europe/Brussels:20240921T093000
DTEND;TZID=Europe/Brussels:20240922T170000
DTSTAMP:20260420T232603
CREATED:20220501T003453Z
LAST-MODIFIED:20251125T133543Z
UID:10001625-1726911000-1727024400@www.ibk.be
SUMMARY:EFT 1
DESCRIPTION:[vc_row][vc_column][vc_column_text][/vc_column_text][/vc_column][/vc_row]
URL:https://www.ibk.be/evenement/eft-1-2/
LOCATION:IBK Rixensart\, avenue Paul Nicodème\, 26\, Rixensart\, 1330\, Belgique
CATEGORIES:EFT 1
END:VEVENT
BEGIN:VEVENT
DTSTART;TZID=Europe/Brussels:20240921T093000
DTEND;TZID=Europe/Brussels:20240922T180000
DTSTAMP:20260420T232603
CREATED:20220110T083735Z
LAST-MODIFIED:20240923T063454Z
UID:10001747-1726911000-1727028000@www.ibk.be
SUMMARY:Exercices Biokinétiques
DESCRIPTION:Matériel à amener : 2 petits coussins (min. 40 x 40cm) et un tapis de yoga si possible. Prévoir des vêtements souples pour les 2 jours de formation.
URL:https://www.ibk.be/evenement/exercices-biokinetiques-2/
LOCATION:IBK Rixensart\, avenue Paul Nicodème\, 26\, Rixensart\, 1330\, Belgique
CATEGORIES:Exercices Biokinétiques
END:VEVENT
BEGIN:VEVENT
DTSTART;TZID=Europe/Brussels:20240923T093000
DTEND;TZID=Europe/Brussels:20240923T154500
DTSTAMP:20260420T232603
CREATED:20210126T062329Z
LAST-MODIFIED:20240618T091837Z
UID:10001244-1727083800-1727106300@www.ibk.be
SUMMARY:Touch for Health 1 de semaine
DESCRIPTION:[vc_row][vc_column][vc_column_text]Ceci est une des 3 dates d’un même cours commençant le 23/09/2024 et se poursuivant les 30/09/2024 et 07/10/2024. Merci de veiller à vous inscrire uniquement à la première date.[/vc_column_text][/vc_column][/vc_row]
URL:https://www.ibk.be/evenement/touch-for-health-1-de-semaine/2024-09-23/
LOCATION:IBK Rixensart\, avenue Paul Nicodème\, 26\, Rixensart\, 1330\, Belgique
CATEGORIES:Touch for Health 1
END:VEVENT
BEGIN:VEVENT
DTSTART;TZID=Europe/Brussels:20240926T140000
DTEND;TZID=Europe/Brussels:20240926T183000
DTSTAMP:20260420T232603
CREATED:20200530T142819Z
LAST-MODIFIED:20251125T123714Z
UID:10001200-1727359200-1727375400@www.ibk.be
SUMMARY:Anatomie du Système Musculo-Squelettique
DESCRIPTION:Ceci est une des 12 dates d’un même cours commençant le 19/09/24 et se poursuivant\, en 2024\, les 26/09 – 24/10 – 21/11 – 28/11 – 05/12 et en 2025\, les 09/01 – 20/02 – 27/02 – 20/03 – 03/04 – 08/05. Merci de veiller à vous inscrire uniquement à la première date.
URL:https://www.ibk.be/evenement/anatomie-du-systeme-musculo-squelettique/2024-09-26/
LOCATION:IBK Rixensart\, avenue Paul Nicodème\, 26\, Rixensart\, 1330\, Belgique
CATEGORIES:Système Musculo-Squelettique
ATTACH;FMTTYPE=image/jpeg:https://www.ibk.be/wp-content/uploads/2024/02/Illustration-Anatomie-SMS-2b-scaled.jpg
END:VEVENT
BEGIN:VEVENT
DTSTART;TZID=Europe/Brussels:20240926T183000
DTEND;TZID=Europe/Brussels:20240926T213000
DTSTAMP:20260420T232603
CREATED:20220110T084617Z
LAST-MODIFIED:20240618T090632Z
UID:10001760-1727375400-1727386200@www.ibk.be
SUMMARY:Équilibration par les couleurs
DESCRIPTION:
URL:https://www.ibk.be/evenement/equilibration-par-les-couleurs-2/
LOCATION:IBK Rixensart\, avenue Paul Nicodème\, 26\, Rixensart\, 1330\, Belgique
CATEGORIES:Équilibration par les couleurs
END:VEVENT
BEGIN:VEVENT
DTSTART;TZID=Europe/Brussels:20240927T183000
DTEND;TZID=Europe/Brussels:20240929T180000
DTSTAMP:20260420T232603
CREATED:20220110T084146Z
LAST-MODIFIED:20240618T092028Z
UID:10001753-1727461800-1727632800@www.ibk.be
SUMMARY:Touch for Health 1
DESCRIPTION:[vc_row][vc_column][vc_column_text]Horaires du week-end : Vendredi de 18h30 à 21h30 – Samedi et Dimanche de 9h30 à 18h00[/vc_column_text][/vc_column][/vc_row]
URL:https://www.ibk.be/evenement/touch-for-health-1/
LOCATION:IBK Rixensart\, avenue Paul Nicodème\, 26\, Rixensart\, 1330\, Belgique
CATEGORIES:Touch for Health 1
END:VEVENT
BEGIN:VEVENT
DTSTART;TZID=Europe/Brussels:20240930T093000
DTEND;TZID=Europe/Brussels:20240930T154500
DTSTAMP:20260420T232603
CREATED:20210126T062329Z
LAST-MODIFIED:20240618T091837Z
UID:10001245-1727688600-1727711100@www.ibk.be
SUMMARY:Touch for Health 1 de semaine
DESCRIPTION:[vc_row][vc_column][vc_column_text]Ceci est une des 3 dates d’un même cours commençant le 23/09/2024 et se poursuivant les 30/09/2024 et 07/10/2024. Merci de veiller à vous inscrire uniquement à la première date.[/vc_column_text][/vc_column][/vc_row]
URL:https://www.ibk.be/evenement/touch-for-health-1-de-semaine/2024-09-30/
LOCATION:IBK Rixensart\, avenue Paul Nicodème\, 26\, Rixensart\, 1330\, Belgique
CATEGORIES:Touch for Health 1
END:VEVENT
END:VCALENDAR