BEGIN:VCALENDAR
VERSION:2.0
PRODID:-//IBK - ECPv6.15.18//NONSGML v1.0//EN
CALSCALE:GREGORIAN
METHOD:PUBLISH
X-ORIGINAL-URL:https://www.ibk.be
X-WR-CALDESC:Évènements pour IBK
REFRESH-INTERVAL;VALUE=DURATION:PT1H
X-Robots-Tag:noindex
X-PUBLISHED-TTL:PT1H
BEGIN:VTIMEZONE
TZID:Europe/Brussels
BEGIN:DAYLIGHT
TZOFFSETFROM:+0100
TZOFFSETTO:+0200
TZNAME:CEST
DTSTART:20230326T010000
END:DAYLIGHT
BEGIN:STANDARD
TZOFFSETFROM:+0200
TZOFFSETTO:+0100
TZNAME:CET
DTSTART:20231029T010000
END:STANDARD
BEGIN:DAYLIGHT
TZOFFSETFROM:+0100
TZOFFSETTO:+0200
TZNAME:CEST
DTSTART:20240331T010000
END:DAYLIGHT
BEGIN:STANDARD
TZOFFSETFROM:+0200
TZOFFSETTO:+0100
TZNAME:CET
DTSTART:20241027T010000
END:STANDARD
BEGIN:DAYLIGHT
TZOFFSETFROM:+0100
TZOFFSETTO:+0200
TZNAME:CEST
DTSTART:20250330T010000
END:DAYLIGHT
BEGIN:STANDARD
TZOFFSETFROM:+0200
TZOFFSETTO:+0100
TZNAME:CET
DTSTART:20251026T010000
END:STANDARD
END:VTIMEZONE
BEGIN:VEVENT
DTSTART;TZID=Europe/Brussels:20240703T083000
DTEND;TZID=Europe/Brussels:20240703T103000
DTSTAMP:20260420T175701
CREATED:20221007T084516Z
LAST-MODIFIED:20251120T104413Z
UID:10001939-1719995400-1720002600@www.ibk.be
SUMMARY:Intention Tapping Niveau 2 – Online avec Steve Wells
DESCRIPTION:[vc_row][vc_column][vc_column_text]La prochaine formation de 16h en français aura lieu en 2024 les 10 Avril\, 17 Avril\, 24 Avril\, 15 Mai\, 22 Mai\, 5 Juin\, 12 Juin\, 26 Juin\, 3 Juillet\, à partir de 8h30 (heure de Bruxelles). \nPour toute information et inscription merci de suivre ce lien : https://intentiontapping.com/french-iep-level-2/[/vc_column_text][/vc_column][/vc_row][vc_row][vc_column][vc_column_text][/vc_column_text][/vc_column][/vc_row]
URL:https://www.ibk.be/evenement/intention-tapping-niveau-2-online-avec-steve-wells/2024-07-03/
LOCATION:Online\, Belgique
CATEGORIES:Intention Tapping Niveau 2 - Online avec Steve Wells
END:VEVENT
BEGIN:VEVENT
DTSTART;TZID=Europe/Brussels:20240704T093000
DTEND;TZID=Europe/Brussels:20240704T170000
DTSTAMP:20260420T175701
CREATED:20210824T081216Z
LAST-MODIFIED:20230718T101604Z
UID:10001399-1720085400-1720112400@www.ibk.be
SUMMARY:Examen de CK 1-3
DESCRIPTION:[vc_row][vc_column][vc_column_text][/vc_column_text][/vc_column][/vc_row]
URL:https://www.ibk.be/evenement/examen-de-ck-1-3-2/
LOCATION:IBK Rixensart\, avenue Paul Nicodème\, 26\, Rixensart\, 1330\, Belgique
CATEGORIES:Pratiques de base,Pratiques supervisées Core Kinesiology
END:VEVENT
BEGIN:VEVENT
DTSTART;TZID=Europe/Brussels:20240705T183000
DTEND;TZID=Europe/Brussels:20240707T180000
DTSTAMP:20260420T175701
CREATED:20220110T092416Z
LAST-MODIFIED:20240605T075733Z
UID:10001522-1720204200-1720375200@www.ibk.be
SUMMARY:Touch for Health 2
DESCRIPTION:[vc_row][vc_column][vc_column_text]Horaires du week-end : Vendredi de 18h30 à 21h30 – Samedi et Dimanche de 9h30 à 18h00[/vc_column_text][/vc_column][/vc_row]
URL:https://www.ibk.be/evenement/touch-for-health-2-9/
LOCATION:IBK Rixensart\, avenue Paul Nicodème\, 26\, Rixensart\, 1330\, Belgique
CATEGORIES:Touch for Health 2
END:VEVENT
BEGIN:VEVENT
DTSTART;TZID=Europe/Brussels:20240708T093000
DTEND;TZID=Europe/Brussels:20240709T180000
DTSTAMP:20260420T175701
CREATED:20220110T100344Z
LAST-MODIFIED:20251120T104509Z
UID:10001784-1720431000-1720548000@www.ibk.be
SUMMARY:Stress Release 2
DESCRIPTION:[vc_row][vc_column][vc_column_text][/vc_column_text][/vc_column][/vc_row]
URL:https://www.ibk.be/evenement/stress-release-2-9/
LOCATION:IBK Rixensart\, avenue Paul Nicodème\, 26\, Rixensart\, 1330\, Belgique
CATEGORIES:Stress Release 2
END:VEVENT
BEGIN:VEVENT
DTSTART;TZID=Europe/Brussels:20240710T093000
DTEND;TZID=Europe/Brussels:20240711T170000
DTSTAMP:20260420T175701
CREATED:20220501T003453Z
LAST-MODIFIED:20251125T133543Z
UID:10001624-1720603800-1720717200@www.ibk.be
SUMMARY:EFT 1
DESCRIPTION:[vc_row][vc_column][vc_column_text][/vc_column_text][/vc_column][/vc_row]
URL:https://www.ibk.be/evenement/eft-1-10/
LOCATION:IBK Rixensart\, avenue Paul Nicodème\, 26\, Rixensart\, 1330\, Belgique
CATEGORIES:EFT 1
END:VEVENT
BEGIN:VEVENT
DTSTART;TZID=Europe/Brussels:20240712T183000
DTEND;TZID=Europe/Brussels:20240714T180000
DTSTAMP:20260420T175702
CREATED:20220110T104012Z
LAST-MODIFIED:20251120T104508Z
UID:10001819-1720809000-1720980000@www.ibk.be
SUMMARY:Stress Release 3
DESCRIPTION:[vc_row][vc_column][vc_column_text]Horaires du week-end : Vendredi de 18h30 à 21h30 – Samedi et Dimanche de 9h30 à 18h00[/vc_column_text][/vc_column][/vc_row]
URL:https://www.ibk.be/evenement/stress-release-3-2/
LOCATION:IBK Rixensart\, avenue Paul Nicodème\, 26\, Rixensart\, 1330\, Belgique
CATEGORIES:Stress Release 3
END:VEVENT
BEGIN:VEVENT
DTSTART;TZID=Europe/Brussels:20240713T090000
DTEND;TZID=Europe/Brussels:20240714T183000
DTSTAMP:20260420T175702
CREATED:20220110T094618Z
LAST-MODIFIED:20251120T104036Z
UID:10001777-1720861200-1720981800@www.ibk.be
SUMMARY:Corps Énergie 1
DESCRIPTION:[vc_row][vc_column][vc_column_text]Horaires : Samedi et Dimanche de 9h00 à 18h30[/vc_column_text][/vc_column][/vc_row][vc_row][vc_column][vc_column_text] \n\n[/vc_column_text][/vc_column][/vc_row]
URL:https://www.ibk.be/evenement/corps-energie-1-8/
LOCATION:IBK Rixensart\, avenue Paul Nicodème\, 26\, Rixensart\, 1330\, Belgique
CATEGORIES:Corps Énergie 1
END:VEVENT
BEGIN:VEVENT
DTSTART;TZID=Europe/Brussels:20240715T093000
DTEND;TZID=Europe/Brussels:20240716T180000
DTSTAMP:20260420T175702
CREATED:20220110T091855Z
LAST-MODIFIED:20230720T080849Z
UID:10001767-1721035800-1721152800@www.ibk.be
SUMMARY:Core Kinesiology 1
DESCRIPTION:[vc_row][vc_column][vc_column_text][/vc_column_text][/vc_column][/vc_row]
URL:https://www.ibk.be/evenement/core-kinesiology-1-6/
LOCATION:IBK Rixensart\, avenue Paul Nicodème\, 26\, Rixensart\, 1330\, Belgique
CATEGORIES:Core Kinesiology 1
END:VEVENT
BEGIN:VEVENT
DTSTART;TZID=Europe/Brussels:20240717T093000
DTEND;TZID=Europe/Brussels:20240718T180000
DTSTAMP:20260420T175702
CREATED:20220501T003020Z
LAST-MODIFIED:20251125T132611Z
UID:10001859-1721208600-1721325600@www.ibk.be
SUMMARY:TFH Métaphores
DESCRIPTION:[vc_row][vc_column][vc_column_text][/vc_column_text][/vc_column][/vc_row]
URL:https://www.ibk.be/evenement/tfh-metaphores-6/
LOCATION:IBK Rixensart\, avenue Paul Nicodème\, 26\, Rixensart\, 1330\, Belgique
CATEGORIES:TFH Métaphores et Etablissement de l'Objectif
END:VEVENT
END:VCALENDAR