BEGIN:VCALENDAR
VERSION:2.0
PRODID:-//IBK - ECPv6.15.18//NONSGML v1.0//EN
CALSCALE:GREGORIAN
METHOD:PUBLISH
X-ORIGINAL-URL:https://www.ibk.be
X-WR-CALDESC:Évènements pour IBK
REFRESH-INTERVAL;VALUE=DURATION:PT1H
X-Robots-Tag:noindex
X-PUBLISHED-TTL:PT1H
BEGIN:VTIMEZONE
TZID:Europe/Brussels
BEGIN:DAYLIGHT
TZOFFSETFROM:+0100
TZOFFSETTO:+0200
TZNAME:CEST
DTSTART:20230326T010000
END:DAYLIGHT
BEGIN:STANDARD
TZOFFSETFROM:+0200
TZOFFSETTO:+0100
TZNAME:CET
DTSTART:20231029T010000
END:STANDARD
BEGIN:DAYLIGHT
TZOFFSETFROM:+0100
TZOFFSETTO:+0200
TZNAME:CEST
DTSTART:20240331T010000
END:DAYLIGHT
BEGIN:STANDARD
TZOFFSETFROM:+0200
TZOFFSETTO:+0100
TZNAME:CET
DTSTART:20241027T010000
END:STANDARD
BEGIN:DAYLIGHT
TZOFFSETFROM:+0100
TZOFFSETTO:+0200
TZNAME:CEST
DTSTART:20250330T010000
END:DAYLIGHT
BEGIN:STANDARD
TZOFFSETFROM:+0200
TZOFFSETTO:+0100
TZNAME:CET
DTSTART:20251026T010000
END:STANDARD
END:VTIMEZONE
BEGIN:VEVENT
DTSTART;TZID=Europe/Brussels:20240514T093000
DTEND;TZID=Europe/Brussels:20240514T154500
DTSTAMP:20260420T160550
CREATED:20210202T030546Z
LAST-MODIFIED:20230720T075152Z
UID:10001289-1715679000-1715701500@www.ibk.be
SUMMARY:Touch for Health 4 de semaine
DESCRIPTION:[vc_row][vc_column][vc_column_text]Ceci est une des 3 dates d’un même cours commençant le 14/05/2024 et se poursuivant les 21/05/2024 et 28/05/2024. Merci de veiller à vous inscrire uniquement à la première date.[/vc_column_text][/vc_column][/vc_row]
URL:https://www.ibk.be/evenement/touch-for-health-4-de-semaine-5/2024-05-14/
LOCATION:IBK Rixensart\, avenue Paul Nicodème\, 26\, Rixensart\, 1330\, Belgique
CATEGORIES:Touch for Health 4
END:VEVENT
BEGIN:VEVENT
DTSTART;TZID=Europe/Brussels:20240515T083000
DTEND;TZID=Europe/Brussels:20240515T103000
DTSTAMP:20260420T160550
CREATED:20221007T084516Z
LAST-MODIFIED:20251120T104413Z
UID:10001934-1715761800-1715769000@www.ibk.be
SUMMARY:Intention Tapping Niveau 2 – Online avec Steve Wells
DESCRIPTION:[vc_row][vc_column][vc_column_text]La prochaine formation de 16h en français aura lieu en 2024 les 10 Avril\, 17 Avril\, 24 Avril\, 15 Mai\, 22 Mai\, 5 Juin\, 12 Juin\, 26 Juin\, 3 Juillet\, à partir de 8h30 (heure de Bruxelles). \nPour toute information et inscription merci de suivre ce lien : https://intentiontapping.com/french-iep-level-2/[/vc_column_text][/vc_column][/vc_row][vc_row][vc_column][vc_column_text][/vc_column_text][/vc_column][/vc_row]
URL:https://www.ibk.be/evenement/intention-tapping-niveau-2-online-avec-steve-wells/2024-05-15/
LOCATION:Online\, Belgique
CATEGORIES:Intention Tapping Niveau 2 - Online avec Steve Wells
END:VEVENT
BEGIN:VEVENT
DTSTART;TZID=Europe/Brussels:20240515T093000
DTEND;TZID=Europe/Brussels:20240515T170000
DTSTAMP:20260420T160550
CREATED:20220719T104318Z
LAST-MODIFIED:20240515T110231Z
UID:10001920-1715765400-1715792400@www.ibk.be
SUMMARY:Gestion de sa pratique professionnelle
DESCRIPTION:
URL:https://www.ibk.be/evenement/gestion-de-sa-pratique-professionnelle-2/
LOCATION:IBK Rixensart\, avenue Paul Nicodème\, 26\, Rixensart\, 1330\, Belgique
CATEGORIES:Pratiques professionnelles
END:VEVENT
BEGIN:VEVENT
DTSTART;TZID=Europe/Brussels:20240516T093000
DTEND;TZID=Europe/Brussels:20240516T170000
DTSTAMP:20260420T160550
CREATED:20200530T142819Z
LAST-MODIFIED:20251120T104613Z
UID:10001370-1715851800-1715878800@www.ibk.be
SUMMARY:Analyse Transactionnelle - Base
DESCRIPTION:[vc_row][vc_column][vc_column_text]Ceci est une des 10 dates d’un même cours commençant le 14 décembre 2023 et se poursuivant en 2024\, les 11/01\, 18/01\, 08/02\, 14/03\, 28/03\, 04/04\, 18/04\, 16/05 et 06/06. Merci de veiller à vous inscrire uniquement à la première date.[/vc_column_text][/vc_column][/vc_row]
URL:https://www.ibk.be/evenement/analyse-transactionnelle-base/2024-05-16/
LOCATION:IBK Rixensart\, avenue Paul Nicodème\, 26\, Rixensart\, 1330\, Belgique
CATEGORIES:AT - Base - première année
END:VEVENT
BEGIN:VEVENT
DTSTART;TZID=Europe/Brussels:20240516T180000
DTEND;TZID=Europe/Brussels:20240516T213000
DTSTAMP:20260420T160550
CREATED:20210812T051231Z
LAST-MODIFIED:20230720T074046Z
UID:10001376-1715882400-1715895000@www.ibk.be
SUMMARY:Énergie Tibétaine
DESCRIPTION:
URL:https://www.ibk.be/evenement/energie-tibetaine-6/
LOCATION:IBK Rixensart\, avenue Paul Nicodème\, 26\, Rixensart\, 1330\, Belgique
CATEGORIES:Energie et Vitalité Tibétaines
END:VEVENT
BEGIN:VEVENT
DTSTART;TZID=Europe/Brussels:20240516T180000
DTEND;TZID=Europe/Brussels:20240516T213000
DTSTAMP:20260420T160550
CREATED:20210812T051231Z
LAST-MODIFIED:20260316T095836Z
UID:10002533-1715882400-1715895000@www.ibk.be
SUMMARY:Énergie Tibétaine
DESCRIPTION:
URL:https://www.ibk.be/evenement/energie-tibetaine-5/
LOCATION:IBK Rixensart\, avenue Paul Nicodème\, 26\, Rixensart\, 1330\, Belgique
CATEGORIES:Energie et Vitalité Tibétaines
END:VEVENT
BEGIN:VEVENT
DTSTART;TZID=Europe/Brussels:20240518T093000
DTEND;TZID=Europe/Brussels:20240520T180000
DTSTAMP:20260420T160550
CREATED:20220110T100550Z
LAST-MODIFIED:20251125T133542Z
UID:10001791-1716024600-1716228000@www.ibk.be
SUMMARY:EFT 2
DESCRIPTION:
URL:https://www.ibk.be/evenement/eft-2-5/
LOCATION:IBK Rixensart\, avenue Paul Nicodème\, 26\, Rixensart\, 1330\, Belgique
CATEGORIES:EFT 2
END:VEVENT
BEGIN:VEVENT
DTSTART;TZID=Europe/Brussels:20240521T093000
DTEND;TZID=Europe/Brussels:20240521T154500
DTSTAMP:20260420T160550
CREATED:20210202T030546Z
LAST-MODIFIED:20230720T075152Z
UID:10001290-1716283800-1716306300@www.ibk.be
SUMMARY:Touch for Health 4 de semaine
DESCRIPTION:[vc_row][vc_column][vc_column_text]Ceci est une des 3 dates d’un même cours commençant le 14/05/2024 et se poursuivant les 21/05/2024 et 28/05/2024. Merci de veiller à vous inscrire uniquement à la première date.[/vc_column_text][/vc_column][/vc_row]
URL:https://www.ibk.be/evenement/touch-for-health-4-de-semaine-5/2024-05-21/
LOCATION:IBK Rixensart\, avenue Paul Nicodème\, 26\, Rixensart\, 1330\, Belgique
CATEGORIES:Touch for Health 4
END:VEVENT
BEGIN:VEVENT
DTSTART;TZID=Europe/Brussels:20240522T083000
DTEND;TZID=Europe/Brussels:20240522T103000
DTSTAMP:20260420T160550
CREATED:20221007T084516Z
LAST-MODIFIED:20251120T104413Z
UID:10001935-1716366600-1716373800@www.ibk.be
SUMMARY:Intention Tapping Niveau 2 – Online avec Steve Wells
DESCRIPTION:[vc_row][vc_column][vc_column_text]La prochaine formation de 16h en français aura lieu en 2024 les 10 Avril\, 17 Avril\, 24 Avril\, 15 Mai\, 22 Mai\, 5 Juin\, 12 Juin\, 26 Juin\, 3 Juillet\, à partir de 8h30 (heure de Bruxelles). \nPour toute information et inscription merci de suivre ce lien : https://intentiontapping.com/french-iep-level-2/[/vc_column_text][/vc_column][/vc_row][vc_row][vc_column][vc_column_text][/vc_column_text][/vc_column][/vc_row]
URL:https://www.ibk.be/evenement/intention-tapping-niveau-2-online-avec-steve-wells/2024-05-22/
LOCATION:Online\, Belgique
CATEGORIES:Intention Tapping Niveau 2 - Online avec Steve Wells
END:VEVENT
BEGIN:VEVENT
DTSTART;TZID=Europe/Brussels:20240523T093000
DTEND;TZID=Europe/Brussels:20240526T180000
DTSTAMP:20260420T160550
CREATED:20220110T101615Z
LAST-MODIFIED:20251120T104035Z
UID:10001554-1716456600-1716746400@www.ibk.be
SUMMARY:Corps Énergie 2
DESCRIPTION:[vc_row][vc_column][vc_column_text][/vc_column_text][/vc_column][/vc_row]
URL:https://www.ibk.be/evenement/corps-energie-2-6/
LOCATION:IBK Rixensart\, avenue Paul Nicodème\, 26\, Rixensart\, 1330\, Belgique
CATEGORIES:Corps Énergie 2
END:VEVENT
BEGIN:VEVENT
DTSTART;TZID=Europe/Brussels:20240525T093000
DTEND;TZID=Europe/Brussels:20240526T183000
DTSTAMP:20260420T160550
CREATED:20220110T103319Z
LAST-MODIFIED:20251120T104005Z
UID:10001808-1716629400-1716748200@www.ibk.be
SUMMARY:Touch for Health 4
DESCRIPTION:[vc_row][vc_column][vc_column_text] \n\n\n\n\n\n\n\n\n\nHoraires du week-end : Samedi et Dimanche de 9h30 à 18h30 \n\n\n\n\n\n\n\n\n\n[/vc_column_text][/vc_column][/vc_row]
URL:https://www.ibk.be/evenement/touch-for-health-4-7/
LOCATION:IBK Rixensart\, avenue Paul Nicodème\, 26\, Rixensart\, 1330\, Belgique
CATEGORIES:Touch for Health 4
END:VEVENT
BEGIN:VEVENT
DTSTART;TZID=Europe/Brussels:20240530T093000
DTEND;TZID=Europe/Brussels:20240530T170000
DTSTAMP:20260420T160550
CREATED:20200530T142819Z
LAST-MODIFIED:20251120T104613Z
UID:10001359-1717061400-1717088400@www.ibk.be
SUMMARY:Analyse Transactionnelle - Approfondissement
DESCRIPTION:[vc_row][vc_column][vc_column_text]Ceci est une des 11 dates d’un même cours commençant le 14/09/2023 et se poursuivant\, en 2023\, les 05/10\, 26/10\, 16/11 et 07/12 et en 2024\, 09/01\, 01/02\, 15/02\, 11/04\, 30/05 et le 11/06. Merci de veiller à vous inscrire uniquement à la première date.[/vc_column_text][/vc_column][/vc_row]
URL:https://www.ibk.be/evenement/analyse-transactionnelle-approfondissement-2/2024-05-30/
LOCATION:IBK Rixensart\, avenue Paul Nicodème\, 26\, Rixensart\, 1330\, Belgique
CATEGORIES:AT - Approfondissement - deuxième et troisième années
END:VEVENT
BEGIN:VEVENT
DTSTART;TZID=Europe/Brussels:20240531T093000
DTEND;TZID=Europe/Brussels:20240531T170000
DTSTAMP:20260420T160550
CREATED:20210824T070055Z
LAST-MODIFIED:20251125T140252Z
UID:10001382-1717147800-1717174800@www.ibk.be
SUMMARY:Pratique supervisée TFH 1-4 et préparation à l'examen
DESCRIPTION:
URL:https://www.ibk.be/evenement/pratique-supervisee-tfh-1-4-et-preparation-a-lexamen-6/
LOCATION:IBK Rixensart\, avenue Paul Nicodème\, 26\, Rixensart\, 1330\, Belgique
CATEGORIES:Pratiques de base,Pratiques supervisées TFH
END:VEVENT
BEGIN:VEVENT
DTSTART;TZID=Europe/Brussels:20240531T183000
DTEND;TZID=Europe/Brussels:20240602T180000
DTSTAMP:20260420T160550
CREATED:20220110T104012Z
LAST-MODIFIED:20251120T104508Z
UID:10001818-1717180200-1717351200@www.ibk.be
SUMMARY:Stress Release 3
DESCRIPTION:[vc_row][vc_column][vc_column_text]Horaires du week-end : Vendredi de 18h30 à 21h30 – Samedi et Dimanche de 9h30 à 18h00[/vc_column_text][/vc_column][/vc_row]
URL:https://www.ibk.be/evenement/stress-release-3-7/
LOCATION:IBK Rixensart\, avenue Paul Nicodème\, 26\, Rixensart\, 1330\, Belgique
CATEGORIES:Stress Release 3
END:VEVENT
END:VCALENDAR